From mboxrd@z Thu Jan 1 00:00:00 1970 Return-Path: Received: from mails.dpdk.org (mails.dpdk.org [217.70.189.124]) by inbox.dpdk.org (Postfix) with ESMTP id 5690346F64 for ; Wed, 24 Sep 2025 06:53:31 +0200 (CEST) Received: from mails.dpdk.org (localhost [127.0.0.1]) by mails.dpdk.org (Postfix) with ESMTP id 4E6AE4027C; Wed, 24 Sep 2025 06:53:31 +0200 (CEST) Received: from mail-ua1-f99.google.com (mail-ua1-f99.google.com [209.85.222.99]) by mails.dpdk.org (Postfix) with ESMTP id BED874027C for ; Wed, 24 Sep 2025 06:53:29 +0200 (CEST) Received: by mail-ua1-f99.google.com with SMTP id a1e0cc1a2514c-8e3239afdf2so4098583241.1 for ; Tue, 23 Sep 2025 21:53:29 -0700 (PDT) DKIM-Signature: v=1; a=rsa-sha256; c=relaxed/relaxed; d=iol.unh.edu; s=unh-iol; t=1758689609; x=1759294409; darn=dpdk.org; h=cc:to:from:subject:message-id:date:from:to:cc:subject:date :message-id:reply-to; bh=jCTMskTplHTpEVVj62tmwtbQZ9BoJm9FzWlKl0Vf0t8=; b=O16AKuy/UYuph9spNfXvPbjOt9OdkInOIwRUcwLIOWsTppURz4mwDUiaxFpT8Hoeh4 D4seVNaWmMNsptQG40WfIcW8/BcPwa3jn1Ha0X+4Vv5vbjzDDa2B7ysl7JLMtZ0/r7gD aLopPdJLPWrsPThXL4ZFYtERLctKlQuFHZnF0= X-Google-DKIM-Signature: v=1; a=rsa-sha256; c=relaxed/relaxed; d=1e100.net; s=20230601; t=1758689609; x=1759294409; h=cc:to:from:subject:message-id:date:x-gm-message-state:from:to:cc :subject:date:message-id:reply-to; bh=jCTMskTplHTpEVVj62tmwtbQZ9BoJm9FzWlKl0Vf0t8=; b=nbrUysVbODcX4BoGES4kmc4hfdzgPzG7v/I9/CPYuQN9U9HQtwngcGNRIWg5jVcZuJ 1B0SHTIwM0w4Njb++h+LLFMHMrrWbspvChRoZvg/ONz6dHyOj6VlVPZBTeRLnhDSouh/ AQ7g0zzInJhInCWIivRVMRfEHgfxC++rqkhQUqNKFuKOb3lolhvRPwu4n+63bKrSXTE8 An4cMW7VjNUQphPbmvmKPry30HMZYrVO01IqmIIvasK4RjQtRHX0S6ZK0IchKXgPlBFx WqzRLjzdas7vIUEnmhV0xtbLAL24YQv+E+y0k9+V6X8wRGUaE3N3BdiCsSen19Eq/0+p Y7yA== X-Gm-Message-State: AOJu0YwTWBFmkX0DNaQG/WgLujqBXXnfNTX5LGAIYIrflGD/oPBzvzhl 7/KwDpz9FbW5pTn1vAkgMdpa43yiqXZYKVazX6mZYk9g+wuil3oQNq74rd5Vj6/jbsL2+ViuRnX vpmw5ZFS0JAdgDjAsP2CddZp0Z2y6Vu9DrYVudsrQr7Lk X-Gm-Gg: ASbGncsjvk2Q2gC5u9RJldBwlMa1lpQHZsKwHr+1U+sV2OyS4MjE1pKy12a0FHZ8qGl PtCDPzcMeMvGF6Nodoq55sqd7efnoOMvEdx5NOJaqC9v//o52h52eNPbWKXs1HP2qUVMWp5k4Dg lZAZY265d4zpMrj6vUJYYLLfqmVxencQ27hXt4A/gd4PrLDwEtb+KOuBTwglGpepgz1yTTmS+ji FQ8GrDSIa24WKmWcwrStk3sarevrSvmmAMvjH3CqNJQHw5VcT5sqqVEv6Oyscr7Aiq+k1gXBURA /GysBE/Xz0N3rsRhEi4sS58CyDIxfuBJFnYXNVnimWlWIPS/c+2oTMNXCeq4G5hXixONLNzR X-Google-Smtp-Source: AGHT+IEMqeGc7dMymIGVuSQ2v0rUxPiPdjIouGs7jBO0FLhgCx6K6aIK2jXAkDiDRYzktYv3UEi5YmnVnWmd X-Received: by 2002:a05:6102:4a96:b0:522:48fb:9478 with SMTP id ada2fe7eead31-5a578d979e1mr2091606137.28.1758689609060; Tue, 23 Sep 2025 21:53:29 -0700 (PDT) Received: from postal.iol.unh.edu (postal.iol.unh.edu. [132.177.123.84]) by smtp-relay.gmail.com with ESMTPS id ada2fe7eead31-57a026765fesm1215726137.4.2025.09.23.21.53.28 (version=TLS1_2 cipher=ECDHE-ECDSA-AES128-GCM-SHA256 bits=128/128); Tue, 23 Sep 2025 21:53:29 -0700 (PDT) X-Relaying-Domain: iol.unh.edu Date: Tue, 23 Sep 2025 21:53:29 -0700 (PDT) Message-ID: <68d37949.050a0220.fdfba.efd1SMTPIN_ADDED_MISSING@mx.google.com> Received: from [172.21.0.3] (unknown [172.18.0.240]) by postal.iol.unh.edu (Postfix) with ESMTP id 8063B6051830; Wed, 24 Sep 2025 00:53:28 -0400 (EDT) Subject: |SUCCESS| [GIT MASTER] 0e03ab647d07cd985a7cac36cefff5195cc3a07d From: dpdklab@iol.unh.edu To: Test Report Cc: dpdk-test-reports@iol.unh.edu Content-Type: text/plain X-BeenThere: test-report@dpdk.org X-Mailman-Version: 2.1.29 Precedence: list List-Id: automatic DPDK test reports List-Unsubscribe: , List-Archive: List-Post: List-Help: List-Subscribe: , Errors-To: test-report-bounces@dpdk.org _Testing PASS_ Branch: dpdk 0e03ab647d07cd985a7cac36cefff5195cc3a07d --> testing pass Upstream job id: Generic-Unit-Test-DPDK#374179 Test environment and result as below: +------------------------------+----------------+--------------+---------------------------+------------------------------+ | Environment | dpdk_unit_test | lpm_autotest | cryptodev_sw_zuc_autotest | cryptodev_sw_snow3g_autotest | +==============================+================+==============+===========================+==============================+ | Fedora Linux 40 | PASS | SKIPPED | SKIPPED | SKIPPED | +------------------------------+----------------+--------------+---------------------------+------------------------------+ | Debian GNU/Linux 12 | PASS | SKIPPED | SKIPPED | SKIPPED | +------------------------------+----------------+--------------+---------------------------+------------------------------+ | Ubuntu 20.04 | PASS | PASS | SKIPPED | SKIPPED | +------------------------------+----------------+--------------+---------------------------+------------------------------+ | Fedora Linux 41 | PASS | SKIPPED | SKIPPED | SKIPPED | +------------------------------+----------------+--------------+---------------------------+------------------------------+ | Ubuntu 24.04 | PASS | SKIPPED | SKIPPED | SKIPPED | +------------------------------+----------------+--------------+---------------------------+------------------------------+ | Fedora Linux 42 | PASS | SKIPPED | SKIPPED | SKIPPED | +------------------------------+----------------+--------------+---------------------------+------------------------------+ | Ubuntu 22.04 | PASS | SKIPPED | SKIPPED | SKIPPED | +------------------------------+----------------+--------------+---------------------------+------------------------------+ | Red Hat Enterprise Linux 9.5 | PASS | SKIPPED | SKIPPED | SKIPPED | +------------------------------+----------------+--------------+---------------------------+------------------------------+ | CentOS Stream 9 | PASS | SKIPPED | SKIPPED | SKIPPED | +------------------------------+----------------+--------------+---------------------------+------------------------------+ | CentOS Stream 10 | PASS | SKIPPED | SKIPPED | SKIPPED | +------------------------------+----------------+--------------+---------------------------+------------------------------+ | Debian 12 (arm) | SKIPPED | SKIPPED | PASS | PASS | +------------------------------+----------------+--------------+---------------------------+------------------------------+ Fedora Linux 40 Kernel: 5.4 Compiler: gcc gcc (GCC) 14.2.1 20240912 (Red Hat 14.2.1-3) Debian GNU/Linux 12 Kernel: 5.4 Compiler: gcc gcc (Debian 12.2.0-14+deb12u1) 12.2.0 Ubuntu 20.04 Kernel: 5.4 Compiler: gcc gcc (Ubuntu 9.4.0-1ubuntu1~20.04.2) 9.4.0 Fedora Linux 41 Kernel: 5.4 Compiler: gcc gcc (GCC) 14.3.1 20250523 (Red Hat 14.3.1-1) Ubuntu 24.04 Kernel: 5.4 Compiler: gcc gcc (Ubuntu 13.3.0-6ubuntu2~24.04) 13.3.0 Fedora Linux 42 Kernel: 5.4 Compiler: gcc gcc (GCC) 15.2.1 20250808 (Red Hat 15.2.1-1) Ubuntu 22.04 Kernel: 5.15 Compiler: gcc gcc (Ubuntu 11.4.0-1ubuntu1~22.04.2) 11.4.0 Red Hat Enterprise Linux 9.5 Kernel: 5.4 Compiler: gcc gcc (GCC) 11.5.0 20240719 (Red Hat 11.5.0-2) CentOS Stream 9 Kernel: 5.4 Compiler: gcc gcc (GCC) 11.5.0 20240719 (Red Hat 11.5.0-11) CentOS Stream 10 Kernel: 5.4 Compiler: gcc gcc (GCC) 14.2.1 20250110 (Red Hat 14.2.1-8) Debian 12 (arm) Kernel: Depends on container host Compiler: gcc (Debian 12.2.0-14) 12.2.0 To view detailed results, visit: https://lab.dpdk.org/results/dashboard/tarballs/34974/ UNH-IOL DPDK Community Lab To manage your email subscriptions, visit: https://lab.dpdk.org/results/dashboard/preferences/subscriptions/