From mboxrd@z Thu Jan 1 00:00:00 1970 Return-Path: Received: from mails.dpdk.org (mails.dpdk.org [217.70.189.124]) by inbox.dpdk.org (Postfix) with ESMTP id 09A7746F64 for ; Wed, 24 Sep 2025 07:11:38 +0200 (CEST) Received: from mails.dpdk.org (localhost [127.0.0.1]) by mails.dpdk.org (Postfix) with ESMTP id F1BAA4027C; Wed, 24 Sep 2025 07:11:37 +0200 (CEST) Received: from mail-qk1-f226.google.com (mail-qk1-f226.google.com [209.85.222.226]) by mails.dpdk.org (Postfix) with ESMTP id A54004027C for ; Wed, 24 Sep 2025 07:11:36 +0200 (CEST) Received: by mail-qk1-f226.google.com with SMTP id af79cd13be357-856701dc22aso48542385a.3 for ; Tue, 23 Sep 2025 22:11:36 -0700 (PDT) DKIM-Signature: v=1; a=rsa-sha256; c=relaxed/relaxed; d=iol.unh.edu; s=unh-iol; t=1758690696; x=1759295496; darn=dpdk.org; h=cc:to:from:subject:message-id:date:from:to:cc:subject:date :message-id:reply-to; bh=pwI2JbwWSrqSDOZXpLG5JpTlBdp7U4w/DbWhaPzOdA8=; b=KBAa89SSQ1oTY1VTu7G+HSiMwRg6qpQRAlKjYXVVzWTgyN2DEIqjp+Q46Km/3buHsF ELy9yAHN4b5CkOCp6dgXP4541C5CWqIM0TfCbOefIlH+Bh7P7RU5W338dRunC440s6MA RD9blsUygvvz1ydBmw2K0AtMCkjQrmtNL42Wc= X-Google-DKIM-Signature: v=1; a=rsa-sha256; c=relaxed/relaxed; d=1e100.net; s=20230601; t=1758690696; x=1759295496; h=cc:to:from:subject:message-id:date:x-gm-message-state:from:to:cc :subject:date:message-id:reply-to; bh=pwI2JbwWSrqSDOZXpLG5JpTlBdp7U4w/DbWhaPzOdA8=; b=Q3VtFUnDqHqXbc7apvfYCpdZc9p5kKCP/vmGViRtn1rj6VdzM3WNuCktU7oPICigWj ejjyWBlPQJxLH0oAyomfh87+5QO0jmfY88jU/fRbBWUZTovvfykc1liZPf4Ki/cLbBFM mnJ5yS1OgI/Trxtx/BscHub8DGPmvFRAHXFoBtt9Z4UDhbUgJdGXTHwE2pP/2vpWLOc1 2Po5HABpjE9qRV8BAqRAzNIXH92WeIz1ck68jgM+4vXbekQNlQMJUTFGEnsU97MhjulY +1mp2z6jVK9TlfqpTslRMmHnOVMBAoEbTAxSBe6eDPk8PEaj0AZoKL4/kqGwDrLQOvB0 Brrw== X-Gm-Message-State: AOJu0YzRMqX5ajn4sxDhJ+bvlVl+qIOecsE+eFwAeJ2S2htSXzbN2XPf tgVO0VA3jl+nAbVvZ9P51uO1trBsQeQpq6so03omGANyI0UTznOQETZu9kjwU5W8SmXSegs/nJH vtCPvDMJPF6lHft18puIpX0KfTlEDpRpexG/p X-Gm-Gg: ASbGnctv8DNh4vK5XfsFBtrr2JsU6Uy29U8MpCDhY4NIHVgjBJ5qqqfuOq23BGaOmmj y0/YbjTogBKHkNP5qUgCoZTmskD/G/dt3OfEg+3lJcTp27t2aSti7+0LA38SBQfi3mVwyRbLXk/ fdpLvTwDxfJl9XR7FWnxa7UgsOWbSrSiK2GfIAQOmmIgB1BJv+lPnsfKHxLHfKSbbX8vtz5vqag G1XjVPWskEVzigrmU4BY7vmbpssdY0XMYARNIzr5IRluHIt9R0UbG4XwKIZgdZynJypAbaXIPNI G1Br+i4pHUn6jHZ9+uRFn7Qj4gLmoLd8GRV6NvwzxpQ3mD9ZI2iTnRzaoUs296OzEYSNzJ5M X-Google-Smtp-Source: AGHT+IHoGgCfQK0RR4NCG5BCmdvb60Fk9tpZmPe+CRxyYSONG9ykM//sGS84GhPnN0IKCrZNa06N8TO6l7HF X-Received: by 2002:ad4:5bc2:0:b0:7d2:fe28:11bb with SMTP id 6a1803df08f44-7e6ff32e7c9mr52877916d6.8.1758690695996; Tue, 23 Sep 2025 22:11:35 -0700 (PDT) Received: from postal.iol.unh.edu (postal.iol.unh.edu. [132.177.123.84]) by smtp-relay.gmail.com with ESMTPS id 6a1803df08f44-7e5bcfab34asm2475616d6.25.2025.09.23.22.11.35 (version=TLS1_2 cipher=ECDHE-ECDSA-AES128-GCM-SHA256 bits=128/128); Tue, 23 Sep 2025 22:11:35 -0700 (PDT) X-Relaying-Domain: iol.unh.edu Date: Tue, 23 Sep 2025 22:11:35 -0700 (PDT) Message-ID: <68d37d87.050a0220.377ff5.04d4SMTPIN_ADDED_MISSING@mx.google.com> Received: from [172.21.0.2] (unknown [172.18.0.240]) by postal.iol.unh.edu (Postfix) with ESMTP id B93B96051830; Wed, 24 Sep 2025 01:11:35 -0400 (EDT) Subject: |SUCCESS| [GIT MASTER] 3b43ce3f4a54468e7ef65760c2fd7b4d6ee6d9fc From: dpdklab@iol.unh.edu To: Test Report Cc: dpdk-test-reports@iol.unh.edu, Xueming Li , Christian Ehrhardt , Kevin Traynor , Luca Boccassi Content-Type: text/plain X-BeenThere: test-report@dpdk.org X-Mailman-Version: 2.1.29 Precedence: list List-Id: automatic DPDK test reports List-Unsubscribe: , List-Archive: List-Post: List-Help: List-Subscribe: , Errors-To: test-report-bounces@dpdk.org _Testing PASS_ Branch: tags/v22.11 3b43ce3f4a54468e7ef65760c2fd7b4d6ee6d9fc --> testing pass Upstream job id: Generic-Unit-Test-DPDK#374211 Test environment and result as below: +-----------------+------------------------------+--------------+---------------------------+----------------+ | Environment | cryptodev_sw_snow3g_autotest | lpm_autotest | cryptodev_sw_zuc_autotest | dpdk_unit_test | +=================+==============================+==============+===========================+================+ | Debian 12 (arm) | PASS | SKIPPED | PASS | SKIPPED | +-----------------+------------------------------+--------------+---------------------------+----------------+ | Ubuntu 20.04 | SKIPPED | PASS | SKIPPED | SKIPPED | +-----------------+------------------------------+--------------+---------------------------+----------------+ | Ubuntu 22.04 | SKIPPED | SKIPPED | SKIPPED | PASS | +-----------------+------------------------------+--------------+---------------------------+----------------+ Debian 12 (arm) Kernel: Depends on container host Compiler: gcc (Debian 12.2.0-14) 12.2.0 Ubuntu 20.04 Kernel: 5.4 Compiler: gcc gcc (Ubuntu 9.4.0-1ubuntu1~20.04.2) 9.4.0 Ubuntu 22.04 Kernel: 5.15 Compiler: gcc gcc (Ubuntu 11.4.0-1ubuntu1~22.04.2) 11.4.0 To view detailed results, visit: https://lab.dpdk.org/results/dashboard/tarballs/34975/ UNH-IOL DPDK Community Lab To manage your email subscriptions, visit: https://lab.dpdk.org/results/dashboard/preferences/subscriptions/