From mboxrd@z Thu Jan 1 00:00:00 1970 Return-Path: Received: from mails.dpdk.org (mails.dpdk.org [217.70.189.124]) by inbox.dpdk.org (Postfix) with ESMTP id 9DFAE46F64 for ; Wed, 24 Sep 2025 07:24:30 +0200 (CEST) Received: from mails.dpdk.org (localhost [127.0.0.1]) by mails.dpdk.org (Postfix) with ESMTP id 93EFE4027C; Wed, 24 Sep 2025 07:24:30 +0200 (CEST) Received: from mail-il1-f225.google.com (mail-il1-f225.google.com [209.85.166.225]) by mails.dpdk.org (Postfix) with ESMTP id 4DA2D402EB for ; Wed, 24 Sep 2025 07:24:22 +0200 (CEST) Received: by mail-il1-f225.google.com with SMTP id e9e14a558f8ab-4248c9a64f7so3792645ab.0 for ; Tue, 23 Sep 2025 22:24:22 -0700 (PDT) DKIM-Signature: v=1; a=rsa-sha256; c=relaxed/relaxed; d=iol.unh.edu; s=unh-iol; t=1758691461; x=1759296261; darn=dpdk.org; h=cc:to:from:subject:message-id:date:from:to:cc:subject:date :message-id:reply-to; bh=0F/ypjbaSczDmjHYMmmJZ9Cm1HPirN7fOlpq+VF02CE=; b=cysrXi8NbfisquUG1891UMi94KQKKNcjjrkQLrd4II1EnzO78HZchbX8QjzCbsZUoL 7Vk9/2CIYcoQW890eZX0/3Wyx4AQ0Yu1tJFeuy2fb9BQ3rkj842Gudw/ztgN9NSrIPUV PVoLSOEH124g+VdOVXad2i5QNBUTcFrS6S2EQ= X-Google-DKIM-Signature: v=1; a=rsa-sha256; c=relaxed/relaxed; d=1e100.net; s=20230601; t=1758691461; x=1759296261; h=cc:to:from:subject:message-id:date:x-gm-message-state:from:to:cc :subject:date:message-id:reply-to; bh=0F/ypjbaSczDmjHYMmmJZ9Cm1HPirN7fOlpq+VF02CE=; b=H2aU0ShREYIne0X85iSIyNlhMQAzjZ066UY+Z1XOMHyTCLAJ2cP9XhLu/FfaKT9wDu q6Sj2d7K0JxLzNR+nDh6vXtSA5bOPC5Gpsov8oqPKjzssUWvSz37r7X1dMuBmDLlMXJ+ iLnrCCe6ulWkpNRkoYbuO2cELRltNYEZrTX2pVkbBTJJT+yfkOMU9mskANCV6xEL0Cz+ tRFOabf1GGZ96fBQ6oPCGu1eecqM5wxhGS9vzGXEheSFuHxE5Yub/JbCkZEVoNFJiFEM 85989Xuz8tcxTWvtQm/cHFegN71FqUwRdKBLo5oiya1XYhCyVDsGK9Dc3rh4+oVwBXqM MlMw== X-Gm-Message-State: AOJu0YwlxNQ4XSTq+ghTBpwbRkq1671vLm1oWycY1rHVD6GH2Qq+xOVI SkwyvMw7SRsozLYTLfVqDYh7xHvTrHSUg4l3Nv3hi68Ldbd4WpnK/7stftEf6wPWsrOVvLr3Tzb 4/sCiW1y3qBFZh3zKUl7+hbBcCj2Jgi0XdEhNVmE/1I2T+Zx22zFh X-Gm-Gg: ASbGncsE3d0miUReNhyxJjHfeO+dJrBrsj/oZBFD3vGPTCSzoD1G9lTVZz8VQGjrVA2 WBjKQ1afSY7IxjYtmht79QlWLAi1NCRM2n9gpMtfYOhCTSKMXopziW6LS1/qRs/P2PAHk1SReAZ WiI6Rxvwb5WTL9eCVT00CV7DImx46BYXn8t8sO1rbFEg2JN+4CK1Uum27Nb+y0eEzbyq54pUKQC DQS9ajViPD0tnuWan/jswzg1sroCM/PCVqSDv+kLzN4M3j0T6WTxZSfpGAV8hFjUAfEjqbUjxTH FgT06AUrpCDBk4RwnzcwxeBI5N030SK1LaJ/FiDNVh6PhKxWxw== X-Google-Smtp-Source: AGHT+IHNzpteMHfSbeCfsbSU4TA0mK/Nd5Ii6yzJ5HKfyBs/X9E3s5hFFwqbaiEGZWq+xKenklW9UEWJvHci X-Received: by 2002:a05:6e02:1747:b0:425:51dc:5b6c with SMTP id e9e14a558f8ab-4258d8cbd39mr13635645ab.13.1758691461649; Tue, 23 Sep 2025 22:24:21 -0700 (PDT) Received: from postal.iol.unh.edu (postal.iol.unh.edu. [2606:4100:3880:1234::84]) by smtp-relay.gmail.com with ESMTPS id e9e14a558f8ab-4244b0aa2easm10453275ab.22.2025.09.23.22.24.21 (version=TLS1_2 cipher=ECDHE-ECDSA-AES128-GCM-SHA256 bits=128/128); Tue, 23 Sep 2025 22:24:21 -0700 (PDT) X-Relaying-Domain: iol.unh.edu Date: Tue, 23 Sep 2025 22:24:21 -0700 (PDT) Message-ID: <68d38085.050a0220.1d9021.3d5aSMTPIN_ADDED_MISSING@mx.google.com> Received: from [172.21.0.2] (unknown [172.18.0.240]) by postal.iol.unh.edu (Postfix) with ESMTP id 310D46051830; Wed, 24 Sep 2025 01:24:21 -0400 (EDT) Subject: |SUCCESS| [GIT MASTER] 3b43ce3f4a54468e7ef65760c2fd7b4d6ee6d9fc From: dpdklab@iol.unh.edu To: Test Report Cc: dpdk-test-reports@iol.unh.edu, Xueming Li , Christian Ehrhardt , Kevin Traynor , Luca Boccassi Content-Type: text/plain X-BeenThere: test-report@dpdk.org X-Mailman-Version: 2.1.29 Precedence: list List-Id: automatic DPDK test reports List-Unsubscribe: , List-Archive: List-Post: List-Help: List-Subscribe: , Errors-To: test-report-bounces@dpdk.org _Testing PASS_ Branch: tags/v22.11 3b43ce3f4a54468e7ef65760c2fd7b4d6ee6d9fc --> testing pass Upstream job id: Generic-DPDK-Compile-Meson#427872 Test environment and result as below: +-------------------------------+--------------------+-------------------------+----------------------+ | Environment | dpdk_meson_compile | dpdk_llvm_clang_compile | dpdk_mingw64_compile | +===============================+====================+=========================+======================+ | CentOS Stream 9 | PASS | SKIPPED | SKIPPED | +-------------------------------+--------------------+-------------------------+----------------------+ | Fedora Linux 42 | PASS | SKIPPED | SKIPPED | +-------------------------------+--------------------+-------------------------+----------------------+ | Debian GNU/Linux 12 | PASS | SKIPPED | SKIPPED | +-------------------------------+--------------------+-------------------------+----------------------+ | openSUSE Leap 15.6 | PASS | SKIPPED | SKIPPED | +-------------------------------+--------------------+-------------------------+----------------------+ | CentOS Stream 10 | PASS | SKIPPED | SKIPPED | +-------------------------------+--------------------+-------------------------+----------------------+ | Red Hat Enterprise Linux 8.10 | PASS | SKIPPED | SKIPPED | +-------------------------------+--------------------+-------------------------+----------------------+ | Ubuntu 20.04 | PASS | SKIPPED | SKIPPED | +-------------------------------+--------------------+-------------------------+----------------------+ | Ubuntu 22.04 | PASS | SKIPPED | SKIPPED | +-------------------------------+--------------------+-------------------------+----------------------+ | Ubuntu 24.04 | PASS | SKIPPED | SKIPPED | +-------------------------------+--------------------+-------------------------+----------------------+ | Red Hat Enterprise Linux 9.5 | PASS | SKIPPED | SKIPPED | +-------------------------------+--------------------+-------------------------+----------------------+ | FreeBSD 14.2 | PASS | SKIPPED | SKIPPED | +-------------------------------+--------------------+-------------------------+----------------------+ | Windows Server 2022 | SKIPPED | PASS | PASS | +-------------------------------+--------------------+-------------------------+----------------------+ CentOS Stream 9 Kernel: 5.15 Compiler: gcc gcc (GCC) 11.5.0 20240719 (Red Hat 11.5.0-11) Fedora Linux 42 Kernel: 5.15 Compiler: gcc gcc (GCC) 15.2.1 20250808 (Red Hat 15.2.1-1) Debian GNU/Linux 12 Kernel: 5.15 Compiler: gcc gcc (Debian 12.2.0-14+deb12u1) 12.2.0 openSUSE Leap 15.6 Kernel: 5.15 Compiler: gcc gcc (SUSE Linux) 7.5.0 CentOS Stream 10 Kernel: 5.15 Compiler: gcc gcc (GCC) 14.2.1 20250110 (Red Hat 14.2.1-8) Red Hat Enterprise Linux 8.10 Kernel: 5.15 Compiler: gcc gcc (GCC) 8.5.0 20210514 (Red Hat 8.5.0-22) Ubuntu 20.04 Kernel: 5.15 Compiler: gcc gcc (Ubuntu 9.4.0-1ubuntu1~20.04.2) 9.4.0 Ubuntu 22.04 Kernel: 5.15 Compiler: gcc gcc (Ubuntu 11.4.0-1ubuntu1~22.04) 11.4.0 Ubuntu 24.04 Kernel: 5.15 Compiler: gcc gcc (Ubuntu 13.3.0-6ubuntu2~24.04) 13.3.0 Red Hat Enterprise Linux 9.5 Kernel: 5.15 Compiler: gcc gcc (GCC) 11.5.0 20240719 (Red Hat 11.5.0-2) FreeBSD 14.2 Kernel: 14.2-RELEASE Compiler: clang 18.1.6 Windows Server 2022 Kernel: 10.0.20348.2031 Compiler: clang 15.0.7, gcc 14.1.0 (MinGW), and MSVC VS 19.39.33521 To view detailed results, visit: https://lab.dpdk.org/results/dashboard/tarballs/34975/ UNH-IOL DPDK Community Lab To manage your email subscriptions, visit: https://lab.dpdk.org/results/dashboard/preferences/subscriptions/