From mboxrd@z Thu Jan 1 00:00:00 1970 Return-Path: Received: from mails.dpdk.org (mails.dpdk.org [217.70.189.124]) by inbox.dpdk.org (Postfix) with ESMTP id 24C8E46F64 for ; Wed, 24 Sep 2025 07:29:04 +0200 (CEST) Received: from mails.dpdk.org (localhost [127.0.0.1]) by mails.dpdk.org (Postfix) with ESMTP id 1B9DB4027C; Wed, 24 Sep 2025 07:29:04 +0200 (CEST) Received: from mail-il1-f227.google.com (mail-il1-f227.google.com [209.85.166.227]) by mails.dpdk.org (Postfix) with ESMTP id 8EDD44027C for ; Wed, 24 Sep 2025 07:29:02 +0200 (CEST) Received: by mail-il1-f227.google.com with SMTP id e9e14a558f8ab-4248c9a64f7so3808305ab.0 for ; Tue, 23 Sep 2025 22:29:02 -0700 (PDT) DKIM-Signature: v=1; a=rsa-sha256; c=relaxed/relaxed; d=iol.unh.edu; s=unh-iol; t=1758691742; x=1759296542; darn=dpdk.org; h=cc:to:from:subject:message-id:date:from:to:cc:subject:date :message-id:reply-to; bh=oLu6kqnNWZSV8IhuN3Apb82s9I6OGrq/m6dpUJSUTDs=; b=iZqUpKfmj+vtvO4Q78oM/HXhizOX4mVlJRPyAnw/P4j2n93ECsyPb55VUWO4UiXsVK tRJ5c/d7cOpt1bG7yhJ+fXXl2yZqNq8HSKSW4tM8Sa5H62YtFU5hkY6n0IrK3HzHc1S6 xy6padq5Sq0U4nIyk5felN7aG75JTjWxmVVsk= X-Google-DKIM-Signature: v=1; a=rsa-sha256; c=relaxed/relaxed; d=1e100.net; s=20230601; t=1758691742; x=1759296542; h=cc:to:from:subject:message-id:date:x-gm-message-state:from:to:cc :subject:date:message-id:reply-to; bh=oLu6kqnNWZSV8IhuN3Apb82s9I6OGrq/m6dpUJSUTDs=; b=KHLjniW6XVGQKDjwMngG26tnmFDYwRrMwPF2p+URC0DiuIEDF0Vo+HymWCebzQ7lhI 70hNvUusUE9I0e2OeC6MOdzVnE3sZZXL6RhCIFHajKpr2kzU33fhmwHXDsMTe8bVcGwm EHWcJzLSgr8kqm5hk2jyaoWYLPVRDD9fzELqv4y7dLQ6kry8No8amLpmsrB0TYwNN7+d 5ybbE6ISjPDBLT6geP193YbtwxQTuzdhSzMw5ycb6S6jQbwaacB88sXZvkVu1PdL5+ot vp7zEN7k/qoYDlyBZqa68ZaEl/2tMjIQDBkeUb0+A4/Jaetlqvl+pLkogg6Bj9VEHjZs dmRw== X-Gm-Message-State: AOJu0Yw3BeO3X5NWOfVoFnAlzYJluBH8jbteFXCf79fmapnHQS++BL4F iCkanAaIFw6MNK24F19GammmEbYWVEQeH50DpypT6NKnMypAQFiyzygaYYf+eb2TvrvZ91GPd3v LSgbL3sv48TQ/TBxPv40TCuv9/VWSndWZxZL+XiCSApmPIeeuqDU1 X-Gm-Gg: ASbGncs6kIhfv9r1LDqe2ru9UOnGsfoirMi78un7Pj0V/Afm/Nyju5iva9+TsTVK7lz l1TWHrdtD8I4E8Vez5ZsT2uwdzxmWsc+3gRhGiF/AxEGqCQBeW1vnMsU0WiG3gDL+923oycCB+f FpZtG8jo8QovOyKHwnnLe8zRbK5P/4zIs1y1CqeBlPZ7ht71eUvM1E1sf6rF+cBAolWVOjlJV9k BMMdzR3mGtSVQ6vQF+DvSHf/HAcKZht5UUfRFLGsUjqNV7BflcN9KCBvl8TF9K0U+47Xc25IVzS QpFZli2aAubFawXaYk6Ucur9A6GFU1dPEgYvc2uzERp82dD8Bg== X-Google-Smtp-Source: AGHT+IEY7Ua7fKTIn+w2Liifb/42DgGCd4rseD1V8CUG1poB3ZFFq+ICtC6rAKsWdDIeXQK0/VBGvYRemb9t X-Received: by 2002:a05:6e02:1feb:b0:424:29c:dded with SMTP id e9e14a558f8ab-4258d892586mr16932485ab.8.1758691741903; Tue, 23 Sep 2025 22:29:01 -0700 (PDT) Received: from postal.iol.unh.edu (postal.iol.unh.edu. [2606:4100:3880:1234::84]) by smtp-relay.gmail.com with ESMTPS id 8926c6da1cb9f-54fc0cbbf15sm701319173.47.2025.09.23.22.29.01 (version=TLS1_2 cipher=ECDHE-ECDSA-AES128-GCM-SHA256 bits=128/128); Tue, 23 Sep 2025 22:29:01 -0700 (PDT) X-Relaying-Domain: iol.unh.edu Date: Tue, 23 Sep 2025 22:29:01 -0700 (PDT) Message-ID: <68d3819d.050a0220.1bda90.f7eeSMTPIN_ADDED_MISSING@mx.google.com> Received: from [172.21.0.2] (unknown [172.18.0.240]) by postal.iol.unh.edu (Postfix) with ESMTP id 783366051830; Wed, 24 Sep 2025 01:29:01 -0400 (EDT) Subject: |SUCCESS| [GIT MASTER] b287e404643aeab5bb5db084c142789df187844e From: dpdklab@iol.unh.edu To: Test Report Cc: dpdk-test-reports@iol.unh.edu, Xueming Li , Christian Ehrhardt , Kevin Traynor , Luca Boccassi Content-Type: text/plain X-BeenThere: test-report@dpdk.org X-Mailman-Version: 2.1.29 Precedence: list List-Id: automatic DPDK test reports List-Unsubscribe: , List-Archive: List-Post: List-Help: List-Subscribe: , Errors-To: test-report-bounces@dpdk.org _Testing PASS_ Branch: tags/v24.11 b287e404643aeab5bb5db084c142789df187844e --> testing pass Upstream job id: Generic-DPDK-Compile-Meson#427882 Test environment and result as below: +-------------------------------+--------------------+-------------------+------------------+-------------------+-------------------------+----------------------+ | Environment | dpdk_meson_compile | dpdk_compile_spdk | dpdk_compile_ovs | dpdk_msvc_compile | dpdk_llvm_clang_compile | dpdk_mingw64_compile | +===============================+====================+===================+==================+===================+=========================+======================+ | CentOS Stream 9 | PASS | PASS | SKIPPED | SKIPPED | SKIPPED | SKIPPED | +-------------------------------+--------------------+-------------------+------------------+-------------------+-------------------------+----------------------+ | CentOS Stream 10 | PASS | SKIPPED | SKIPPED | SKIPPED | SKIPPED | SKIPPED | +-------------------------------+--------------------+-------------------+------------------+-------------------+-------------------------+----------------------+ | Fedora Linux 42 | PASS | PASS | PASS | SKIPPED | SKIPPED | SKIPPED | +-------------------------------+--------------------+-------------------+------------------+-------------------+-------------------------+----------------------+ | Debian GNU/Linux 12 | PASS | PASS | SKIPPED | SKIPPED | SKIPPED | SKIPPED | +-------------------------------+--------------------+-------------------+------------------+-------------------+-------------------------+----------------------+ | FreeBSD 14.2 | PASS | SKIPPED | SKIPPED | SKIPPED | SKIPPED | SKIPPED | +-------------------------------+--------------------+-------------------+------------------+-------------------+-------------------------+----------------------+ | openSUSE Leap 15.6 | PASS | SKIPPED | SKIPPED | SKIPPED | SKIPPED | SKIPPED | +-------------------------------+--------------------+-------------------+------------------+-------------------+-------------------------+----------------------+ | Ubuntu 22.04 | PASS | PASS | SKIPPED | SKIPPED | SKIPPED | SKIPPED | +-------------------------------+--------------------+-------------------+------------------+-------------------+-------------------------+----------------------+ | Ubuntu 24.04 | PASS | PASS | PASS | SKIPPED | SKIPPED | SKIPPED | +-------------------------------+--------------------+-------------------+------------------+-------------------+-------------------------+----------------------+ | Red Hat Enterprise Linux 8.10 | PASS | SKIPPED | SKIPPED | SKIPPED | SKIPPED | SKIPPED | +-------------------------------+--------------------+-------------------+------------------+-------------------+-------------------------+----------------------+ | Red Hat Enterprise Linux 9.5 | PASS | SKIPPED | SKIPPED | SKIPPED | SKIPPED | SKIPPED | +-------------------------------+--------------------+-------------------+------------------+-------------------+-------------------------+----------------------+ | Ubuntu 20.04 | PASS | SKIPPED | SKIPPED | SKIPPED | SKIPPED | SKIPPED | +-------------------------------+--------------------+-------------------+------------------+-------------------+-------------------------+----------------------+ | Alpine Linux 3.22.0 | PASS | SKIPPED | SKIPPED | SKIPPED | SKIPPED | SKIPPED | +-------------------------------+--------------------+-------------------+------------------+-------------------+-------------------------+----------------------+ | Windows Server 2022 | SKIPPED | SKIPPED | SKIPPED | PASS | PASS | PASS | +-------------------------------+--------------------+-------------------+------------------+-------------------+-------------------------+----------------------+ CentOS Stream 9 Kernel: 5.15 Compiler: gcc gcc (GCC) 11.5.0 20240719 (Red Hat 11.5.0-11) CentOS Stream 10 Kernel: 5.15 Compiler: gcc gcc (GCC) 14.2.1 20250110 (Red Hat 14.2.1-8) Fedora Linux 42 Kernel: 5.15 Compiler: clang gcc (GCC) 15.2.1 20250808 (Red Hat 15.2.1-1) Debian GNU/Linux 12 Kernel: 5.15 Compiler: gcc gcc (Debian 12.2.0-14+deb12u1) 12.2.0 FreeBSD 14.2 Kernel: 14.2-RELEASE Compiler: clang 18.1.6 openSUSE Leap 15.6 Kernel: 5.15 Compiler: gcc gcc (SUSE Linux) 7.5.0 Ubuntu 22.04 Kernel: 5.15 Compiler: gcc gcc (Ubuntu 11.4.0-1ubuntu1~22.04) 11.4.0 Ubuntu 24.04 Kernel: 5.15 Compiler: gcc gcc (Ubuntu 13.3.0-6ubuntu2~24.04) 13.3.0 Red Hat Enterprise Linux 8.10 Kernel: 5.15 Compiler: gcc gcc (GCC) 8.5.0 20210514 (Red Hat 8.5.0-22) Red Hat Enterprise Linux 9.5 Kernel: 5.15 Compiler: gcc gcc (GCC) 11.5.0 20240719 (Red Hat 11.5.0-2) Ubuntu 20.04 Kernel: 5.15 Compiler: gcc gcc (Ubuntu 9.4.0-1ubuntu1~20.04.2) 9.4.0 Alpine Linux 3.22.0 Kernel: 5.15 Compiler: gcc gcc (Alpine 14.2.0) 14.2.0 Windows Server 2022 Kernel: 10.0.20348.2031 Compiler: clang 15.0.7, gcc 14.1.0 (MinGW), and MSVC VS 19.39.33521 To view detailed results, visit: https://lab.dpdk.org/results/dashboard/tarballs/34977/ UNH-IOL DPDK Community Lab To manage your email subscriptions, visit: https://lab.dpdk.org/results/dashboard/preferences/subscriptions/