From mboxrd@z Thu Jan 1 00:00:00 1970 Return-Path: Received: from mails.dpdk.org (mails.dpdk.org [217.70.189.124]) by inbox.dpdk.org (Postfix) with ESMTP id CCBF546F64 for ; Wed, 24 Sep 2025 07:35:32 +0200 (CEST) Received: from mails.dpdk.org (localhost [127.0.0.1]) by mails.dpdk.org (Postfix) with ESMTP id C7AB94027C; Wed, 24 Sep 2025 07:35:32 +0200 (CEST) Received: from mail-pl1-f226.google.com (mail-pl1-f226.google.com [209.85.214.226]) by mails.dpdk.org (Postfix) with ESMTP id 611814027C for ; Wed, 24 Sep 2025 07:35:31 +0200 (CEST) Received: by mail-pl1-f226.google.com with SMTP id d9443c01a7336-27d69771e3eso10745425ad.3 for ; Tue, 23 Sep 2025 22:35:31 -0700 (PDT) DKIM-Signature: v=1; a=rsa-sha256; c=relaxed/relaxed; d=iol.unh.edu; s=unh-iol; t=1758692130; x=1759296930; darn=dpdk.org; h=cc:to:from:subject:message-id:date:from:to:cc:subject:date :message-id:reply-to; bh=t0otz5L7hWZNx4ZDAWatPovUl2e6Vcg7ABqp1uyHoNQ=; b=UqYYEri+ny1myaGHapMHlQc8rY0U/B/dVqUX24S1c6a4j/sgEVdt2H/lTjP7Ue495P tvuFI2bd37sahazrbLFIT5JfnQhrKGfaB14nHEFksWRam/F9S++O0ZnaaYJ7lt8ErlFs 8GBcu8C7nRjIQx6wtUE93RTA7K3svTqoDKVEc= X-Google-DKIM-Signature: v=1; a=rsa-sha256; c=relaxed/relaxed; d=1e100.net; s=20230601; t=1758692130; x=1759296930; h=cc:to:from:subject:message-id:date:x-gm-message-state:from:to:cc :subject:date:message-id:reply-to; bh=t0otz5L7hWZNx4ZDAWatPovUl2e6Vcg7ABqp1uyHoNQ=; b=avlVzR20r2L/XQdWeog3TxpLsf3gU0FXqq/4TSO7G3OfQ/H0LaNayyPLMxcSqKtuWK 1tbLPev2EI0BcsK+nNYX+gcRBzjxPe5Q7Z4QrTVr71vUtByTe5RpFW3TU/wUCsUyw8Dl Au8/TsdzkPApqdzZKoIMxBJqud1Tu5wGKId6TX/UZkuq/wcLRseM+0hMhzSaD+5xdLEo YFtA9uppkixMKmKsQCAyM2FEgXwdpw29FbLKL6d+LEPcdNyFsCYFtKeey6tJMTyNPHVk PVtmzjQNxb0X9E+sBbVA6gLJQAnt7tinOMMbzjgHlkHlzw3HSQkS/adlt839G6tGYG1c b4LA== X-Gm-Message-State: AOJu0YwrCaG93Xrgm1ewUyd9MbtYlDvoyCq2p8WeGtXra7EgPOZTjMUF 6cK7suE5yH/fbzO8YTbV1XRwMIDaMwqBKnqGyLfwsMncGNaAKH+zVflGYMKI01ACWx6pKHIFVuL 8mtaJ54Z4W7n69YqUJ95n6le2O3P4CDC3A+Xn X-Gm-Gg: ASbGncu5DzdglwdiS67GSQteBRnExz2Hqqn5Y9oWFBY3YBhBzrTnuC1HVB8WLMG5wzJ vltUyUxd54L0NFqEnvQSO+y+F6QTB6KR+xsQx6MjZ0CcJ88MgHlsBwbFTp/jWHebCFIXXWVvssn sIFUVrC/HDtSHTSjYUCF5ewsIfL7swhjSBiNmO4rlIfF+mUpNhGDi0UY0vHuzbsFMgEh/MuU0lv v2XVh7+0ZkIsSWY/I56RkWyVpxUSC4Rr1a6nzHUBdSaW+c0V4JWJsMdT6b3bPbPckZmbOJA2HN7 vEchnXub2W7+/bGo3whhEeNPq+tYN73vGeb4chQn2lW1yzhTb1rGBEui21q+KoRrKQpqqYCa X-Google-Smtp-Source: AGHT+IF0/cFAmrFGg/JELL7uXo/5PhM/0e2V3YPaNN2qlyuEBZ7B3WwAW0+LYPPO8b1WYTOjC45V2imXf/fL X-Received: by 2002:a17:903:2350:b0:265:47:a7b0 with SMTP id d9443c01a7336-27cc2aa7f9dmr56091105ad.10.1758692130517; Tue, 23 Sep 2025 22:35:30 -0700 (PDT) Received: from postal.iol.unh.edu (postal.iol.unh.edu. [132.177.123.84]) by smtp-relay.gmail.com with ESMTPS id d9443c01a7336-269802c23fcsm11322375ad.72.2025.09.23.22.35.30 (version=TLS1_2 cipher=ECDHE-ECDSA-AES128-GCM-SHA256 bits=128/128); Tue, 23 Sep 2025 22:35:30 -0700 (PDT) X-Relaying-Domain: iol.unh.edu Date: Tue, 23 Sep 2025 22:35:30 -0700 (PDT) Message-ID: <68d38322.170a0220.61c1f.8cacSMTPIN_ADDED_MISSING@mx.google.com> Received: from [172.21.0.2] (unknown [172.18.0.240]) by postal.iol.unh.edu (Postfix) with ESMTP id 0A9F36051830; Wed, 24 Sep 2025 01:35:30 -0400 (EDT) Subject: |SUCCESS| [GIT MASTER] b287e404643aeab5bb5db084c142789df187844e From: dpdklab@iol.unh.edu To: Test Report Cc: dpdk-test-reports@iol.unh.edu, Xueming Li , Christian Ehrhardt , Kevin Traynor , Luca Boccassi Content-Type: text/plain X-BeenThere: test-report@dpdk.org X-Mailman-Version: 2.1.29 Precedence: list List-Id: automatic DPDK test reports List-Unsubscribe: , List-Archive: List-Post: List-Help: List-Subscribe: , Errors-To: test-report-bounces@dpdk.org _Testing PASS_ Branch: tags/v24.11 b287e404643aeab5bb5db084c142789df187844e --> testing pass Upstream job id: Generic-Unit-Test-DPDK#374224 Test environment and result as below: +-------------------------------+----------------+ | Environment | dpdk_unit_test | +===============================+================+ | CentOS Stream 10 | PASS | +-------------------------------+----------------+ | CentOS Stream 9 | PASS | +-------------------------------+----------------+ | Fedora Linux 41 | PASS | +-------------------------------+----------------+ | Debian GNU/Linux 12 | PASS | +-------------------------------+----------------+ | Fedora Linux 42 | PASS | +-------------------------------+----------------+ | Red Hat Enterprise Linux 8.10 | PASS | +-------------------------------+----------------+ | Fedora Linux 40 | PASS | +-------------------------------+----------------+ | Ubuntu 24.04 | PASS | +-------------------------------+----------------+ | Ubuntu 22.04 | PASS | +-------------------------------+----------------+ | Red Hat Enterprise Linux 9.5 | PASS | +-------------------------------+----------------+ | Ubuntu 20.04 | PASS | +-------------------------------+----------------+ | Windows Server 2022 | PASS | +-------------------------------+----------------+ CentOS Stream 10 Kernel: 5.15 Compiler: gcc gcc (GCC) 14.2.1 20250110 (Red Hat 14.2.1-8) CentOS Stream 9 Kernel: 5.15 Compiler: gcc gcc (GCC) 11.5.0 20240719 (Red Hat 11.5.0-11) Fedora Linux 41 Kernel: 5.15 Compiler: clang gcc (GCC) 14.3.1 20250523 (Red Hat 14.3.1-1) Debian GNU/Linux 12 Kernel: 5.15 Compiler: gcc gcc (Debian 12.2.0-14+deb12u1) 12.2.0 Fedora Linux 42 Kernel: 5.15 Compiler: clang gcc (GCC) 15.2.1 20250808 (Red Hat 15.2.1-1) Red Hat Enterprise Linux 8.10 Kernel: 5.15 Compiler: gcc gcc (GCC) 8.5.0 20210514 (Red Hat 8.5.0-22) Fedora Linux 40 Kernel: 5.15 Compiler: clang gcc (GCC) 14.2.1 20240912 (Red Hat 14.2.1-3) Ubuntu 24.04 Kernel: 5.15 Compiler: gcc gcc (Ubuntu 13.3.0-6ubuntu2~24.04) 13.3.0 Ubuntu 22.04 Kernel: 5.15 Compiler: gcc gcc (Ubuntu 11.4.0-1ubuntu1~22.04) 11.4.0 Red Hat Enterprise Linux 9.5 Kernel: 5.15 Compiler: gcc gcc (GCC) 11.5.0 20240719 (Red Hat 11.5.0-2) Ubuntu 20.04 Kernel: 5.15 Compiler: gcc gcc (Ubuntu 9.4.0-1ubuntu1~20.04.2) 9.4.0 Windows Server 2022 Kernel: 10.0.20348.2031 Compiler: clang 15.0.7, gcc 14.1.0 (MinGW), and MSVC VS 19.39.33521 To view detailed results, visit: https://lab.dpdk.org/results/dashboard/tarballs/34977/ UNH-IOL DPDK Community Lab To manage your email subscriptions, visit: https://lab.dpdk.org/results/dashboard/preferences/subscriptions/