From mboxrd@z Thu Jan 1 00:00:00 1970 Return-Path: Received: from mails.dpdk.org (mails.dpdk.org [217.70.189.124]) by inbox.dpdk.org (Postfix) with ESMTP id 5061C46F3D for ; Wed, 24 Sep 2025 08:00:35 +0200 (CEST) Received: from mails.dpdk.org (localhost [127.0.0.1]) by mails.dpdk.org (Postfix) with ESMTP id 4842D4027C; Wed, 24 Sep 2025 08:00:35 +0200 (CEST) Received: from mail-io1-f100.google.com (mail-io1-f100.google.com [209.85.166.100]) by mails.dpdk.org (Postfix) with ESMTP id B29E34027C for ; Wed, 24 Sep 2025 08:00:33 +0200 (CEST) Received: by mail-io1-f100.google.com with SMTP id ca18e2360f4ac-8c62e313847so86324139f.3 for ; Tue, 23 Sep 2025 23:00:33 -0700 (PDT) DKIM-Signature: v=1; a=rsa-sha256; c=relaxed/relaxed; d=iol.unh.edu; s=unh-iol; t=1758693633; x=1759298433; darn=dpdk.org; h=cc:to:from:subject:message-id:date:from:to:cc:subject:date :message-id:reply-to; bh=woW2S3YkikjBM9wjNufSkoddfAU4C0GVBH/HKBLEHwY=; b=GODvQjvvFAFz8I1vuiVK98I0Ug1H/oTDfy3WYjV2QfejlikfkGYMzGoid5J/Yml9GH VrhIaOGmCpgt9HV+viJFiZY3AGOAmLZZvhX8ZRmTlCJGaZSuIEkMnMVuuTKgEeC3EIel /WVajzrYhbap8NMXBHT3l0bd40QJuuWmV/m3g= X-Google-DKIM-Signature: v=1; a=rsa-sha256; c=relaxed/relaxed; d=1e100.net; s=20230601; t=1758693633; x=1759298433; h=cc:to:from:subject:message-id:date:x-gm-message-state:from:to:cc :subject:date:message-id:reply-to; bh=woW2S3YkikjBM9wjNufSkoddfAU4C0GVBH/HKBLEHwY=; b=jE6AYMdxICkOfZ4KtfCBuJMYIXr0QIq02kFEnargZ4TgEZgfbaEoRqgC4xNBDNJmP6 gSRokprRzFE00E1VMzDrF7CIpsa0DZrUvTWXWggZ3Rfxs1F5tTlTqMrzbVpuSShWyQaE F3YVQT0Lox0YdXd24b0LwJ8I1s83vhohN4nuc1DGO+xwJTHyrlQcZHcgkW90rpWqTTDy Payk3IaHxnKgf151wZgahl7anj0h6Ekxs693sAIPm8j2iXfXYozjquby+YhPUE0osw0O GcdGICHP6cIWiWxgjUaUVFLMmJ8fzHna41Rutg8n9qBcYOFs2EUa80CoLhmy1XB/rVqM My2Q== X-Gm-Message-State: AOJu0YwUMN3KLFaHYqOiHL/8zV5XktwxUYOWWDPqX5/ckzEBnTjW0bSj PgKvmsEP1HVZJSkyfuROgKcuFFefjwq/bSVwlOv8/7U8CmtZLg3KTr30/nlSvHr8S38CfGNYwGG yNt9R1Gs/9HAOLp+1prCAJvOSsnJ5+PLwZdZ+ X-Gm-Gg: ASbGncufwyLp8OWtyJ4kUaj50xKZsaEClo5ZiHspQFbwLkjjPlvYc+SMrxxJSOLKls4 wakPeK7EgVBRn7vZ4kpe0n1uejQMg4jd8PKosTgiK1GPObgI3ddr+vheN0cHvKn7K1Pz3YTLEyH FOj6sQG598aFFpfJ8jeJn04fo6OcWGF2Ua1b7JMZixJ2+i2qeibq5sMsXrwsoviVPBJH+bRRcEM f88pDd/jSHdbN9Ecjl/g7sVmWdmENm4cuIO3GwRklxh5h9S+7z0XptqJG1mVzSBQMPurR57ZWtS 7snFioM5UXsZGASmhM9vW34tjFmpnKyItu3AyZfnBoLrueCItvRtHG4W3b16jdW+JQ35pJoc X-Google-Smtp-Source: AGHT+IGD0PH/5V3y55mbmhrtzbQhP46homKWe+u4948JS+S0IcnvnshUYGdd00dpfKOd4mc+op7xn/pSFFHQ X-Received: by 2002:a05:6e02:b4e:b0:424:843f:a010 with SMTP id e9e14a558f8ab-42581ebc298mr62161155ab.22.1758693632962; Tue, 23 Sep 2025 23:00:32 -0700 (PDT) Received: from postal.iol.unh.edu (postal.iol.unh.edu. [132.177.123.84]) by smtp-relay.gmail.com with ESMTPS id 8926c6da1cb9f-5680f989c63sm35527173.11.2025.09.23.23.00.32 (version=TLS1_2 cipher=ECDHE-ECDSA-AES128-GCM-SHA256 bits=128/128); Tue, 23 Sep 2025 23:00:32 -0700 (PDT) X-Relaying-Domain: iol.unh.edu Date: Tue, 23 Sep 2025 23:00:32 -0700 (PDT) Message-ID: <68d38900.050a0220.3637f4.2667SMTPIN_ADDED_MISSING@mx.google.com> Received: from [172.21.0.3] (unknown [172.18.0.240]) by postal.iol.unh.edu (Postfix) with ESMTP id 5B2F16051830; Wed, 24 Sep 2025 02:00:32 -0400 (EDT) Subject: |SUCCESS| [GIT MASTER] b287e404643aeab5bb5db084c142789df187844e From: dpdklab@iol.unh.edu To: Test Report Cc: dpdk-test-reports@iol.unh.edu, Xueming Li , Christian Ehrhardt , Kevin Traynor , Luca Boccassi Content-Type: text/plain X-BeenThere: test-report@dpdk.org X-Mailman-Version: 2.1.29 Precedence: list List-Id: automatic DPDK test reports List-Unsubscribe: , List-Archive: List-Post: List-Help: List-Subscribe: , Errors-To: test-report-bounces@dpdk.org _Testing PASS_ Branch: tags/v24.11 b287e404643aeab5bb5db084c142789df187844e --> testing pass Upstream job id: Generic-Unit-Test-DPDK#374227 Test environment and result as below: +------------------------------+----------------+------------------------------+--------------+---------------------------+ | Environment | dpdk_unit_test | cryptodev_sw_snow3g_autotest | lpm_autotest | cryptodev_sw_zuc_autotest | +==============================+================+==============================+==============+===========================+ | Debian GNU/Linux 12 | PASS | SKIPPED | SKIPPED | SKIPPED | +------------------------------+----------------+------------------------------+--------------+---------------------------+ | Fedora Linux 42 | PASS | SKIPPED | SKIPPED | SKIPPED | +------------------------------+----------------+------------------------------+--------------+---------------------------+ | CentOS Stream 10 | PASS | SKIPPED | SKIPPED | SKIPPED | +------------------------------+----------------+------------------------------+--------------+---------------------------+ | CentOS Stream 9 | PASS | SKIPPED | SKIPPED | SKIPPED | +------------------------------+----------------+------------------------------+--------------+---------------------------+ | Fedora Linux 40 | PASS | SKIPPED | SKIPPED | SKIPPED | +------------------------------+----------------+------------------------------+--------------+---------------------------+ | Ubuntu 24.04 | PASS | SKIPPED | SKIPPED | SKIPPED | +------------------------------+----------------+------------------------------+--------------+---------------------------+ | Fedora Linux 41 | PASS | SKIPPED | SKIPPED | SKIPPED | +------------------------------+----------------+------------------------------+--------------+---------------------------+ | Ubuntu 20.04 | PASS | SKIPPED | PASS | SKIPPED | +------------------------------+----------------+------------------------------+--------------+---------------------------+ | Red Hat Enterprise Linux 9.5 | PASS | SKIPPED | SKIPPED | SKIPPED | +------------------------------+----------------+------------------------------+--------------+---------------------------+ | Ubuntu 22.04 | PASS | SKIPPED | SKIPPED | SKIPPED | +------------------------------+----------------+------------------------------+--------------+---------------------------+ | Debian 12 (arm) | SKIPPED | PASS | SKIPPED | PASS | +------------------------------+----------------+------------------------------+--------------+---------------------------+ Debian GNU/Linux 12 Kernel: 5.4 Compiler: gcc gcc (Debian 12.2.0-14+deb12u1) 12.2.0 Fedora Linux 42 Kernel: 5.4 Compiler: clang gcc (GCC) 15.2.1 20250808 (Red Hat 15.2.1-1) CentOS Stream 10 Kernel: 5.4 Compiler: gcc gcc (GCC) 14.2.1 20250110 (Red Hat 14.2.1-8) CentOS Stream 9 Kernel: 5.4 Compiler: gcc gcc (GCC) 11.5.0 20240719 (Red Hat 11.5.0-11) Fedora Linux 40 Kernel: 5.4 Compiler: clang gcc (GCC) 14.2.1 20240912 (Red Hat 14.2.1-3) Ubuntu 24.04 Kernel: 5.4 Compiler: gcc gcc (Ubuntu 13.3.0-6ubuntu2~24.04) 13.3.0 Fedora Linux 41 Kernel: 5.4 Compiler: clang gcc (GCC) 14.3.1 20250523 (Red Hat 14.3.1-1) Ubuntu 20.04 Kernel: 5.4 Compiler: gcc gcc (Ubuntu 9.4.0-1ubuntu1~20.04.2) 9.4.0 Red Hat Enterprise Linux 9.5 Kernel: 5.4 Compiler: gcc gcc (GCC) 11.5.0 20240719 (Red Hat 11.5.0-2) Ubuntu 22.04 Kernel: 5.4 Compiler: gcc gcc (Ubuntu 11.4.0-1ubuntu1~22.04) 11.4.0 Debian 12 (arm) Kernel: Depends on container host Compiler: gcc (Debian 12.2.0-14) 12.2.0 To view detailed results, visit: https://lab.dpdk.org/results/dashboard/tarballs/34977/ UNH-IOL DPDK Community Lab To manage your email subscriptions, visit: https://lab.dpdk.org/results/dashboard/preferences/subscriptions/