automatic DPDK test reports
 help / color / mirror / Atom feed
From: dpdklab@iol.unh.edu
To: Test Report <test-report@dpdk.org>
Cc: dpdk-test-reports@iol.unh.edu
Subject: |WARNING| pw156851 [PATCH] rawdev: fix device ID retrieval function
Date: Wed, 24 Sep 2025 00:04:26 -0700 (PDT)	[thread overview]
Message-ID: <68d397fa.050a0220.2ffccc.0d0bSMTPIN_ADDED_MISSING@mx.google.com> (raw)
In-Reply-To: <20250924055654.1986682-1-nkishor@marvell.com>

Test-Label: iol-sample-apps-testing
Test-Status: WARNING
http://dpdk.org/patch/156851

_Testing issues_

Submitter: Nawal Kishor <nkishor@marvell.com>
Date: Wednesday, September 24 2025 05:56:43 
DPDK git baseline: Repo:dpdk
  Branch: master
  CommitID:0e03ab647d07cd985a7cac36cefff5195cc3a07d

156851 --> testing issues

Upstream job id: Template-DTS-Pipeline#245983

Test environment and result as below:

+--------------+----------------------+----------------------+
| Environment  | dpdk_fips_validation | compressdev_zlib_pmd |
+==============+======================+======================+
| Ubuntu 20.04 | WARN                 | SKIPPED              |
+--------------+----------------------+----------------------+
| Ubuntu 22.04 | SKIPPED              | PASS                 |
+--------------+----------------------+----------------------+

==== 20 line log output for Ubuntu 20.04 (dpdk_fips_validation): ====
INFO:root:Uploading response file...
INFO:root:Fetching verdict...
INFO:root:Downloading verdict for vector set 3396574
INFO:root:Vector set verdict not ready, waiting 30 seconds...
INFO:root:Vector set verdict not ready, waiting 30 seconds...
INFO:root:Done
INFO:root:Using response file...
INFO:root:Uploading response file...
INFO:root:Fetching verdict...
INFO:root:Downloading verdict for vector set 3396575
INFO:root:Vector set verdict not ready, waiting 30 seconds...
INFO:root:Done
INFO:root:Using response file...
INFO:root:Uploading response file...
INFO:root:Fetching verdict...
INFO:root:Downloading verdict for vector set 3396581
INFO:root:Vector set verdict not ready, waiting 30 seconds...
INFO:root:Vector set verdict not ready, waiting 30 seconds...
INFO:root:Vector set verdict not ready, waiting 30 seconds...
INFO:root:Done
==== End log output ====

Ubuntu 20.04
	Kernel: 5.15
	Compiler: gcc gcc (Ubuntu 9.4.0-1ubuntu1~20.04.2) 9.4.0

Ubuntu 22.04
	Kernel: 5.15
	Compiler: gcc gcc (Ubuntu 11.4.0-1ubuntu1~22.04.2) 11.4.0

To view detailed results, visit:
https://lab.dpdk.org/results/dashboard/patchsets/34128/

UNH-IOL DPDK Community Lab

To manage your email subscriptions, visit: 
https://lab.dpdk.org/results/dashboard/preferences/subscriptions/

  parent reply	other threads:[~2025-09-24  7:04 UTC|newest]

Thread overview: 23+ messages / expand[flat|nested]  mbox.gz  Atom feed  top
     [not found] <20250924055654.1986682-1-nkishor@marvell.com>
2025-09-24  5:23 ` |SUCCESS| pw156851 [PATCH] rawdev: fix device ID retrieval function prototype qemudev
2025-09-24  5:28 ` qemudev
2025-09-24  5:55 ` checkpatch
2025-09-24  6:21 ` |PENDING| pw156851 [PATCH] rawdev: fix device ID retrieval function dpdklab
2025-09-24  6:22 ` dpdklab
2025-09-24  6:23 ` |SUCCESS| " dpdklab
2025-09-24  6:28 ` dpdklab
2025-09-24  6:31 ` |PENDING| " dpdklab
2025-09-24  6:41 ` |SUCCESS| " dpdklab
2025-09-24  6:43 ` dpdklab
2025-09-24  6:48 ` |PENDING| " dpdklab
2025-09-24  6:59 ` |WARNING| " dpdklab
2025-09-24  7:04 ` dpdklab [this message]
2025-09-24  7:09 ` |SUCCESS| " dpdklab
2025-09-24  7:12 ` dpdklab
2025-09-24  7:12 ` dpdklab
2025-09-24  7:19 ` dpdklab
2025-09-24  7:27 ` dpdklab
2025-09-24  7:39 ` dpdklab
2025-09-24  7:53 ` |SUCCESS| pw156851 [PATCH] rawdev: fix device ID retrieval function prototype 0-day Robot
2025-09-24  7:53 ` 0-day Robot
2025-09-24  9:13 ` |SUCCESS| pw156851 [PATCH] rawdev: fix device ID retrieval function dpdklab
2025-09-24  9:52 ` dpdklab

Reply instructions:

You may reply publicly to this message via plain-text email
using any one of the following methods:

* Save the following mbox file, import it into your mail client,
  and reply-to-all from there: mbox

  Avoid top-posting and favor interleaved quoting:
  https://en.wikipedia.org/wiki/Posting_style#Interleaved_style

* Reply using the --to, --cc, and --in-reply-to
  switches of git-send-email(1):

  git send-email \
    --in-reply-to=68d397fa.050a0220.2ffccc.0d0bSMTPIN_ADDED_MISSING@mx.google.com \
    --to=dpdklab@iol.unh.edu \
    --cc=dpdk-test-reports@iol.unh.edu \
    --cc=test-report@dpdk.org \
    /path/to/YOUR_REPLY

  https://kernel.org/pub/software/scm/git/docs/git-send-email.html

* If your mail client supports setting the In-Reply-To header
  via mailto: links, try the mailto: link
Be sure your reply has a Subject: header at the top and a blank line before the message body.
This is a public inbox, see mirroring instructions
for how to clone and mirror all data and code used for this inbox;
as well as URLs for NNTP newsgroup(s).