From mboxrd@z Thu Jan 1 00:00:00 1970 Return-Path: Received: from mails.dpdk.org (mails.dpdk.org [217.70.189.124]) by inbox.dpdk.org (Postfix) with ESMTP id 5160746F64 for ; Wed, 24 Sep 2025 09:06:37 +0200 (CEST) Received: from mails.dpdk.org (localhost [127.0.0.1]) by mails.dpdk.org (Postfix) with ESMTP id 3C07A4027C; Wed, 24 Sep 2025 09:06:37 +0200 (CEST) Received: from mail-vk1-f227.google.com (mail-vk1-f227.google.com [209.85.221.227]) by mails.dpdk.org (Postfix) with ESMTP id 462054027C for ; Wed, 24 Sep 2025 09:06:35 +0200 (CEST) Received: by mail-vk1-f227.google.com with SMTP id 71dfb90a1353d-54a7bf06edfso4224826e0c.0 for ; Wed, 24 Sep 2025 00:06:35 -0700 (PDT) DKIM-Signature: v=1; a=rsa-sha256; c=relaxed/relaxed; d=iol.unh.edu; s=unh-iol; t=1758697594; x=1759302394; darn=dpdk.org; h=cc:to:from:subject:message-id:date:from:to:cc:subject:date :message-id:reply-to; bh=Rzr9DFObJ8xJgGGvAU0dwMoD0oqYcltIGUKShhl3zdg=; b=X0011TC3qTxMsuj77jcOJp/fimio73GnPwlfuprBDECnaIf3D1ZNDeLd9upUUiGA/G 5xAEAu08x3dA33Iu+ziDBDyNf5wzwwvm6jE5XdImEzNDJ1GiCaaUSbMabfp50Z/7FGdI oW8eFj9tfiQoGFEC1de8bfXTY+2QYtqNQlEzI= X-Google-DKIM-Signature: v=1; a=rsa-sha256; c=relaxed/relaxed; d=1e100.net; s=20230601; t=1758697594; x=1759302394; h=cc:to:from:subject:message-id:date:x-gm-message-state:from:to:cc :subject:date:message-id:reply-to; bh=Rzr9DFObJ8xJgGGvAU0dwMoD0oqYcltIGUKShhl3zdg=; b=no4SuOPagb5RI98mMR7kxbvzv00MrtsckWoc8NRVAiviZcpjhwX6AlOCsFJqq1Kq1q Wk74kGnnHM26VonmaDTTZOCK3TOm22y6lwXdd5eNVnSgpK0QXENeIxKXIhUbH2rgeMLd AZKvo1UFJTU+TwKWDENSKz5RgfvyaVpEkDz4WKgmPAScBixElcd+B0Cr918RVMfbc1s+ ihzgrXTyIrkR7qkMmPFGpQsiAKXfl8ML6OzPLYuaHJpmoYcz9NtcfBmW9XuIkobq+7kD PtYv6TTlos1XbDA4N2Y3kU1HKhAGFODmPggeHCdUye3ffmmS791Nm6rnAVwytO8Vw8Y0 CKRA== X-Gm-Message-State: AOJu0Yzqcg/xiLsqdmgx4rs7TO7BLSL5E3K9x1XbWyJulG3XintMDdDs m4BKfmHsMq/M0YATnng+Pt0XNtig7LDXpli2SjSuSMZZgdNXDfc+Yr0MmBm9g7RzfhAzOaP1tUm 3LpRpQCnjxuJZpByHcwSkguRkeDVs12a4ACTY X-Gm-Gg: ASbGncv3PvDctwb8EvdPw0MlUpA93hAPRlHkYoJCVNBEtEHrYY+u3hRk5QydPn/jZt7 GSkJzozpQhpcOjoGAiD73x8At/GabfgV4Hfv2HLpfBfnsqAldqn4fyCSzyeVnfC2/VitLQ+FrV1 FaWQMK7ToFt8dJknDTLBQ/Gd8gHEBz7jWatX/ORP9U74gpXBicxH4v6bH01vghKwVMAD2eJxWoN hT2uSOpv8TO4+Z6+tUp5I0MrOql1+VBp/JRi8GksDjyT7JXOMqBLXwCBvq0m+C6Sf0zv78AL3gT 59j72bVyro33+UIywdEnSGTmziIPPZ06S7+H4X8pdMzsbb8DglQgp6BgrPFfZUBi0s5Ht6ch X-Google-Smtp-Source: AGHT+IHOLQ/TmEg4BPWQ9Anu38ikxxrrSO7Tzikf2iPzNeXfMPozdkCm9UOQ7jLCF4Ip/peki3GpPE2ztXvB X-Received: by 2002:a05:6122:2018:b0:54a:1ec7:ab0f with SMTP id 71dfb90a1353d-54bcaff5ecamr2071981e0c.16.1758697594553; Wed, 24 Sep 2025 00:06:34 -0700 (PDT) Received: from postal.iol.unh.edu (postal.iol.unh.edu. [132.177.123.84]) by smtp-relay.gmail.com with ESMTPS id 71dfb90a1353d-54bda3845a4sm134827e0c.6.2025.09.24.00.06.34 (version=TLS1_2 cipher=ECDHE-ECDSA-AES128-GCM-SHA256 bits=128/128); Wed, 24 Sep 2025 00:06:34 -0700 (PDT) X-Relaying-Domain: iol.unh.edu Date: Wed, 24 Sep 2025 00:06:34 -0700 (PDT) Message-ID: <68d3987a.050a0220.2930ca.8da8SMTPIN_ADDED_MISSING@mx.google.com> Received: from [172.21.0.2] (unknown [172.18.0.240]) by postal.iol.unh.edu (Postfix) with ESMTP id 3ACBF6050A61; Wed, 24 Sep 2025 03:06:34 -0400 (EDT) Subject: |SUCCESS| [GIT MASTER] 3b43ce3f4a54468e7ef65760c2fd7b4d6ee6d9fc From: dpdklab@iol.unh.edu To: Test Report Cc: dpdk-test-reports@iol.unh.edu, Xueming Li , Christian Ehrhardt , Kevin Traynor , Luca Boccassi Content-Type: text/plain X-BeenThere: test-report@dpdk.org X-Mailman-Version: 2.1.29 Precedence: list List-Id: automatic DPDK test reports List-Unsubscribe: , List-Archive: List-Post: List-Help: List-Subscribe: , Errors-To: test-report-bounces@dpdk.org _Testing PASS_ Branch: tags/v22.11 3b43ce3f4a54468e7ef65760c2fd7b4d6ee6d9fc --> testing pass Upstream job id: Generic-DPDK-Compile-Meson#427859 Test environment and result as below: +------------------------------+--------------------+ | Environment | dpdk_meson_compile | +==============================+====================+ | Fedora Linux 42 | PASS | +------------------------------+--------------------+ | Ubuntu 22.04 | PASS | +------------------------------+--------------------+ | Red Hat Enterprise Linux 9.5 | PASS | +------------------------------+--------------------+ | Ubuntu 20.04 | PASS | +------------------------------+--------------------+ | Debian GNU/Linux 12 | PASS | +------------------------------+--------------------+ | CentOS Stream 10 | PASS | +------------------------------+--------------------+ | CentOS Stream 9 | PASS | +------------------------------+--------------------+ | Ubuntu 24.04 | PASS | +------------------------------+--------------------+ Fedora Linux 42 Kernel: 5.4 Compiler: clang gcc (GCC) 15.2.1 20250808 (Red Hat 15.2.1-1) Ubuntu 22.04 Kernel: 5.4 Compiler: gcc gcc (Ubuntu 11.4.0-1ubuntu1~22.04) 11.4.0 Red Hat Enterprise Linux 9.5 Kernel: 5.4 Compiler: gcc gcc (GCC) 11.5.0 20240719 (Red Hat 11.5.0-2) Ubuntu 20.04 Kernel: 5.15 Compiler: aarch64-linux-gnu-gcc gcc (Ubuntu 9.4.0-1ubuntu1~20.04.2) 9.4.0 Debian GNU/Linux 12 Kernel: 5.4 Compiler: gcc gcc (Debian 12.2.0-14+deb12u1) 12.2.0 CentOS Stream 10 Kernel: 5.4 Compiler: gcc gcc (GCC) 14.2.1 20250110 (Red Hat 14.2.1-8) CentOS Stream 9 Kernel: 5.4 Compiler: gcc gcc (GCC) 11.5.0 20240719 (Red Hat 11.5.0-11) Ubuntu 24.04 Kernel: 5.4 Compiler: gcc gcc (Ubuntu 13.3.0-6ubuntu2~24.04) 13.3.0 To view detailed results, visit: https://lab.dpdk.org/results/dashboard/tarballs/34975/ UNH-IOL DPDK Community Lab To manage your email subscriptions, visit: https://lab.dpdk.org/results/dashboard/preferences/subscriptions/