From mboxrd@z Thu Jan 1 00:00:00 1970 Return-Path: Received: from mails.dpdk.org (mails.dpdk.org [217.70.189.124]) by inbox.dpdk.org (Postfix) with ESMTP id 907EF46F64 for ; Wed, 24 Sep 2025 09:09:13 +0200 (CEST) Received: from mails.dpdk.org (localhost [127.0.0.1]) by mails.dpdk.org (Postfix) with ESMTP id 8C0C44027C; Wed, 24 Sep 2025 09:09:13 +0200 (CEST) Received: from mail-oa1-f97.google.com (mail-oa1-f97.google.com [209.85.160.97]) by mails.dpdk.org (Postfix) with ESMTP id 1A5164027C for ; Wed, 24 Sep 2025 09:09:12 +0200 (CEST) Received: by mail-oa1-f97.google.com with SMTP id 586e51a60fabf-342d8f2f507so1145498fac.1 for ; Wed, 24 Sep 2025 00:09:12 -0700 (PDT) DKIM-Signature: v=1; a=rsa-sha256; c=relaxed/relaxed; d=iol.unh.edu; s=unh-iol; t=1758697751; x=1759302551; darn=dpdk.org; h=references:in-reply-to:cc:to:from:subject:message-id:date:from:to :cc:subject:date:message-id:reply-to; bh=NeAYuzWphwzmBk4+01XzgNc1YIRGUjBOuUoDHThyKSU=; b=ezmN3+Af3WWzOgB0hXVXO6YWcykCqonb+py4TnxraGVZj6V0fX/Sp3nWNj40Z1ts8F J/d2ZZLiQXKRrCabccussc2/RoSc+Vy3+24rBzZXyNL/0tW2vlHTqvAzoTRs0gkn8w+E +kaiQ1o3JnKcK4FstEkaCbOgNyyMSSF+Og9UM= X-Google-DKIM-Signature: v=1; a=rsa-sha256; c=relaxed/relaxed; d=1e100.net; s=20230601; t=1758697751; x=1759302551; h=references:in-reply-to:cc:to:from:subject:message-id:date :x-gm-message-state:from:to:cc:subject:date:message-id:reply-to; bh=NeAYuzWphwzmBk4+01XzgNc1YIRGUjBOuUoDHThyKSU=; b=M8tq4lpIDnDcsJwdAf+2hTPr+zU8CTWJA6wKtcSBIEpl9Ek3b7d/aR5pW02rrgr7JI pMmI20de+eJ4lSM/eI8/PWD9KKxar/p2lZ9et2zyLWbIpVjTIK01PL01yaXEJPbGGXD7 8n0o65c0jNGfrCaOfWlH3KeNAnuBARQso+lV6gWeG2Q3VumytKFGid0jC06njFB+gm7w Sor7ceVQhVwbYI8TIgH0suUCS+9OYS3eAO7YAtOEtBi2k6OQhelnlhjZbhcnKjLBvM4Z odSyw28PLP9ADTmcDf+44/9mqM36ZubvdnqfF8mqBIRxu7XF2lsFiQOGoXo4iQ3Yb+8q RL4g== X-Gm-Message-State: AOJu0Yz29BzqXzaTES4zZUSeVJVHEk6bsPWeH2Wzr5dr6yINDYZzffOk O5nDqvMkMyMXZJ9Yf6G/wNY/FVhgWDcF2BPV999S/3Ni+PYmiiD5Gy3BAgGJuVbVeoi7a2YuO6b 1+EmWQBCdpgZlOdBG7pkiXI1RLQeowaeAVuSDgE5ITkV7Ggr0iIXekJM5lFMc X-Gm-Gg: ASbGncseFh3cbB6mCzXrDLPRFfX3SpIdRIBVsIOWj1XXgUbJpd6rYfccXNDhLac+qEm 05Vn6UEXcvh4D1JqTc/hNSuu0ac8lcZWGvmZis+tBmi1NdBcpZ6sp3PBvVFgmf12T2byGoSpiXO K83LCCUlFoZ3mLCuZOS5FY/il3R26aUQcfrI3AvhR16tC+2Q2tdra2WAfoitY7oKG0es4CbtrWE og/qxfHnxbPfLYIh/V0MiOuX63Wl0HUgQljkyrvdwkCmTpA/m+fidywOTnNN1EKRJfA8tqLFvVL Qr7ypOKAt/Y4MH51ZLBSbdcVrOLy3Dd3yX5q242Z8Ex1uFv6uQ== X-Google-Smtp-Source: AGHT+IG03rW+vj+K3aUeoZE1xl9iVnL7UvQHZkW/iC4NZvUX2z3f+ixlEFcTJwg4iSJNeZTuJx+sTy+1QR/2 X-Received: by 2002:a05:6870:bb09:b0:315:3103:6e7a with SMTP id 586e51a60fabf-34c88dfa21emr3153241fac.43.1758697751225; Wed, 24 Sep 2025 00:09:11 -0700 (PDT) Received: from postal.iol.unh.edu (postal.iol.unh.edu. [2606:4100:3880:1234::84]) by smtp-relay.gmail.com with ESMTPS id 586e51a60fabf-336e488f760sm1456174fac.8.2025.09.24.00.09.11 (version=TLS1_2 cipher=ECDHE-ECDSA-AES128-GCM-SHA256 bits=128/128); Wed, 24 Sep 2025 00:09:11 -0700 (PDT) X-Relaying-Domain: iol.unh.edu Date: Wed, 24 Sep 2025 00:09:11 -0700 (PDT) Message-ID: <68d39917.050a0220.3c945f.e8faSMTPIN_ADDED_MISSING@mx.google.com> Received: from [172.21.0.3] (unknown [172.18.0.240]) by postal.iol.unh.edu (Postfix) with ESMTP id C14D46050A61; Wed, 24 Sep 2025 03:09:10 -0400 (EDT) Subject: |SUCCESS| pw156851 [PATCH] rawdev: fix device ID retrieval function From: dpdklab@iol.unh.edu To: Test Report Cc: dpdk-test-reports@iol.unh.edu In-Reply-To: <20250924055654.1986682-1-nkishor@marvell.com> References: <20250924055654.1986682-1-nkishor@marvell.com> Content-Type: text/plain X-BeenThere: test-report@dpdk.org X-Mailman-Version: 2.1.29 Precedence: list List-Id: automatic DPDK test reports List-Unsubscribe: , List-Archive: List-Post: List-Help: List-Subscribe: , Errors-To: test-report-bounces@dpdk.org Test-Label: iol-unit-amd64-testing Test-Status: SUCCESS http://dpdk.org/patch/156851 _Testing PASS_ Submitter: Nawal Kishor Date: Wednesday, September 24 2025 05:56:43 DPDK git baseline: Repo:dpdk Branch: master CommitID:0e03ab647d07cd985a7cac36cefff5195cc3a07d 156851 --> testing pass Upstream job id: Generic-Unit-Test-DPDK#374290 Test environment and result as below: +-------------------------------+----------------+ | Environment | dpdk_unit_test | +===============================+================+ | CentOS Stream 9 | PASS | +-------------------------------+----------------+ | Debian GNU/Linux 12 | PASS | +-------------------------------+----------------+ | Fedora Linux 41 | PASS | +-------------------------------+----------------+ | Red Hat Enterprise Linux 8.10 | PASS | +-------------------------------+----------------+ | Ubuntu 20.04 | PASS | +-------------------------------+----------------+ | Fedora Linux 40 | PASS | +-------------------------------+----------------+ | Fedora Linux 42 | PASS | +-------------------------------+----------------+ | Ubuntu 22.04 | PASS | +-------------------------------+----------------+ | Ubuntu 24.04 | PASS | +-------------------------------+----------------+ | Red Hat Enterprise Linux 9.5 | PASS | +-------------------------------+----------------+ | CentOS Stream 10 | PASS | +-------------------------------+----------------+ | Windows Server 2022 | PASS | +-------------------------------+----------------+ CentOS Stream 9 Kernel: 5.15 Compiler: gcc gcc (GCC) 11.5.0 20240719 (Red Hat 11.5.0-11) Debian GNU/Linux 12 Kernel: 5.15 Compiler: gcc gcc (Debian 12.2.0-14+deb12u1) 12.2.0 Fedora Linux 41 Kernel: 5.15 Compiler: gcc gcc (GCC) 14.3.1 20250523 (Red Hat 14.3.1-1) Red Hat Enterprise Linux 8.10 Kernel: 5.15 Compiler: gcc gcc (GCC) 8.5.0 20210514 (Red Hat 8.5.0-22) Ubuntu 20.04 Kernel: 5.15 Compiler: gcc gcc (Ubuntu 9.4.0-1ubuntu1~20.04.2) 9.4.0 Fedora Linux 40 Kernel: 5.15 Compiler: gcc gcc (GCC) 14.2.1 20240912 (Red Hat 14.2.1-3) Fedora Linux 42 Kernel: 5.15 Compiler: gcc gcc (GCC) 15.2.1 20250808 (Red Hat 15.2.1-1) Ubuntu 22.04 Kernel: 5.15 Compiler: gcc gcc (Ubuntu 11.4.0-1ubuntu1~22.04) 11.4.0 Ubuntu 24.04 Kernel: 5.15 Compiler: gcc gcc (Ubuntu 13.3.0-6ubuntu2~24.04) 13.3.0 Red Hat Enterprise Linux 9.5 Kernel: 5.15 Compiler: gcc gcc (GCC) 11.5.0 20240719 (Red Hat 11.5.0-2) CentOS Stream 10 Kernel: 5.15 Compiler: gcc gcc (GCC) 14.2.1 20250110 (Red Hat 14.2.1-8) Windows Server 2022 Kernel: 10.0.20348.2031 Compiler: clang 15.0.7, gcc 14.1.0 (MinGW), and MSVC VS 19.39.33521 To view detailed results, visit: https://lab.dpdk.org/results/dashboard/patchsets/34128/ UNH-IOL DPDK Community Lab To manage your email subscriptions, visit: https://lab.dpdk.org/results/dashboard/preferences/subscriptions/