From mboxrd@z Thu Jan 1 00:00:00 1970 Return-Path: Received: from mails.dpdk.org (mails.dpdk.org [217.70.189.124]) by inbox.dpdk.org (Postfix) with ESMTP id 917D546F64 for ; Wed, 24 Sep 2025 09:27:22 +0200 (CEST) Received: from mails.dpdk.org (localhost [127.0.0.1]) by mails.dpdk.org (Postfix) with ESMTP id 850CF4027C; Wed, 24 Sep 2025 09:27:22 +0200 (CEST) Received: from mail-oa1-f98.google.com (mail-oa1-f98.google.com [209.85.160.98]) by mails.dpdk.org (Postfix) with ESMTP id 67FC94027C for ; Wed, 24 Sep 2025 09:27:21 +0200 (CEST) Received: by mail-oa1-f98.google.com with SMTP id 586e51a60fabf-342cd77646eso1812507fac.3 for ; Wed, 24 Sep 2025 00:27:21 -0700 (PDT) DKIM-Signature: v=1; a=rsa-sha256; c=relaxed/relaxed; d=iol.unh.edu; s=unh-iol; t=1758698840; x=1759303640; darn=dpdk.org; h=references:in-reply-to:cc:to:from:subject:message-id:date:from:to :cc:subject:date:message-id:reply-to; bh=R7NH4n9iRcOoZkc6o7AfAHi7GnLXUQJ4kxfC6UDfeGs=; b=FxcElobHNRCPCoILtX9nfJP1LPyjy4HhbrFMQnVFGo910WFlDnbsCFHhREK/yXP+ll GlHaS/0/BY2IFSzJC5Er3E/9cWqeICWT+FCeRF1+Yus+3iv90EUefo+FM9ZIQaFXKEEc tz4CQV7qCTDoOpgCoBR6qYFEhixsYfdeTTe5A= X-Google-DKIM-Signature: v=1; a=rsa-sha256; c=relaxed/relaxed; d=1e100.net; s=20230601; t=1758698840; x=1759303640; h=references:in-reply-to:cc:to:from:subject:message-id:date :x-gm-message-state:from:to:cc:subject:date:message-id:reply-to; bh=R7NH4n9iRcOoZkc6o7AfAHi7GnLXUQJ4kxfC6UDfeGs=; b=pWjrUfdrjONjtGJfCVIsKiNjZUFo0C0j8z11CokfT/0PtvIT9tEDhBigN8wVc2vW9T MR4yLJux+ZPGlaTtnJ/W8vzbKy06rrkCuv0ihOJwHSOuwZCbX1OaawIanG2LQpkeszIW WTSIOZCAv4dAc1eWtI+mIoalT58z6oLh79H9Qv3YTIQmXoB2JidvdXtAZ8IdH5Z9KgoV xLoyjc4TuVStbYyIbWNKsNrfNy6ekmyaoGWmTAsN266SZgogXg9gQG5RhxkJe22lttAR sOrH6Z5e9OB1pdva1SZLEB+ZfUPuZDnZCnRQSmdf+gmsPxH51Gdljsjip5XMiu+XptfR VCsA== X-Gm-Message-State: AOJu0Yy0N6GofvNY1rZWR80mCBI/NezRIhf7zycmvMgWIb0XmO0HMZES pm/sPvkgFqlJAt0pxcA6xQs0gL7/GkbJ/MxmSvXSZ4WxLfmyTEBYYUIhF9aSfCydF4r8aKk7N3o bQZ2FZI9m5lRsRXyzQh/+qxcmPk/xA8lTJxQcqLWlF65yrkIN9utcKl+PBIPl X-Gm-Gg: ASbGnct54uu3unSTH0wgX3KAmo1//jrdbcZYgR5jpEvKkmg5mCkfS0FAfy5XthlG9sG //4K2OMVQn6KcVUr58iRS1DgTrn8RQbrC1WizCZhC//3nLK23h+L6fZelxzDh4G5o8tZ1KrkrEO UcmeFgQ2Xvk/q1vhB9gOLE1uOxRvaxCftoQwfTCre/nw7HKsewXoApvMffOZx21NRMOQBsGGNC2 6S9qQq+TqUHpHHQWdNV8n1ZbZH+RMouHegGqTKs1I7J/QbY24Xh3/VzYd3QNhERlqsc9015x2+R qNGuDN6ySPT6DKMbQb8ybZxgFiZM5TmJUerhnbeacE8/jRggPA== X-Google-Smtp-Source: AGHT+IFd10WsZrJQT/Nk4KCYrcFpQ1m8SyGt1ziTQYYgaj5UD4QUxxB4jFbvgBhdrizZB/FA11+YvD5I4okD X-Received: by 2002:a05:6870:2c97:b0:31d:6e38:e138 with SMTP id 586e51a60fabf-34c776685bdmr3224530fac.7.1758698840206; Wed, 24 Sep 2025 00:27:20 -0700 (PDT) Received: from postal.iol.unh.edu (postal.iol.unh.edu. [2606:4100:3880:1234::84]) by smtp-relay.gmail.com with ESMTPS id 586e51a60fabf-3457463fbddsm487041fac.3.2025.09.24.00.27.20 (version=TLS1_2 cipher=ECDHE-ECDSA-AES128-GCM-SHA256 bits=128/128); Wed, 24 Sep 2025 00:27:20 -0700 (PDT) X-Relaying-Domain: iol.unh.edu Date: Wed, 24 Sep 2025 00:27:20 -0700 (PDT) Message-ID: <68d39d58.050a0220.355be.fc19SMTPIN_ADDED_MISSING@mx.google.com> Received: from [172.21.0.2] (unknown [172.18.0.240]) by postal.iol.unh.edu (Postfix) with ESMTP id B115B6050A61; Wed, 24 Sep 2025 03:27:19 -0400 (EDT) Subject: |SUCCESS| pw156851 [PATCH] rawdev: fix device ID retrieval function From: dpdklab@iol.unh.edu To: Test Report Cc: dpdk-test-reports@iol.unh.edu In-Reply-To: <20250924055654.1986682-1-nkishor@marvell.com> References: <20250924055654.1986682-1-nkishor@marvell.com> Content-Type: text/plain X-BeenThere: test-report@dpdk.org X-Mailman-Version: 2.1.29 Precedence: list List-Id: automatic DPDK test reports List-Unsubscribe: , List-Archive: List-Post: List-Help: List-Subscribe: , Errors-To: test-report-bounces@dpdk.org Test-Label: iol-compile-amd64-testing Test-Status: SUCCESS http://dpdk.org/patch/156851 _Testing PASS_ Submitter: Nawal Kishor Date: Wednesday, September 24 2025 05:56:43 DPDK git baseline: Repo:dpdk Branch: master CommitID:0e03ab647d07cd985a7cac36cefff5195cc3a07d 156851 --> testing pass Upstream job id: Generic-DPDK-Compile-Meson#427944 Test environment and result as below: +-------------------------------+--------------------+------------------+-------------------+-------------------+-------------------------+----------------------+ | Environment | dpdk_meson_compile | dpdk_compile_ovs | dpdk_compile_spdk | dpdk_msvc_compile | dpdk_llvm_clang_compile | dpdk_mingw64_compile | +===============================+====================+==================+===================+===================+=========================+======================+ | Ubuntu 24.04 | PASS | PASS | PASS | SKIPPED | SKIPPED | SKIPPED | +-------------------------------+--------------------+------------------+-------------------+-------------------+-------------------------+----------------------+ | CentOS Stream 9 | PASS | SKIPPED | PASS | SKIPPED | SKIPPED | SKIPPED | +-------------------------------+--------------------+------------------+-------------------+-------------------+-------------------------+----------------------+ | Fedora Linux 42 | PASS | PASS | PASS | SKIPPED | SKIPPED | SKIPPED | +-------------------------------+--------------------+------------------+-------------------+-------------------+-------------------------+----------------------+ | Debian GNU/Linux 12 | PASS | SKIPPED | PASS | SKIPPED | SKIPPED | SKIPPED | +-------------------------------+--------------------+------------------+-------------------+-------------------+-------------------------+----------------------+ | openSUSE Leap 15.6 | PASS | SKIPPED | SKIPPED | SKIPPED | SKIPPED | SKIPPED | +-------------------------------+--------------------+------------------+-------------------+-------------------+-------------------------+----------------------+ | Red Hat Enterprise Linux 8.10 | PASS | SKIPPED | SKIPPED | SKIPPED | SKIPPED | SKIPPED | +-------------------------------+--------------------+------------------+-------------------+-------------------+-------------------------+----------------------+ | Red Hat Enterprise Linux 9.5 | PASS | SKIPPED | SKIPPED | SKIPPED | SKIPPED | SKIPPED | +-------------------------------+--------------------+------------------+-------------------+-------------------+-------------------------+----------------------+ | CentOS Stream 10 | PASS | SKIPPED | SKIPPED | SKIPPED | SKIPPED | SKIPPED | +-------------------------------+--------------------+------------------+-------------------+-------------------+-------------------------+----------------------+ | FreeBSD 14.2 | PASS | SKIPPED | SKIPPED | SKIPPED | SKIPPED | SKIPPED | +-------------------------------+--------------------+------------------+-------------------+-------------------+-------------------------+----------------------+ | Ubuntu 20.04 | PASS | SKIPPED | SKIPPED | SKIPPED | SKIPPED | SKIPPED | +-------------------------------+--------------------+------------------+-------------------+-------------------+-------------------------+----------------------+ | Ubuntu 22.04 | PASS | SKIPPED | PASS | SKIPPED | SKIPPED | SKIPPED | +-------------------------------+--------------------+------------------+-------------------+-------------------+-------------------------+----------------------+ | Alpine Linux 3.22.0 | PASS | SKIPPED | SKIPPED | SKIPPED | SKIPPED | SKIPPED | +-------------------------------+--------------------+------------------+-------------------+-------------------+-------------------------+----------------------+ | Windows Server 2022 | SKIPPED | SKIPPED | SKIPPED | PASS | PASS | PASS | +-------------------------------+--------------------+------------------+-------------------+-------------------+-------------------------+----------------------+ Ubuntu 24.04 Kernel: 5.15 Compiler: gcc gcc (Ubuntu 13.3.0-6ubuntu2~24.04) 13.3.0 CentOS Stream 9 Kernel: 5.15 Compiler: gcc gcc (GCC) 11.5.0 20240719 (Red Hat 11.5.0-11) Fedora Linux 42 Kernel: 5.15 Compiler: clang gcc (GCC) 15.2.1 20250808 (Red Hat 15.2.1-1) Debian GNU/Linux 12 Kernel: 5.15 Compiler: gcc gcc (Debian 12.2.0-14+deb12u1) 12.2.0 openSUSE Leap 15.6 Kernel: 5.15 Compiler: gcc gcc (SUSE Linux) 7.5.0 Red Hat Enterprise Linux 8.10 Kernel: 5.15 Compiler: gcc gcc (GCC) 8.5.0 20210514 (Red Hat 8.5.0-22) Red Hat Enterprise Linux 9.5 Kernel: 5.15 Compiler: gcc gcc (GCC) 11.5.0 20240719 (Red Hat 11.5.0-2) CentOS Stream 10 Kernel: 5.15 Compiler: gcc gcc (GCC) 14.2.1 20250110 (Red Hat 14.2.1-8) FreeBSD 14.2 Kernel: 14.2-RELEASE Compiler: clang 18.1.6 Ubuntu 20.04 Kernel: 4.19 Compiler: gcc gcc (Ubuntu 9.4.0-1ubuntu1~20.04.2) 9.4.0 Ubuntu 22.04 Kernel: 5.15 Compiler: gcc gcc (Ubuntu 11.4.0-1ubuntu1~22.04) 11.4.0 Alpine Linux 3.22.0 Kernel: 5.15 Compiler: gcc gcc (Alpine 14.2.0) 14.2.0 Windows Server 2022 Kernel: 10.0.20348.2031 Compiler: clang 15.0.7, gcc 14.1.0 (MinGW), and MSVC VS 19.39.33521 To view detailed results, visit: https://lab.dpdk.org/results/dashboard/patchsets/34128/ UNH-IOL DPDK Community Lab To manage your email subscriptions, visit: https://lab.dpdk.org/results/dashboard/preferences/subscriptions/