From mboxrd@z Thu Jan 1 00:00:00 1970 Return-Path: Received: from mails.dpdk.org (mails.dpdk.org [217.70.189.124]) by inbox.dpdk.org (Postfix) with ESMTP id 520DB46F64 for ; Wed, 24 Sep 2025 09:34:51 +0200 (CEST) Received: from mails.dpdk.org (localhost [127.0.0.1]) by mails.dpdk.org (Postfix) with ESMTP id 30B9B4027C; Wed, 24 Sep 2025 09:34:51 +0200 (CEST) Received: from mail-pg1-f225.google.com (mail-pg1-f225.google.com [209.85.215.225]) by mails.dpdk.org (Postfix) with ESMTP id 90A894027C for ; Wed, 24 Sep 2025 09:34:49 +0200 (CEST) Received: by mail-pg1-f225.google.com with SMTP id 41be03b00d2f7-b55197907d1so3595873a12.0 for ; Wed, 24 Sep 2025 00:34:49 -0700 (PDT) DKIM-Signature: v=1; a=rsa-sha256; c=relaxed/relaxed; d=iol.unh.edu; s=unh-iol; t=1758699288; x=1759304088; darn=dpdk.org; h=cc:to:from:subject:message-id:date:from:to:cc:subject:date :message-id:reply-to; bh=X42MwV83XnqVUdVTPeYedC5CdoKNp2xowCF6pXgW79Q=; b=WNikxsSPQi29rh9D/OT2VQcC/mkYOlTgE0CqwG3D54GQKGxrhMm4S/SSZY6GcOm70c 3N6DmG/nzE//udKcpf57pGkKrv9T9mFNUWU1qxuEqMWhzE8yYFibvJ/LV/Htq+HEjYX3 pzj56uFrE49kGfaCkGVZ8S9mbt7neeSESfhtY= X-Google-DKIM-Signature: v=1; a=rsa-sha256; c=relaxed/relaxed; d=1e100.net; s=20230601; t=1758699288; x=1759304088; h=cc:to:from:subject:message-id:date:x-gm-message-state:from:to:cc :subject:date:message-id:reply-to; bh=X42MwV83XnqVUdVTPeYedC5CdoKNp2xowCF6pXgW79Q=; b=Da3L7Bn4BrMRvpPXPDhYHdK9fODfZb0llc7U3LIjP1O/iUpi8dNm6vEyQnkRRrGmTe 5nTI9TA20yjMn3mt8iPq1LeeC17hV6yL6fhnviTAzej9EgGftyLFywZ2EX4lTfnxzIxT n3m11DAjyakGuL0e5RgyI7xpCvnk7eI5lCS/uDaWWbJovX3yOIlADINPOmCjWIIwVX24 TbQt3zfFYLqL9ygk6RAfYI3kOUG9QZvo4CBssWQoxcDB4zx05nv5m9Az3+/NKsrnWBtJ U7bvDp4z5t2CsCKeiSNvMPwMGKUB04yU70Qx+9gMiI/68onM8gI3wB46T4oRxQpvu1Fs zL0Q== X-Gm-Message-State: AOJu0Yx2lZQxCQEyLavarVpxKtleiYa6LU0NSMyMetrF5hHUeMVHGGfE Y3cjVFAWOZ1se9hi07PTfUBnOPNSQE1qOrJ9wwPSYU4O5NTcC42jODEr/Sv1DUtFmL1AIrTTI7h D5J2Cefq2PlEk7ikDVwodYjiLWEJTxW+AaZJcUyfuZUHtpDSR0QhAPbWydMRN X-Gm-Gg: ASbGncsVxw/p6t8h0Dkjb0GhDdW65K0E2AY7ym8Djf5mldoAm2JEeLz341rcF9eTRDk jQmdgW/WPIpooQOzo+JJ/MPViPlTVXdkArXd+MlxzeZblvArI5XZl1qsXK3d5gzjIH/5TP6fFxM iuLYRy0dLaOKB9LVe2pv3MdfCZRqvHyWhEGBAS51FV1c8dTu0l/8L1MjRLzs3Z/sklRdK4hcHz7 GrDmTYylgg/DGMCeVT8rX8JT7A642JtqI0AEjaMMyd2ZUkBGwpf/Vro3wU1S0uWK9zvZORqjt3D mjmA6+j3fOKuO/WboCk5zq2fgWY6/BF4KDArKeePdzvhrbjzJQ== X-Google-Smtp-Source: AGHT+IFEI83wDLyehUxYRulPe+k/pVgRb+nzB4O7pHczpEAwFtAgxj6lYVQKGSlncBMpkwBXzm+E8W+lHu8O X-Received: by 2002:a17:903:22d0:b0:248:ff5a:b768 with SMTP id d9443c01a7336-27cc09e4465mr55585575ad.10.1758699288537; Wed, 24 Sep 2025 00:34:48 -0700 (PDT) Received: from postal.iol.unh.edu (postal.iol.unh.edu. [2606:4100:3880:1234::84]) by smtp-relay.gmail.com with ESMTPS id d9443c01a7336-26980047098sm11303175ad.1.2025.09.24.00.34.48 (version=TLS1_2 cipher=ECDHE-ECDSA-AES128-GCM-SHA256 bits=128/128); Wed, 24 Sep 2025 00:34:48 -0700 (PDT) X-Relaying-Domain: iol.unh.edu Date: Wed, 24 Sep 2025 00:34:48 -0700 (PDT) Message-ID: <68d39f18.170a0220.1a756d.87b5SMTPIN_ADDED_MISSING@mx.google.com> Received: from [172.21.0.2] (unknown [172.18.0.240]) by postal.iol.unh.edu (Postfix) with ESMTP id 67A656050A61; Wed, 24 Sep 2025 03:34:47 -0400 (EDT) Subject: |SUCCESS| [GIT MASTER] 20ef5263db276361bf25982884e7f5b537a57d9d From: dpdklab@iol.unh.edu To: Test Report Cc: dpdk-test-reports@iol.unh.edu, Stephen Hemminger Content-Type: text/plain X-BeenThere: test-report@dpdk.org X-Mailman-Version: 2.1.29 Precedence: list List-Id: automatic DPDK test reports List-Unsubscribe: , List-Archive: List-Post: List-Help: List-Subscribe: , Errors-To: test-report-bounces@dpdk.org _Testing PASS_ Branch: dpdk-next-net 20ef5263db276361bf25982884e7f5b537a57d9d --> testing pass Upstream job id: Generic-DPDK-Compile-Meson#427970 Test environment and result as below: +-------------------------------+--------------------+------------------+-------------------+-------------------+-------------------------+----------------------+ | Environment | dpdk_meson_compile | dpdk_compile_ovs | dpdk_compile_spdk | dpdk_msvc_compile | dpdk_llvm_clang_compile | dpdk_mingw64_compile | +===============================+====================+==================+===================+===================+=========================+======================+ | Fedora Linux 42 | PASS | PASS | PASS | SKIPPED | SKIPPED | SKIPPED | +-------------------------------+--------------------+------------------+-------------------+-------------------+-------------------------+----------------------+ | CentOS Stream 10 | PASS | SKIPPED | SKIPPED | SKIPPED | SKIPPED | SKIPPED | +-------------------------------+--------------------+------------------+-------------------+-------------------+-------------------------+----------------------+ | CentOS Stream 9 | PASS | SKIPPED | PASS | SKIPPED | SKIPPED | SKIPPED | +-------------------------------+--------------------+------------------+-------------------+-------------------+-------------------------+----------------------+ | Debian GNU/Linux 12 | PASS | SKIPPED | PASS | SKIPPED | SKIPPED | SKIPPED | +-------------------------------+--------------------+------------------+-------------------+-------------------+-------------------------+----------------------+ | openSUSE Leap 15.6 | PASS | SKIPPED | SKIPPED | SKIPPED | SKIPPED | SKIPPED | +-------------------------------+--------------------+------------------+-------------------+-------------------+-------------------------+----------------------+ | Red Hat Enterprise Linux 8.10 | PASS | SKIPPED | SKIPPED | SKIPPED | SKIPPED | SKIPPED | +-------------------------------+--------------------+------------------+-------------------+-------------------+-------------------------+----------------------+ | Ubuntu 20.04 | PASS | SKIPPED | SKIPPED | SKIPPED | SKIPPED | SKIPPED | +-------------------------------+--------------------+------------------+-------------------+-------------------+-------------------------+----------------------+ | Red Hat Enterprise Linux 9.5 | PASS | SKIPPED | SKIPPED | SKIPPED | SKIPPED | SKIPPED | +-------------------------------+--------------------+------------------+-------------------+-------------------+-------------------------+----------------------+ | Ubuntu 22.04 | PASS | SKIPPED | PASS | SKIPPED | SKIPPED | SKIPPED | +-------------------------------+--------------------+------------------+-------------------+-------------------+-------------------------+----------------------+ | Ubuntu 24.04 | PASS | PASS | PASS | SKIPPED | SKIPPED | SKIPPED | +-------------------------------+--------------------+------------------+-------------------+-------------------+-------------------------+----------------------+ | FreeBSD 14.2 | PASS | SKIPPED | SKIPPED | SKIPPED | SKIPPED | SKIPPED | +-------------------------------+--------------------+------------------+-------------------+-------------------+-------------------------+----------------------+ | Alpine Linux 3.22.0 | PASS | SKIPPED | SKIPPED | SKIPPED | SKIPPED | SKIPPED | +-------------------------------+--------------------+------------------+-------------------+-------------------+-------------------------+----------------------+ | Windows Server 2022 | SKIPPED | SKIPPED | SKIPPED | PASS | PASS | PASS | +-------------------------------+--------------------+------------------+-------------------+-------------------+-------------------------+----------------------+ Fedora Linux 42 Kernel: 5.15 Compiler: gcc gcc (GCC) 15.2.1 20250808 (Red Hat 15.2.1-1) CentOS Stream 10 Kernel: 5.15 Compiler: gcc gcc (GCC) 14.2.1 20250110 (Red Hat 14.2.1-8) CentOS Stream 9 Kernel: 5.15 Compiler: gcc gcc (GCC) 11.5.0 20240719 (Red Hat 11.5.0-11) Debian GNU/Linux 12 Kernel: 5.15 Compiler: gcc gcc (Debian 12.2.0-14+deb12u1) 12.2.0 openSUSE Leap 15.6 Kernel: 5.15 Compiler: gcc gcc (SUSE Linux) 7.5.0 Red Hat Enterprise Linux 8.10 Kernel: 5.15 Compiler: gcc gcc (GCC) 8.5.0 20210514 (Red Hat 8.5.0-22) Ubuntu 20.04 Kernel: 5.15 Compiler: gcc gcc (Ubuntu 9.4.0-1ubuntu1~20.04.2) 9.4.0 Red Hat Enterprise Linux 9.5 Kernel: 5.15 Compiler: gcc gcc (GCC) 11.5.0 20240719 (Red Hat 11.5.0-2) Ubuntu 22.04 Kernel: 5.15 Compiler: gcc gcc (Ubuntu 11.4.0-1ubuntu1~22.04) 11.4.0 Ubuntu 24.04 Kernel: 5.15 Compiler: gcc gcc (Ubuntu 13.3.0-6ubuntu2~24.04) 13.3.0 FreeBSD 14.2 Kernel: 14.2-RELEASE Compiler: clang 18.1.6 Alpine Linux 3.22.0 Kernel: 5.15 Compiler: gcc gcc (Alpine 14.2.0) 14.2.0 Windows Server 2022 Kernel: 10.0.20348.2031 Compiler: clang 15.0.7, gcc 14.1.0 (MinGW), and MSVC VS 19.39.33521 To view detailed results, visit: https://lab.dpdk.org/results/dashboard/tarballs/34979/ UNH-IOL DPDK Community Lab To manage your email subscriptions, visit: https://lab.dpdk.org/results/dashboard/preferences/subscriptions/