From mboxrd@z Thu Jan 1 00:00:00 1970 Return-Path: Received: from mails.dpdk.org (mails.dpdk.org [217.70.189.124]) by inbox.dpdk.org (Postfix) with ESMTP id A224C46F64 for ; Wed, 24 Sep 2025 09:37:49 +0200 (CEST) Received: from mails.dpdk.org (localhost [127.0.0.1]) by mails.dpdk.org (Postfix) with ESMTP id 9626240289; Wed, 24 Sep 2025 09:37:49 +0200 (CEST) Received: from mail-ot1-f100.google.com (mail-ot1-f100.google.com [209.85.210.100]) by mails.dpdk.org (Postfix) with ESMTP id DC5C140289 for ; Wed, 24 Sep 2025 09:37:48 +0200 (CEST) Received: by mail-ot1-f100.google.com with SMTP id 46e09a7af769-7459d088020so3672969a34.3 for ; Wed, 24 Sep 2025 00:37:48 -0700 (PDT) DKIM-Signature: v=1; a=rsa-sha256; c=relaxed/relaxed; d=iol.unh.edu; s=unh-iol; t=1758699468; x=1759304268; darn=dpdk.org; h=cc:to:from:subject:message-id:date:from:to:cc:subject:date :message-id:reply-to; bh=e3VdNY1+deG9HuSpi5zagMTCY0mQHqWU3gATOp0MSo4=; b=QlfRBEFP+3Z84L5hBDLyeL9SqBmYae1KHb8okPG1QmANbxhinY1meSQjH6taeAu26x rjgbf9q0P9oTVlb9655qwEjFTDkwd1hATxvVuq1eOFuaFYO5lT56aeM+KzrRm6Wgzgpi cl/Z8GIRCzgZWFtB5vLT7I2i1w0s5GWpML6xY= X-Google-DKIM-Signature: v=1; a=rsa-sha256; c=relaxed/relaxed; d=1e100.net; s=20230601; t=1758699468; x=1759304268; h=cc:to:from:subject:message-id:date:x-gm-message-state:from:to:cc :subject:date:message-id:reply-to; bh=e3VdNY1+deG9HuSpi5zagMTCY0mQHqWU3gATOp0MSo4=; b=EzIwuST+Jy02WNQ2hjrEUQWcqqHWs+gowuW8zZxkiBwG1k9029v6NqXDdwTePAIM2r +QYP8BjSsr0+lBvMcnJxb4dLU/Sge1rrrty6fcvFoXnkLam5RFt1QJx+9lwRi2y0ZXKH 6hT0YvtEIHgenZJaIzWVqtmEgf07df8yXAHmiDmCkOS2DFoZecQg0vTSFQwdAuDSQgyz rsjXLeAA5s5CFi3GAYdKJTJvEJUuky69qw3y05TmnX/aoE9E8XoolkEXRginKm9X6n+P PjNvt0cGPE1gtFsHrTuKsBqt6yBgND0OEuOb3zhRSvMx8QYfvLEhVVvh7xG++Hm/x76T LwYw== X-Gm-Message-State: AOJu0YyHVT2F8Rx31VTJSZADbTgm2BnD1Sghqgn0U9EMrMpA8G3ziSvq 7JN/up8hXmnvri8nH7G+2eWIhrFl8jMBkYkcmZb2I18wlAhF2J8ZNmqlJVWSW0rZFYBvlMMfIx0 Ul1H7Fp3rE/44iI7FxwSt1xrb4XgWTSXEMQNN4fSt2+v+ X-Gm-Gg: ASbGncu1HflpRS73g6kadbqMxAv78D9lRzzoideB85flhF9uR/aiUaf0/gM0dDqy7tz rSFc3rIswQg03GASrDHBB36S2uRPnBpzNTSSBUJm7A317i6fFQrjDzVIvvjLorVg9Md0rZB0z65 zFEprBNmtyxvxP89WA2h45jj3dTMekriSLd9pXSfpYujsCm2HlxPCfrzE/XOz2ng40P4dwLo4sx QPVrY+UF1IcRhvwSl38Ka+qs20cVeP0z0XY2iXFFNyQ0xI0CNel07CJvqLSgg8OzKhebq+RH/pp l81NdDBKubKmQ/reigbyzNjYphrHvfzzhM0kNs/h6fBhJSC74Xyl9BWWjYoYd26cOURmlJOE X-Google-Smtp-Source: AGHT+IEcB6XzWTgpGMb/XQViCEiDJTTU4gJ6cTIKj6z7yz5jVqlsIxCqJI94hyRsqx+kNhkD07GzEPF+TmSe X-Received: by 2002:a05:6808:80a8:b0:438:8c9:5f4 with SMTP id 5614622812f47-43f2d2f3773mr3092007b6e.19.1758699467902; Wed, 24 Sep 2025 00:37:47 -0700 (PDT) Received: from postal.iol.unh.edu (postal.iol.unh.edu. [132.177.123.84]) by smtp-relay.gmail.com with ESMTPS id 586e51a60fabf-336e6a9d6aasm1468913fac.19.2025.09.24.00.37.47 (version=TLS1_2 cipher=ECDHE-ECDSA-AES128-GCM-SHA256 bits=128/128); Wed, 24 Sep 2025 00:37:47 -0700 (PDT) X-Relaying-Domain: iol.unh.edu Date: Wed, 24 Sep 2025 00:37:47 -0700 (PDT) Message-ID: <68d39fcb.050a0220.290e86.f55fSMTPIN_ADDED_MISSING@mx.google.com> Received: from [172.21.0.2] (unknown [172.18.0.240]) by postal.iol.unh.edu (Postfix) with ESMTP id 6FC056050A61; Wed, 24 Sep 2025 03:37:47 -0400 (EDT) Subject: |SUCCESS| [GIT MASTER] 20ef5263db276361bf25982884e7f5b537a57d9d From: dpdklab@iol.unh.edu To: Test Report Cc: dpdk-test-reports@iol.unh.edu, Stephen Hemminger Content-Type: text/plain X-BeenThere: test-report@dpdk.org X-Mailman-Version: 2.1.29 Precedence: list List-Id: automatic DPDK test reports List-Unsubscribe: , List-Archive: List-Post: List-Help: List-Subscribe: , Errors-To: test-report-bounces@dpdk.org _Testing PASS_ Branch: dpdk-next-net 20ef5263db276361bf25982884e7f5b537a57d9d --> testing pass Upstream job id: Generic-Unit-Test-DPDK#374319 Test environment and result as below: +-------------------------------+----------------+ | Environment | dpdk_unit_test | +===============================+================+ | Fedora Linux 40 | PASS | +-------------------------------+----------------+ | Debian GNU/Linux 12 | PASS | +-------------------------------+----------------+ | CentOS Stream 10 | PASS | +-------------------------------+----------------+ | Red Hat Enterprise Linux 9.5 | PASS | +-------------------------------+----------------+ | Fedora Linux 41 | PASS | +-------------------------------+----------------+ | Ubuntu 22.04 | PASS | +-------------------------------+----------------+ | CentOS Stream 9 | PASS | +-------------------------------+----------------+ | Ubuntu 20.04 | PASS | +-------------------------------+----------------+ | Red Hat Enterprise Linux 8.10 | PASS | +-------------------------------+----------------+ | Fedora Linux 42 | PASS | +-------------------------------+----------------+ | Ubuntu 24.04 | PASS | +-------------------------------+----------------+ | Windows Server 2022 | PASS | +-------------------------------+----------------+ Fedora Linux 40 Kernel: 5.15 Compiler: clang gcc (GCC) 14.2.1 20240912 (Red Hat 14.2.1-3) Debian GNU/Linux 12 Kernel: 5.15 Compiler: gcc gcc (Debian 12.2.0-14+deb12u1) 12.2.0 CentOS Stream 10 Kernel: 5.15 Compiler: gcc gcc (GCC) 14.2.1 20250110 (Red Hat 14.2.1-8) Red Hat Enterprise Linux 9.5 Kernel: 5.15 Compiler: gcc gcc (GCC) 11.5.0 20240719 (Red Hat 11.5.0-2) Fedora Linux 41 Kernel: 5.15 Compiler: gcc gcc (GCC) 14.3.1 20250523 (Red Hat 14.3.1-1) Ubuntu 22.04 Kernel: 5.15 Compiler: gcc gcc (Ubuntu 11.4.0-1ubuntu1~22.04) 11.4.0 CentOS Stream 9 Kernel: 5.15 Compiler: gcc gcc (GCC) 11.5.0 20240719 (Red Hat 11.5.0-11) Ubuntu 20.04 Kernel: 5.15 Compiler: gcc gcc (Ubuntu 9.4.0-1ubuntu1~20.04.2) 9.4.0 Red Hat Enterprise Linux 8.10 Kernel: 5.15 Compiler: gcc gcc (GCC) 8.5.0 20210514 (Red Hat 8.5.0-22) Fedora Linux 42 Kernel: 5.15 Compiler: gcc gcc (GCC) 15.2.1 20250808 (Red Hat 15.2.1-1) Ubuntu 24.04 Kernel: 5.15 Compiler: gcc gcc (Ubuntu 13.3.0-6ubuntu2~24.04) 13.3.0 Windows Server 2022 Kernel: 10.0.20348.2031 Compiler: clang 15.0.7, gcc 14.1.0 (MinGW), and MSVC VS 19.39.33521 To view detailed results, visit: https://lab.dpdk.org/results/dashboard/tarballs/34979/ UNH-IOL DPDK Community Lab To manage your email subscriptions, visit: https://lab.dpdk.org/results/dashboard/preferences/subscriptions/