From mboxrd@z Thu Jan 1 00:00:00 1970 Return-Path: Received: from mails.dpdk.org (mails.dpdk.org [217.70.189.124]) by inbox.dpdk.org (Postfix) with ESMTP id CFB6746F64 for ; Wed, 24 Sep 2025 09:53:53 +0200 (CEST) Received: from mails.dpdk.org (localhost [127.0.0.1]) by mails.dpdk.org (Postfix) with ESMTP id B61BD40B9A; Wed, 24 Sep 2025 09:53:53 +0200 (CEST) Received: from mail-pl1-f225.google.com (mail-pl1-f225.google.com [209.85.214.225]) by mails.dpdk.org (Postfix) with ESMTP id 31C0740A7D for ; Wed, 24 Sep 2025 09:53:49 +0200 (CEST) Received: by mail-pl1-f225.google.com with SMTP id d9443c01a7336-2698d47e776so48089775ad.1 for ; Wed, 24 Sep 2025 00:53:49 -0700 (PDT) DKIM-Signature: v=1; a=rsa-sha256; c=relaxed/relaxed; d=iol.unh.edu; s=unh-iol; t=1758700428; x=1759305228; darn=dpdk.org; h=cc:to:from:subject:message-id:date:from:to:cc:subject:date :message-id:reply-to; bh=ZL10C9U6m2Bg74EfFdi/2GYWF+SdPz2M0XU8lWxjuZQ=; b=fDEpy9oJYdzFeTnCEjBi8Sat7LS2xUFIvm71rTssprZ4XycVHiWKkWMDqqCdINrj5B 7dUyWOnZd2paM8/WDWq4VU2h0T6ZLH8A1jkveiQQ22/ocNe0Yr1RpPn38qGr0iemdcjx 8AgAIw6svYHnS5m0/0hgAJXvBG4y7M5iJQgdI= X-Google-DKIM-Signature: v=1; a=rsa-sha256; c=relaxed/relaxed; d=1e100.net; s=20230601; t=1758700428; x=1759305228; h=cc:to:from:subject:message-id:date:x-gm-message-state:from:to:cc :subject:date:message-id:reply-to; bh=ZL10C9U6m2Bg74EfFdi/2GYWF+SdPz2M0XU8lWxjuZQ=; b=jjpIvgY1hTwUoVu2tHFQP/ng7lfsNHM6tOrQ3kfQFzfaCfnxtu/9xorpcYxORLv5Wo owx2dV+26eB8uJnm76oXQdsbPgyz3+3jrhgnnQP7YCNupAegHtt61qo3hf1Klfa4W1F1 uqe8BzTw9ObvLQUPDMcVow7TQNnW+DD1tLkjBEAbgc9a8FCayXq+u2By9A+Axl0yXp89 Hy1tW4kclTRDt6/l9QJ5cv0NXLx1Zd+WUFeQwY5AETRv+JkAxUkpcOB2WW3bmLVw6XGW tND5L+VQ9uz48MNYAi8WOC8bEzOxP5zBOA0QemEA/ocNXd5LYQNK5EC0apUDJgHk8LXo 9UqA== X-Gm-Message-State: AOJu0YzPPwKK9fT11e1SBGuySGmfAHUyCNRfXDUIucmqGhn0zDarIKtP edg/TVw1cHk9YjR5IaNEqzcRlqCxiZ0aFIODdI848TUbPZeuU9mwGj1B/t/E8B+3QLTlY0i2pn9 CtAjYEugXgV6J0jFSN4ibLCraBmuu7qlbNGmMLn6/ksk4xjHKdgUC X-Gm-Gg: ASbGncuZTek74kUsr7+RTtMc6tVVnjltCRhTzZHBaWwDyT8+SCNgiD09ox2k5nJ3MYM d8rmdEmYTy4zYHTG5D+YbkBSh7rEe480qWcGbXdzn36YNAnMDLW67xx11RkTVsNKmAsWPiqLDf4 28QOzux+NB1NbNu8yayggUgt6sb+EBKF73N6IhEh5+EW74G+7wINsggxrMCqAg9UTAOSUdkk1Zk Kg9bR6JDVWloZYAk2KQ9IickbGPoW3ifo8uGrPn4UuT2Ut3z0Y1QrHfNmDUFqK+04C4y+hDRfoH dq7nCT4X/7dlfal9QxDEU+Hl3rJ9QI08f5GGkjO+AUhmK5lKCg== X-Google-Smtp-Source: AGHT+IFJcUv3bVUS91euB60gmYpwtvwrGNCKstudG4EMxr55BhzgwI9kyc5cEkHmdvN6IoOyoWzjX5e1rH18 X-Received: by 2002:a17:902:ce8e:b0:25c:8745:4a58 with SMTP id d9443c01a7336-27cc07ef744mr59172085ad.3.1758700428334; Wed, 24 Sep 2025 00:53:48 -0700 (PDT) Received: from postal.iol.unh.edu (postal.iol.unh.edu. [2606:4100:3880:1234::84]) by smtp-relay.gmail.com with ESMTPS id d9443c01a7336-26980045dadsm9983235ad.14.2025.09.24.00.53.48 (version=TLS1_2 cipher=ECDHE-ECDSA-AES128-GCM-SHA256 bits=128/128); Wed, 24 Sep 2025 00:53:48 -0700 (PDT) X-Relaying-Domain: iol.unh.edu Date: Wed, 24 Sep 2025 00:53:48 -0700 (PDT) Message-ID: <68d3a38c.170a0220.269f08.15abSMTPIN_ADDED_MISSING@mx.google.com> Received: from [172.21.0.3] (unknown [172.18.0.240]) by postal.iol.unh.edu (Postfix) with ESMTP id C30FA6051830; Wed, 24 Sep 2025 03:53:47 -0400 (EDT) Subject: |WARNING| [GIT MASTER] 62f583c49bf67dd4d6733ece14e55fe6839e66d1 From: dpdklab@iol.unh.edu To: Test Report Cc: dpdk-test-reports@iol.unh.edu, Xueming Li , Christian Ehrhardt , Kevin Traynor , Luca Boccassi Content-Type: text/plain X-BeenThere: test-report@dpdk.org X-Mailman-Version: 2.1.29 Precedence: list List-Id: automatic DPDK test reports List-Unsubscribe: , List-Archive: List-Post: List-Help: List-Subscribe: , Errors-To: test-report-bounces@dpdk.org _Testing issues_ Branch: tags/v23.11 62f583c49bf67dd4d6733ece14e55fe6839e66d1 --> testing issues Upstream job id: Generic-Unit-Test-DPDK#374257 Test environment and result as below: +------------------------------+----------------+--------------+------------------------------+---------------------------+ | Environment | dpdk_unit_test | lpm_autotest | cryptodev_sw_snow3g_autotest | cryptodev_sw_zuc_autotest | +==============================+================+==============+==============================+===========================+ | Fedora Linux 41 | PASS | SKIPPED | SKIPPED | SKIPPED | +------------------------------+----------------+--------------+------------------------------+---------------------------+ | Ubuntu 24.04 | PASS | SKIPPED | SKIPPED | SKIPPED | +------------------------------+----------------+--------------+------------------------------+---------------------------+ | Debian GNU/Linux 12 | PASS | SKIPPED | SKIPPED | SKIPPED | +------------------------------+----------------+--------------+------------------------------+---------------------------+ | CentOS Stream 9 | PASS | SKIPPED | SKIPPED | SKIPPED | +------------------------------+----------------+--------------+------------------------------+---------------------------+ | Fedora Linux 40 | PASS | SKIPPED | SKIPPED | SKIPPED | +------------------------------+----------------+--------------+------------------------------+---------------------------+ | Red Hat Enterprise Linux 9.5 | PASS | SKIPPED | SKIPPED | SKIPPED | +------------------------------+----------------+--------------+------------------------------+---------------------------+ | Ubuntu 20.04 | PASS | PASS | SKIPPED | SKIPPED | +------------------------------+----------------+--------------+------------------------------+---------------------------+ | CentOS Stream 10 | PASS | SKIPPED | SKIPPED | SKIPPED | +------------------------------+----------------+--------------+------------------------------+---------------------------+ | Fedora Linux 42 | PASS | SKIPPED | SKIPPED | SKIPPED | +------------------------------+----------------+--------------+------------------------------+---------------------------+ | Ubuntu 22.04 | PASS | SKIPPED | SKIPPED | SKIPPED | +------------------------------+----------------+--------------+------------------------------+---------------------------+ | Debian 12 (arm) | SKIPPED | SKIPPED | PASS | PASS | +------------------------------+----------------+--------------+------------------------------+---------------------------+ Fedora Linux 41 Kernel: 5.4 Compiler: gcc gcc (GCC) 14.3.1 20250523 (Red Hat 14.3.1-1) Ubuntu 24.04 Kernel: 5.4 Compiler: gcc gcc (Ubuntu 13.3.0-6ubuntu2~24.04) 13.3.0 Debian GNU/Linux 12 Kernel: 5.4 Compiler: gcc gcc (Debian 12.2.0-14+deb12u1) 12.2.0 CentOS Stream 9 Kernel: 5.4 Compiler: gcc gcc (GCC) 11.5.0 20240719 (Red Hat 11.5.0-11) Fedora Linux 40 Kernel: 5.4 Compiler: clang gcc (GCC) 14.2.1 20240912 (Red Hat 14.2.1-3) Red Hat Enterprise Linux 9.5 Kernel: 5.4 Compiler: gcc gcc (GCC) 11.5.0 20240719 (Red Hat 11.5.0-2) Ubuntu 20.04 Kernel: 5.4 Compiler: gcc gcc (Ubuntu 9.4.0-1ubuntu1~20.04.2) 9.4.0 CentOS Stream 10 Kernel: 5.4 Compiler: gcc gcc (GCC) 14.2.1 20250110 (Red Hat 14.2.1-8) Fedora Linux 42 Kernel: 5.4 Compiler: gcc gcc (GCC) 15.2.1 20250808 (Red Hat 15.2.1-1) Ubuntu 22.04 Kernel: 5.4 Compiler: gcc gcc (Ubuntu 11.4.0-1ubuntu1~22.04) 11.4.0 Debian 12 (arm) Kernel: Depends on container host Compiler: gcc (Debian 12.2.0-14) 12.2.0 To view detailed results, visit: https://lab.dpdk.org/results/dashboard/tarballs/34976/ UNH-IOL DPDK Community Lab To manage your email subscriptions, visit: https://lab.dpdk.org/results/dashboard/preferences/subscriptions/