From mboxrd@z Thu Jan 1 00:00:00 1970 Return-Path: Received: from mails.dpdk.org (mails.dpdk.org [217.70.189.124]) by inbox.dpdk.org (Postfix) with ESMTP id ED1AE46F67 for ; Wed, 24 Sep 2025 10:03:32 +0200 (CEST) Received: from mails.dpdk.org (localhost [127.0.0.1]) by mails.dpdk.org (Postfix) with ESMTP id E81A440289; Wed, 24 Sep 2025 10:03:32 +0200 (CEST) Received: from mail-io1-f100.google.com (mail-io1-f100.google.com [209.85.166.100]) by mails.dpdk.org (Postfix) with ESMTP id 7868940289 for ; Wed, 24 Sep 2025 10:03:31 +0200 (CEST) Received: by mail-io1-f100.google.com with SMTP id ca18e2360f4ac-8b0055cbd0fso367910939f.2 for ; Wed, 24 Sep 2025 01:03:31 -0700 (PDT) DKIM-Signature: v=1; a=rsa-sha256; c=relaxed/relaxed; d=iol.unh.edu; s=unh-iol; t=1758701011; x=1759305811; darn=dpdk.org; h=cc:to:from:subject:message-id:date:from:to:cc:subject:date :message-id:reply-to; bh=fMS6gMH2CfwPQkCD7dfFq1lcNxcrmo0aoGWVwV3uiCk=; b=jfH+6NajNb9u4QeCp/gmX1dRyeu3GmfZS35OcEO1pEf5fPGzZVepvj6QnXq6PxOI89 pCU2Q8DaUMShc1cub8jQTaagjRKj5WPjZKa56VqIjagHg3O1JBkVIrr9mc1P8iHp1C62 GB2gLjHU+bJr93WVTDtP2RQrJy0UMEnT1ThEA= X-Google-DKIM-Signature: v=1; a=rsa-sha256; c=relaxed/relaxed; d=1e100.net; s=20230601; t=1758701011; x=1759305811; h=cc:to:from:subject:message-id:date:x-gm-message-state:from:to:cc :subject:date:message-id:reply-to; bh=fMS6gMH2CfwPQkCD7dfFq1lcNxcrmo0aoGWVwV3uiCk=; b=GlwRitPN212+gLYAkkCOj3tRcYqRv59Hzcg728b1nqbKdbFthlFQ0AgrJWQI+6rbVL f93MhTh5wNnymbrXqzH93q+5H/zjsHsUjVnFwsjGqeReTmpeINlteQvJABj6PQGJdpJO cO16b4c/oje70PiT2b7cTlbgCMuN20WSoOEpCyPI1zfmJS8l9eu/k27tv2QCOXpZt3ui Z+kap96ib7EcgTmrnSmmRZ8ckeJ07FGrCaZQ/09leQFSAHAx5cP8pngpXUOhbxdLOm0T JEIaOvJy1Jr9JowNKNvBpCr0bVcn5XcvUBnVClBq7eTmkdn2vM/jXA8FUqcGAr+ll+ku B5lA== X-Gm-Message-State: AOJu0YxXYDJwhdkWdJaskcxCSnxeBJrVGkKNozgDKXRwbfgt0Ee+5U2A 2mhCiS4v4RhuB/nho0c/rM9WI9zaynFhjebDdhXC70NgFqNAW+STuPBRi4bdXLc4e+jmu0ue2bi QkfF9UU/uEhH9XQ/qeMVQpa8rgWYsbML4kWDW4gHJxgHNTp+uYqCP X-Gm-Gg: ASbGncvVAszkbd5k6+TS42b6EdMqxsWbgnQOlcf0l6JhfdTDg36J6Kkqw5jAVvjb1YT Ojx5GaI3sD31E/Vy5tQuU5j8MZWo2TDnH/Ncygk1NqK667qC9bfrvrx1cP/Zjgeb78ZGPM1WDYs Igm+NaL5y9V8cRA0hBWpFdl9cKMkBHY6DMIdTR1/V9wktAoUJytH4qOvWixMVLX2LWvuOSHHC2J lImOUmM4hcp6d0pv1q5mMvXEpDVGoy56sN0ewo7jwUhcA/fyekYNCZk07yjSWt/XGBm2QjVOA8h kSJEg6u0pNA7BkUB7AmXKmKYVrFbRjovsTrTbnJ5T9O5u66tnQ== X-Google-Smtp-Source: AGHT+IGCrVRv2kbFjFZQmrqpDqj2vbXvRvNhJObtSDEvo1rRQdHj7JfbVB2OrxbGcR1Vmd9A/JZp/H6dFIG6 X-Received: by 2002:a05:6e02:b2e:b0:410:cae9:a089 with SMTP id e9e14a558f8ab-42581df7114mr86217475ab.2.1758701010704; Wed, 24 Sep 2025 01:03:30 -0700 (PDT) Received: from postal.iol.unh.edu (postal.iol.unh.edu. [2606:4100:3880:1234::84]) by smtp-relay.gmail.com with ESMTPS id e9e14a558f8ab-4244b0aa2easm10621555ab.22.2025.09.24.01.03.30 (version=TLS1_2 cipher=ECDHE-ECDSA-AES128-GCM-SHA256 bits=128/128); Wed, 24 Sep 2025 01:03:30 -0700 (PDT) X-Relaying-Domain: iol.unh.edu Date: Wed, 24 Sep 2025 01:03:30 -0700 (PDT) Message-ID: <68d3a5d2.050a0220.1d9021.4f8fSMTPIN_ADDED_MISSING@mx.google.com> Received: from [172.21.0.2] (unknown [172.18.0.240]) by postal.iol.unh.edu (Postfix) with ESMTP id 3A1AC6051830; Wed, 24 Sep 2025 04:03:30 -0400 (EDT) Subject: |SUCCESS| [GIT MASTER] b287e404643aeab5bb5db084c142789df187844e From: dpdklab@iol.unh.edu To: Test Report Cc: dpdk-test-reports@iol.unh.edu, Xueming Li , Christian Ehrhardt , Kevin Traynor , Luca Boccassi Content-Type: text/plain X-BeenThere: test-report@dpdk.org X-Mailman-Version: 2.1.29 Precedence: list List-Id: automatic DPDK test reports List-Unsubscribe: , List-Archive: List-Post: List-Help: List-Subscribe: , Errors-To: test-report-bounces@dpdk.org _Testing PASS_ Branch: tags/v24.11 b287e404643aeab5bb5db084c142789df187844e --> testing pass Upstream job id: Generic-DPDK-Compile-Meson#427896 Test environment and result as below: +------------------------------+--------------------+ | Environment | dpdk_meson_compile | +==============================+====================+ | Red Hat Enterprise Linux 9.5 | PASS | +------------------------------+--------------------+ | Debian GNU/Linux 12 | PASS | +------------------------------+--------------------+ | Ubuntu 22.04 | PASS | +------------------------------+--------------------+ | Ubuntu 20.04 | PASS | +------------------------------+--------------------+ | Fedora Linux 42 | PASS | +------------------------------+--------------------+ | CentOS Stream 10 | PASS | +------------------------------+--------------------+ | Ubuntu 24.04 | PASS | +------------------------------+--------------------+ | CentOS Stream 9 | PASS | +------------------------------+--------------------+ Red Hat Enterprise Linux 9.5 Kernel: 5.4 Compiler: gcc gcc (GCC) 11.5.0 20240719 (Red Hat 11.5.0-2) Debian GNU/Linux 12 Kernel: 5.4 Compiler: gcc gcc (Debian 12.2.0-14+deb12u1) 12.2.0 Ubuntu 22.04 Kernel: 5.4 Compiler: gcc gcc (Ubuntu 11.4.0-1ubuntu1~22.04) 11.4.0 Ubuntu 20.04 Kernel: 5.15 Compiler: aarch64-linux-gnu-gcc gcc (Ubuntu 9.4.0-1ubuntu1~20.04.2) 9.4.0 Fedora Linux 42 Kernel: 5.4 Compiler: gcc gcc (GCC) 15.2.1 20250808 (Red Hat 15.2.1-1) CentOS Stream 10 Kernel: 5.4 Compiler: gcc gcc (GCC) 14.2.1 20250110 (Red Hat 14.2.1-8) Ubuntu 24.04 Kernel: 5.4 Compiler: gcc gcc (Ubuntu 13.3.0-6ubuntu2~24.04) 13.3.0 CentOS Stream 9 Kernel: 5.4 Compiler: gcc gcc (GCC) 11.5.0 20240719 (Red Hat 11.5.0-11) To view detailed results, visit: https://lab.dpdk.org/results/dashboard/tarballs/34977/ UNH-IOL DPDK Community Lab To manage your email subscriptions, visit: https://lab.dpdk.org/results/dashboard/preferences/subscriptions/