From mboxrd@z Thu Jan 1 00:00:00 1970 Return-Path: Received: from mails.dpdk.org (mails.dpdk.org [217.70.189.124]) by inbox.dpdk.org (Postfix) with ESMTP id C40EC46F05 for ; Wed, 24 Sep 2025 11:03:18 +0200 (CEST) Received: from mails.dpdk.org (localhost [127.0.0.1]) by mails.dpdk.org (Postfix) with ESMTP id BDEA940289; Wed, 24 Sep 2025 11:03:18 +0200 (CEST) Received: from mail-pg1-f225.google.com (mail-pg1-f225.google.com [209.85.215.225]) by mails.dpdk.org (Postfix) with ESMTP id AC1CC40289 for ; Wed, 24 Sep 2025 11:03:17 +0200 (CEST) Received: by mail-pg1-f225.google.com with SMTP id 41be03b00d2f7-b5565f0488bso1009653a12.2 for ; Wed, 24 Sep 2025 02:03:17 -0700 (PDT) DKIM-Signature: v=1; a=rsa-sha256; c=relaxed/relaxed; d=iol.unh.edu; s=unh-iol; t=1758704597; x=1759309397; darn=dpdk.org; h=references:in-reply-to:cc:to:from:subject:message-id:date:from:to :cc:subject:date:message-id:reply-to; bh=4c1URoRYbD+Qs/dhAO6TrdACZDs2T9uvVCENY3fnzpk=; b=bm72TNIDLoF1i5Ql6A0j7Npyv8JfsAX1TCFBPOyY5XYrCs5UZE14gDuBa5C6gQGf2p dQA5riC8gUdyrluy5TJvolPjuu9C2lzpj3B6Q+anWy70KudPBrIFG0pu7fntO4o/DvAv AeWDTXSwSFqb7oNlcBDQlpYESIDin4uHfIldI= X-Google-DKIM-Signature: v=1; a=rsa-sha256; c=relaxed/relaxed; d=1e100.net; s=20230601; t=1758704597; x=1759309397; h=references:in-reply-to:cc:to:from:subject:message-id:date :x-gm-message-state:from:to:cc:subject:date:message-id:reply-to; bh=4c1URoRYbD+Qs/dhAO6TrdACZDs2T9uvVCENY3fnzpk=; b=jeWs87WAOHRrzVzQ+1Mu3jzSR4FOSDLv11a7I+0r0fiMIESlED35Cl4a9eL7is+cQT SsypyWUyRMbvfdB/Ygc+7xpjhfusutLl/DAL+xXUV34euaA6TKLAT3JNN0cioGN0Jqg8 HPUbeQsozOxhbD3mlRR+udiya881YpBiIUgP4fTVbgc+4s+FHjsKmw/wL4e2xOlt1lhh 86l6ATgKKtT4o1XO7sB6/fVZuF9Sc6Fx7Q2wtJg7SXAYHcZ2PFjIrRG409XwpuH1/8v8 3v2AbwcO9PTc92BoSKyqfsFibi7SYhJmFvEjRsLjcCDHCp4C3u24gSVXSJnAHnN8YCW0 QS9A== X-Gm-Message-State: AOJu0YxRYNJ6RuUXSZdls+KwyCcXGFswSunvYzZDngquJGJ32cgUaoE8 /p+ntJfUldpKkMf1xBHGVTl1MEXY2KnQIDryg3HHr2WQzHP+bZGAcExlEPQ8QMTE8lfFd5In+zk 9iKS63vifbo4HGa9LFZYFJjVhpwBZLNyZbxuHAzob08bSTn39QX+w1jlbqY1o X-Gm-Gg: ASbGncv5n8zE+UaTZQdrDwU9bekRANiaDdmnkjEWqlKo/UwlgBPJS/58TiBhQZYkmus G679MvaWcmzDPQHcV3HKZqri9LSKKPJ0Oe0Qk67kmmIZL7p2zkH3DScjHo7mYdVbtDwrmytPfXE nnm6cRzK29bMbeOKFYh5gtCF3UCwqTqy9N53RMCGiPxfIAFoWjv+qhc2WgjkolHs8j+WqUG9tZx vwTyDLJyxSHtFdM1poKHzCZRWS6ei6B54huLTKtIIDf7M+FLsY6sA3LOp2zcdLQAAuh7Pj008wp fcIO3krvhDD9ta76bMrMhp/9J/D1e027eQqC++L0Bplvw2LqFA== X-Google-Smtp-Source: AGHT+IEOqH/Y8Lmb2OzsXut/6Mirookh/eZe5H5OqI0FLB7fowdKGqilhu4ZgSIP1fyxTWImEr2vbXW16cad X-Received: by 2002:a17:903:38cc:b0:272:c95c:866 with SMTP id d9443c01a7336-27cc41d1c16mr62354705ad.20.1758704596776; Wed, 24 Sep 2025 02:03:16 -0700 (PDT) Received: from postal.iol.unh.edu (postal.iol.unh.edu. [2606:4100:3880:1234::84]) by smtp-relay.gmail.com with ESMTPS id d9443c01a7336-26980045f1fsm10593625ad.2.2025.09.24.02.03.16 (version=TLS1_2 cipher=ECDHE-ECDSA-AES128-GCM-SHA256 bits=128/128); Wed, 24 Sep 2025 02:03:16 -0700 (PDT) X-Relaying-Domain: iol.unh.edu Date: Wed, 24 Sep 2025 02:03:16 -0700 (PDT) Message-ID: <68d3b3d4.170a0220.1de86.538dSMTPIN_ADDED_MISSING@mx.google.com> Received: from [172.21.0.2] (unknown [172.18.0.240]) by postal.iol.unh.edu (Postfix) with ESMTP id 10F0F6051830; Wed, 24 Sep 2025 05:03:16 -0400 (EDT) Subject: |SUCCESS| pw156852-156869 [PATCH] [V13,18/18] drivers/net: add hinic From: dpdklab@iol.unh.edu To: Test Report Cc: dpdk-test-reports@iol.unh.edu In-Reply-To: <20250924075216.18750-19-wff_light@vip.163.com> References: <20250924075216.18750-19-wff_light@vip.163.com> Content-Type: text/plain X-BeenThere: test-report@dpdk.org X-Mailman-Version: 2.1.29 Precedence: list List-Id: automatic DPDK test reports List-Unsubscribe: , List-Archive: List-Post: List-Help: List-Subscribe: , Errors-To: test-report-bounces@dpdk.org Test-Label: iol-unit-amd64-testing Test-Status: SUCCESS http://dpdk.org/patch/156869 _Testing PASS_ Submitter: Feifei Wang Date: Wednesday, September 24 2025 07:52:05 DPDK git baseline: Repo:dpdk Branch: master CommitID:0e03ab647d07cd985a7cac36cefff5195cc3a07d 156852-156869 --> testing pass Upstream job id: Generic-VM-Unit-Test-DPDK#31335 Test environment and result as below: +-------------------------------+----------------+ | Environment | dpdk_unit_test | +===============================+================+ | CentOS Stream 9 | PASS | +-------------------------------+----------------+ | Debian GNU/Linux 12 | PASS | +-------------------------------+----------------+ | Fedora Linux 41 | PASS | +-------------------------------+----------------+ | CentOS Stream 10 | PASS | +-------------------------------+----------------+ | Fedora Linux 40 | PASS | +-------------------------------+----------------+ | Red Hat Enterprise Linux 9.5 | PASS | +-------------------------------+----------------+ | Fedora Linux 42 | PASS | +-------------------------------+----------------+ | Windows Server 2022 | PASS | +-------------------------------+----------------+ | Red Hat Enterprise Linux 8.10 | PASS | +-------------------------------+----------------+ | Ubuntu 22.04 | PASS | +-------------------------------+----------------+ | Ubuntu 24.04 | PASS | +-------------------------------+----------------+ | Ubuntu 20.04 | PASS | +-------------------------------+----------------+ CentOS Stream 9 Kernel: 5.15 Compiler: gcc gcc (GCC) 11.5.0 20240719 (Red Hat 11.5.0-11) Debian GNU/Linux 12 Kernel: 5.15 Compiler: gcc gcc (Debian 12.2.0-14+deb12u1) 12.2.0 Fedora Linux 41 Kernel: 5.15 Compiler: gcc gcc (GCC) 14.3.1 20250523 (Red Hat 14.3.1-1) CentOS Stream 10 Kernel: 5.15 Compiler: gcc gcc (GCC) 14.2.1 20250110 (Red Hat 14.2.1-8) Fedora Linux 40 Kernel: 5.15 Compiler: gcc gcc (GCC) 14.2.1 20240912 (Red Hat 14.2.1-3) Red Hat Enterprise Linux 9.5 Kernel: 5.15 Compiler: gcc gcc (GCC) 11.5.0 20240719 (Red Hat 11.5.0-2) Fedora Linux 42 Kernel: 5.15 Compiler: clang gcc (GCC) 15.2.1 20250808 (Red Hat 15.2.1-1) Windows Server 2022 Kernel: 10.0.20348.2031 Compiler: clang 15.0.7, gcc 14.1.0 (MinGW), and MSVC VS 19.39.33521 Red Hat Enterprise Linux 8.10 Kernel: 5.15 Compiler: gcc gcc (GCC) 8.5.0 20210514 (Red Hat 8.5.0-22) Ubuntu 22.04 Kernel: 5.15 Compiler: gcc gcc (Ubuntu 11.4.0-1ubuntu1~22.04) 11.4.0 Ubuntu 24.04 Kernel: 5.15 Compiler: gcc gcc (Ubuntu 13.3.0-6ubuntu2~24.04) 13.3.0 Ubuntu 20.04 Kernel: 5.15 Compiler: gcc gcc (Ubuntu 9.4.0-1ubuntu1~20.04.2) 9.4.0 To view detailed results, visit: https://lab.dpdk.org/results/dashboard/patchsets/34129/ UNH-IOL DPDK Community Lab To manage your email subscriptions, visit: https://lab.dpdk.org/results/dashboard/preferences/subscriptions/