From mboxrd@z Thu Jan 1 00:00:00 1970 Return-Path: Received: from mails.dpdk.org (mails.dpdk.org [217.70.189.124]) by inbox.dpdk.org (Postfix) with ESMTP id F161846F05 for ; Wed, 24 Sep 2025 11:13:41 +0200 (CEST) Received: from mails.dpdk.org (localhost [127.0.0.1]) by mails.dpdk.org (Postfix) with ESMTP id ED9F74027C; Wed, 24 Sep 2025 11:13:41 +0200 (CEST) Received: from mail-pf1-f227.google.com (mail-pf1-f227.google.com [209.85.210.227]) by mails.dpdk.org (Postfix) with ESMTP id 91F614027C for ; Wed, 24 Sep 2025 11:13:41 +0200 (CEST) Received: by mail-pf1-f227.google.com with SMTP id d2e1a72fcca58-77f605f22easo1228720b3a.2 for ; Wed, 24 Sep 2025 02:13:41 -0700 (PDT) DKIM-Signature: v=1; a=rsa-sha256; c=relaxed/relaxed; d=iol.unh.edu; s=unh-iol; t=1758705221; x=1759310021; darn=dpdk.org; h=references:in-reply-to:cc:to:from:subject:message-id:date:from:to :cc:subject:date:message-id:reply-to; bh=j5VO69wPOV/m53Z7icFSvQxLZUE62XWQjEryYgcya2I=; b=aJJmOmEbjE+8FCELZVKLD8FOVJNZYd73bBJv+zu11R11AKB/yJIOm8yRMAAUlF2e3I BeHJwEbdm6FUUHuPDSCDr56v6tasZ6oukZN8AIQd0LrspPSCKjOQj/GxZfMJ970UUKSX jeWWH0HsYw20HKN6oNAXiQ1Fdi2nGdQuHRtMc= X-Google-DKIM-Signature: v=1; a=rsa-sha256; c=relaxed/relaxed; d=1e100.net; s=20230601; t=1758705221; x=1759310021; h=references:in-reply-to:cc:to:from:subject:message-id:date :x-gm-message-state:from:to:cc:subject:date:message-id:reply-to; bh=j5VO69wPOV/m53Z7icFSvQxLZUE62XWQjEryYgcya2I=; b=JzckDZRHI9f9gTqkJ6ksWLieD5Vyd3vaPmqkiTheYES3Zy4CqOMxA8CFRfObFkAtla Mu42u8ipijUq7Qache7CecqxhEGRPqlsw6Bc454ThdpFDnIUMwoqyH7009iN7zjimPVn ee5rm98X2esdYMbawNcs2iyievwoUUATLrjXPDbSXNPSr9CoOux0u81Bbi/Vb6rjI4Mt B6BwHcbpYkIxQV5EjoxN2+1ljOqH27fHBDPlU46eku0Sryn7aD24FuKrk/rzF64Tv7kR cHyfoJu4/a2HvBaLQkYP7/vTK/XCFQbRFKjMjTJQrmiwQQDyQGXUl9WpELKCr+nOusbj Q6Dw== X-Gm-Message-State: AOJu0YyPEeRwLGMhynZtK27ZQ+ZWVxOGqinzpkXu7yZrbTqP+NvMfx05 S7Mgw7GZvQ2ZRc50jXY6n3Jpb1HBMDORb3Q2tZoq5sG/bIwUMKDT1m/5HSBc5BJqpZ2OFgdGmgI 9rlY0Hd/G448EP1QH/3qUyBlHHHSuTj6BoDMvxfygT4j3 X-Gm-Gg: ASbGncvqnrzllG8nWrjNTGMtt2v6AUoM/Yd/W+4wg8ACCQqWii15U53i0K7QaeHhRfR Ny3FZ+nxqN+1lA/rH7yk2Pic/f1cLGDMwsp1PY4m6PFqOqIgNZNTLS/D4DBdnQVaccB3uqJdTIi O+TtSd44nPbHYqSNs2i10O1YfbdDTM16FbTlyWGmIE6+aTqfRs5jXIVfqG6fPav3E7gCTPsj53d SEInSUNEi6aZUTljl0i4Jl5DYEKJuzoEeFt0MUnmhXnFiYnGYY2HwRnM52t1PDhUxuJIBFIj9Td Cp9nPbmPBu3a+dCcHDQgCHIXt4qWIOjYhJHs9J1wMPle14eDIJFdiQsFyiXAGZYbwiTUNeu3 X-Google-Smtp-Source: AGHT+IFExSlj5cXvJ8e6J4V0dMyQeo2J7JJGNPj+q05oGEEN89u1N8TVFK+euuM5WoViZoDF9p8SzZNse3sN X-Received: by 2002:a17:902:e80f:b0:266:e8c3:4731 with SMTP id d9443c01a7336-27cc24e221emr67189275ad.23.1758705220778; Wed, 24 Sep 2025 02:13:40 -0700 (PDT) Received: from postal.iol.unh.edu (postal.iol.unh.edu. [132.177.123.84]) by smtp-relay.gmail.com with ESMTPS id d9443c01a7336-26980164389sm10654405ad.26.2025.09.24.02.13.40 (version=TLS1_2 cipher=ECDHE-ECDSA-AES128-GCM-SHA256 bits=128/128); Wed, 24 Sep 2025 02:13:40 -0700 (PDT) X-Relaying-Domain: iol.unh.edu Date: Wed, 24 Sep 2025 02:13:40 -0700 (PDT) Message-ID: <68d3b644.170a0220.12c1cc.4c6bSMTPIN_ADDED_MISSING@mx.google.com> Received: from [172.21.0.2] (unknown [172.18.0.240]) by postal.iol.unh.edu (Postfix) with ESMTP id 0393D6051830; Wed, 24 Sep 2025 05:13:40 -0400 (EDT) Subject: |SUCCESS| pw156851 [PATCH] rawdev: fix device ID retrieval function From: dpdklab@iol.unh.edu To: Test Report Cc: dpdk-test-reports@iol.unh.edu In-Reply-To: <20250924055654.1986682-1-nkishor@marvell.com> References: <20250924055654.1986682-1-nkishor@marvell.com> Content-Type: text/plain X-BeenThere: test-report@dpdk.org X-Mailman-Version: 2.1.29 Precedence: list List-Id: automatic DPDK test reports List-Unsubscribe: , List-Archive: List-Post: List-Help: List-Subscribe: , Errors-To: test-report-bounces@dpdk.org Test-Label: iol-unit-arm64-testing Test-Status: SUCCESS http://dpdk.org/patch/156851 _Testing PASS_ Submitter: Nawal Kishor Date: Wednesday, September 24 2025 05:56:43 DPDK git baseline: Repo:dpdk Branch: master CommitID:0e03ab647d07cd985a7cac36cefff5195cc3a07d 156851 --> testing pass Upstream job id: Generic-Unit-Test-DPDK#374303 Test environment and result as below: +------------------------------+----------------+--------------+------------------------------+---------------------------+ | Environment | dpdk_unit_test | lpm_autotest | cryptodev_sw_snow3g_autotest | cryptodev_sw_zuc_autotest | +==============================+================+==============+==============================+===========================+ | CentOS Stream 9 | PASS | SKIPPED | SKIPPED | SKIPPED | +------------------------------+----------------+--------------+------------------------------+---------------------------+ | Ubuntu 22.04 | PASS | SKIPPED | SKIPPED | SKIPPED | +------------------------------+----------------+--------------+------------------------------+---------------------------+ | Debian GNU/Linux 12 | PASS | SKIPPED | SKIPPED | SKIPPED | +------------------------------+----------------+--------------+------------------------------+---------------------------+ | Ubuntu 20.04 | PASS | PASS | SKIPPED | SKIPPED | +------------------------------+----------------+--------------+------------------------------+---------------------------+ | Ubuntu 24.04 | PASS | SKIPPED | SKIPPED | SKIPPED | +------------------------------+----------------+--------------+------------------------------+---------------------------+ | Red Hat Enterprise Linux 9.5 | PASS | SKIPPED | SKIPPED | SKIPPED | +------------------------------+----------------+--------------+------------------------------+---------------------------+ | CentOS Stream 10 | PASS | SKIPPED | SKIPPED | SKIPPED | +------------------------------+----------------+--------------+------------------------------+---------------------------+ | Fedora Linux 41 | PASS | SKIPPED | SKIPPED | SKIPPED | +------------------------------+----------------+--------------+------------------------------+---------------------------+ | Fedora Linux 40 | PASS | SKIPPED | SKIPPED | SKIPPED | +------------------------------+----------------+--------------+------------------------------+---------------------------+ | Fedora Linux 42 | PASS | SKIPPED | SKIPPED | SKIPPED | +------------------------------+----------------+--------------+------------------------------+---------------------------+ | Debian 12 (arm) | SKIPPED | SKIPPED | PASS | PASS | +------------------------------+----------------+--------------+------------------------------+---------------------------+ CentOS Stream 9 Kernel: 5.4 Compiler: gcc gcc (GCC) 11.5.0 20240719 (Red Hat 11.5.0-11) Ubuntu 22.04 Kernel: 5.4 Compiler: gcc gcc (Ubuntu 11.4.0-1ubuntu1~22.04) 11.4.0 Debian GNU/Linux 12 Kernel: 5.4 Compiler: gcc gcc (Debian 12.2.0-14+deb12u1) 12.2.0 Ubuntu 20.04 Kernel: 5.4 Compiler: gcc gcc (Ubuntu 9.4.0-1ubuntu1~20.04.2) 9.4.0 Ubuntu 24.04 Kernel: 5.4 Compiler: gcc gcc (Ubuntu 13.3.0-6ubuntu2~24.04) 13.3.0 Red Hat Enterprise Linux 9.5 Kernel: 5.4 Compiler: gcc gcc (GCC) 11.5.0 20240719 (Red Hat 11.5.0-2) CentOS Stream 10 Kernel: 5.4 Compiler: gcc gcc (GCC) 14.2.1 20250110 (Red Hat 14.2.1-8) Fedora Linux 41 Kernel: 5.4 Compiler: clang gcc (GCC) 14.3.1 20250523 (Red Hat 14.3.1-1) Fedora Linux 40 Kernel: 5.4 Compiler: gcc gcc (GCC) 14.2.1 20240912 (Red Hat 14.2.1-3) Fedora Linux 42 Kernel: 5.4 Compiler: clang gcc (GCC) 15.2.1 20250808 (Red Hat 15.2.1-1) Debian 12 (arm) Kernel: Depends on container host Compiler: gcc (Debian 12.2.0-14) 12.2.0 To view detailed results, visit: https://lab.dpdk.org/results/dashboard/patchsets/34128/ UNH-IOL DPDK Community Lab To manage your email subscriptions, visit: https://lab.dpdk.org/results/dashboard/preferences/subscriptions/