From mboxrd@z Thu Jan 1 00:00:00 1970 Return-Path: Received: from mails.dpdk.org (mails.dpdk.org [217.70.189.124]) by inbox.dpdk.org (Postfix) with ESMTP id 4613A46F05 for ; Wed, 24 Sep 2025 11:15:51 +0200 (CEST) Received: from mails.dpdk.org (localhost [127.0.0.1]) by mails.dpdk.org (Postfix) with ESMTP id 2BFAC4027C; Wed, 24 Sep 2025 11:15:51 +0200 (CEST) Received: from mail-yw1-f225.google.com (mail-yw1-f225.google.com [209.85.128.225]) by mails.dpdk.org (Postfix) with ESMTP id 841794027C for ; Wed, 24 Sep 2025 11:15:50 +0200 (CEST) Received: by mail-yw1-f225.google.com with SMTP id 00721157ae682-71d71bcab6fso63074507b3.0 for ; Wed, 24 Sep 2025 02:15:50 -0700 (PDT) DKIM-Signature: v=1; a=rsa-sha256; c=relaxed/relaxed; d=iol.unh.edu; s=unh-iol; t=1758705350; x=1759310150; darn=dpdk.org; h=references:in-reply-to:cc:to:from:subject:message-id:date:from:to :cc:subject:date:message-id:reply-to; bh=xKXjWRG76kYsfj1CRagcCFYhu1ViwXZr7bfudn6xF4Q=; b=dseqMZTbSnUrqh5fgoaZWQP1rwtSCBpFRaUZ27HUke6eYOzvl5qUka/mHBHXoHpIkc Kyb6BeIEK3c1QJELdkjvCoGvNkONjkcUBmdraG5fhldpRZ4Q4TajewxLs2JQYEl221tq D5u8ZzJ9retq9kXaijQy5ZFY3r3rifWc3o8o8= X-Google-DKIM-Signature: v=1; a=rsa-sha256; c=relaxed/relaxed; d=1e100.net; s=20230601; t=1758705350; x=1759310150; h=references:in-reply-to:cc:to:from:subject:message-id:date :x-gm-message-state:from:to:cc:subject:date:message-id:reply-to; bh=xKXjWRG76kYsfj1CRagcCFYhu1ViwXZr7bfudn6xF4Q=; b=GPZ3xnIdwyUHCI6bymkolgydc00CKYC5BCdCEMee4Fj3Y9GoEMpLLbJfxY2BykFF/s DXCLPmUnJegFRqshprCrPYCFzcts1pnNaghQMHvd1/l2L8qLwA55J8cITejQqFQyhiF1 Rcn7dklH8KZbAM763+uRamFkbL7qekyVIPKGobZibVr726UxpOR+Pl/DEU6QaV0MPLqB zAHm9mxfyVdIvGsc69t+Ifn2NT6p1fWYDJ5b/2L88pZlTI9EBA4v4bAUv2I6oOGbsbsA RcayiS5TaGq4Attn1c9m9p/PWJqljBEzIx3SdEqk14ZSC0OkrWtf++RRrO3LgaRXJORO Rb7Q== X-Gm-Message-State: AOJu0YwR1zjM12UXQlJ1DRqKe1o0IAQOwq1caR6NGlhGplqMMBPecG30 kFWGcQdQszx+WHCttNTPk8nCnF3q1lTWFQxCsyzsobEOwJO2v0PJ9rr0To6b8k8ZUFYlDNACq9i +GQwla7fcdBuL/vCdFwXhPGVDeJLRwgO1+lFGVnABQjjU X-Gm-Gg: ASbGncvmkX/ifTngAmMfA9XAa1MTwgNMeBOHfHiTdKQP4mcmHV7Av/dtj0pNORAxzIO xv7AfobCbkbA/t1lks0TCBz7moNuSITUdR7qJ/1kvBBzfcNxeKEjE+0EvdCUDB2KXEppuzMtVl4 Zo6499jka/y7eNkEtAd77Tkjj8Z1beARGLGWy2l+hlw5jqMvwr+4txBlYDaf8LM9xqIYDO5CAuQ 2YH9IYqh456zDTe8yVu/iCQMCE9mbddqtiUZoOlDNk+OoQSwNd/nXa2PqSqBXRUfLtSC4AreEU6 vzWKCuvRGC/vs2BYDAnZqO8uYjOoZI0cQ+cEbq4b5DrYaxGRVhHseZ6YjEiZ+IpFLENkUUhL X-Google-Smtp-Source: AGHT+IGFfxEmLF7HiuyIuJCb2L+FwJ2mGE7LfP07FBS43LOHVUeSHtMLsFJhExEP281VODm4uePkWft2cR6F X-Received: by 2002:a05:690c:998f:b0:72a:b548:f4f6 with SMTP id 00721157ae682-7589380b772mr52655297b3.10.1758705349827; Wed, 24 Sep 2025 02:15:49 -0700 (PDT) Received: from postal.iol.unh.edu (postal.iol.unh.edu. [132.177.123.84]) by smtp-relay.gmail.com with ESMTPS id 00721157ae682-7397198834asm7149717b3.39.2025.09.24.02.15.49 (version=TLS1_2 cipher=ECDHE-ECDSA-AES128-GCM-SHA256 bits=128/128); Wed, 24 Sep 2025 02:15:49 -0700 (PDT) X-Relaying-Domain: iol.unh.edu Date: Wed, 24 Sep 2025 02:15:49 -0700 (PDT) Message-ID: <68d3b6c5.050a0220.21a51e.d97aSMTPIN_ADDED_MISSING@mx.google.com> Received: from [172.21.0.2] (unknown [172.18.0.240]) by postal.iol.unh.edu (Postfix) with ESMTP id 776146051830; Wed, 24 Sep 2025 05:15:49 -0400 (EDT) Subject: |SUCCESS| pw156852-156869 [PATCH] [V13,18/18] drivers/net: add hinic From: dpdklab@iol.unh.edu To: Test Report Cc: dpdk-test-reports@iol.unh.edu In-Reply-To: <20250924075216.18750-19-wff_light@vip.163.com> References: <20250924075216.18750-19-wff_light@vip.163.com> Content-Type: text/plain X-BeenThere: test-report@dpdk.org X-Mailman-Version: 2.1.29 Precedence: list List-Id: automatic DPDK test reports List-Unsubscribe: , List-Archive: List-Post: List-Help: List-Subscribe: , Errors-To: test-report-bounces@dpdk.org Test-Label: iol-compile-amd64-testing Test-Status: SUCCESS http://dpdk.org/patch/156869 _Testing PASS_ Submitter: Feifei Wang Date: Wednesday, September 24 2025 07:52:05 DPDK git baseline: Repo:dpdk Branch: master CommitID:0e03ab647d07cd985a7cac36cefff5195cc3a07d 156852-156869 --> testing pass Upstream job id: Generic-DPDK-Compile-Meson#427998 Test environment and result as below: +-------------------------------+--------------------+-------------------+------------------+-------------------------+-------------------+----------------------+ | Environment | dpdk_meson_compile | dpdk_compile_spdk | dpdk_compile_ovs | dpdk_llvm_clang_compile | dpdk_msvc_compile | dpdk_mingw64_compile | +===============================+====================+===================+==================+=========================+===================+======================+ | CentOS Stream 9 | PASS | PASS | SKIPPED | SKIPPED | SKIPPED | SKIPPED | +-------------------------------+--------------------+-------------------+------------------+-------------------------+-------------------+----------------------+ | Debian GNU/Linux 12 | PASS | PASS | SKIPPED | SKIPPED | SKIPPED | SKIPPED | +-------------------------------+--------------------+-------------------+------------------+-------------------------+-------------------+----------------------+ | CentOS Stream 10 | PASS | SKIPPED | SKIPPED | SKIPPED | SKIPPED | SKIPPED | +-------------------------------+--------------------+-------------------+------------------+-------------------------+-------------------+----------------------+ | Fedora Linux 42 | PASS | PASS | PASS | SKIPPED | SKIPPED | SKIPPED | +-------------------------------+--------------------+-------------------+------------------+-------------------------+-------------------+----------------------+ | Red Hat Enterprise Linux 9.5 | PASS | SKIPPED | SKIPPED | SKIPPED | SKIPPED | SKIPPED | +-------------------------------+--------------------+-------------------+------------------+-------------------------+-------------------+----------------------+ | Ubuntu 20.04 | PASS | SKIPPED | SKIPPED | SKIPPED | SKIPPED | SKIPPED | +-------------------------------+--------------------+-------------------+------------------+-------------------------+-------------------+----------------------+ | openSUSE Leap 15.6 | PASS | SKIPPED | SKIPPED | SKIPPED | SKIPPED | SKIPPED | +-------------------------------+--------------------+-------------------+------------------+-------------------------+-------------------+----------------------+ | Red Hat Enterprise Linux 8.10 | PASS | SKIPPED | SKIPPED | SKIPPED | SKIPPED | SKIPPED | +-------------------------------+--------------------+-------------------+------------------+-------------------------+-------------------+----------------------+ | Ubuntu 22.04 | PASS | PASS | SKIPPED | SKIPPED | SKIPPED | SKIPPED | +-------------------------------+--------------------+-------------------+------------------+-------------------------+-------------------+----------------------+ | FreeBSD 14.2 | PASS | SKIPPED | SKIPPED | SKIPPED | SKIPPED | SKIPPED | +-------------------------------+--------------------+-------------------+------------------+-------------------------+-------------------+----------------------+ | Ubuntu 24.04 | PASS | PASS | PASS | SKIPPED | SKIPPED | SKIPPED | +-------------------------------+--------------------+-------------------+------------------+-------------------------+-------------------+----------------------+ | Alpine Linux 3.22.0 | PASS | SKIPPED | SKIPPED | SKIPPED | SKIPPED | SKIPPED | +-------------------------------+--------------------+-------------------+------------------+-------------------------+-------------------+----------------------+ | Windows Server 2022 | SKIPPED | SKIPPED | SKIPPED | PASS | PASS | PASS | +-------------------------------+--------------------+-------------------+------------------+-------------------------+-------------------+----------------------+ CentOS Stream 9 Kernel: 5.15 Compiler: gcc gcc (GCC) 11.5.0 20240719 (Red Hat 11.5.0-11) Debian GNU/Linux 12 Kernel: 5.15 Compiler: gcc gcc (Debian 12.2.0-14+deb12u1) 12.2.0 CentOS Stream 10 Kernel: 5.15 Compiler: gcc gcc (GCC) 14.2.1 20250110 (Red Hat 14.2.1-8) Fedora Linux 42 Kernel: 5.15 Compiler: gcc gcc (GCC) 15.2.1 20250808 (Red Hat 15.2.1-1) Red Hat Enterprise Linux 9.5 Kernel: 5.15 Compiler: gcc gcc (GCC) 11.5.0 20240719 (Red Hat 11.5.0-2) Ubuntu 20.04 Kernel: 5.15 Compiler: gcc gcc (Ubuntu 9.4.0-1ubuntu1~20.04.2) 9.4.0 openSUSE Leap 15.6 Kernel: 5.15 Compiler: gcc gcc (SUSE Linux) 7.5.0 Red Hat Enterprise Linux 8.10 Kernel: 5.15 Compiler: gcc gcc (GCC) 8.5.0 20210514 (Red Hat 8.5.0-22) Ubuntu 22.04 Kernel: 5.15 Compiler: gcc gcc (Ubuntu 11.4.0-1ubuntu1~22.04) 11.4.0 FreeBSD 14.2 Kernel: 14.2-RELEASE Compiler: clang 18.1.6 Ubuntu 24.04 Kernel: 5.15 Compiler: gcc gcc (Ubuntu 13.3.0-6ubuntu2~24.04) 13.3.0 Alpine Linux 3.22.0 Kernel: 5.15 Compiler: gcc gcc (Alpine 14.2.0) 14.2.0 Windows Server 2022 Kernel: 10.0.20348.2031 Compiler: clang 15.0.7, gcc 14.1.0 (MinGW), and MSVC VS 19.39.33521 To view detailed results, visit: https://lab.dpdk.org/results/dashboard/patchsets/34129/ UNH-IOL DPDK Community Lab To manage your email subscriptions, visit: https://lab.dpdk.org/results/dashboard/preferences/subscriptions/