From mboxrd@z Thu Jan 1 00:00:00 1970 Return-Path: Received: from mails.dpdk.org (mails.dpdk.org [217.70.189.124]) by inbox.dpdk.org (Postfix) with ESMTP id C945846F05 for ; Wed, 24 Sep 2025 11:35:39 +0200 (CEST) Received: from mails.dpdk.org (localhost [127.0.0.1]) by mails.dpdk.org (Postfix) with ESMTP id C37E74027C; Wed, 24 Sep 2025 11:35:39 +0200 (CEST) Received: from mail-il1-f227.google.com (mail-il1-f227.google.com [209.85.166.227]) by mails.dpdk.org (Postfix) with ESMTP id 58E184027C for ; Wed, 24 Sep 2025 11:35:39 +0200 (CEST) Received: by mail-il1-f227.google.com with SMTP id e9e14a558f8ab-4258bd8c19bso7158185ab.2 for ; Wed, 24 Sep 2025 02:35:39 -0700 (PDT) DKIM-Signature: v=1; a=rsa-sha256; c=relaxed/relaxed; d=iol.unh.edu; s=unh-iol; t=1758706538; x=1759311338; darn=dpdk.org; h=references:in-reply-to:cc:to:from:subject:message-id:date:from:to :cc:subject:date:message-id:reply-to; bh=SrN+hDCaUgMjUqXbxJHHqg9yHBcR9QEhlkW8DPjquYU=; b=BJqFzViKinV+anC4G5mruJPBeCFIPmrAYBSOYFnRgyfIYeKNfsjzvgrtAU0aJ6uX33 wGU2f8oV+xT2o2YrhP6V4I0dIf1tmWPng1/jSHwgsdd00KnXsnH3/qyC0hPUnDZWKvy7 6sXYOtZiMPodOa6/fihS8ELWqDmEaifV1MeQs= X-Google-DKIM-Signature: v=1; a=rsa-sha256; c=relaxed/relaxed; d=1e100.net; s=20230601; t=1758706538; x=1759311338; h=references:in-reply-to:cc:to:from:subject:message-id:date :x-gm-message-state:from:to:cc:subject:date:message-id:reply-to; bh=SrN+hDCaUgMjUqXbxJHHqg9yHBcR9QEhlkW8DPjquYU=; b=YffkjMWOZ6lh+uRkA5JIGPPBnhGoEK5JRNZvXlZenlfj05QUwR4D+OVvOqfjaAxVpq 3+Xmbk3g3Rpznkb9q5ctDlxEKr6z9prNZOArhJn/bkep8ylSaNvUB88A90+T/k/0KHHO E2erBwRLx/U0NaeoMgpoIX8zYWjqxZY7wfKkssSe8RM+g8WrZdkv/GwTugpYVx19oxpI JysX2ZaEwkgXs8xgNXxbV7GWsZSsseEhHAywzFtMEId88ve09Rzoo85ycWoS5GBTBoIY exy1fDDL3O5d392cHL6HxOv43yp5TEXcO5v1XV6bDp85pEyZBld8k/5cMHBQOgWka/Jc Zfcg== X-Gm-Message-State: AOJu0YwAQLUKv/38P1D/LGuk088Xcjmg0z0uNH7H4Ifq1aayakOuXHX3 3DqoXYErqD7vHDDJbZxjhx34zTqiz5CMxjWpJbdxhQGQkcJ7NEwT4eaUpjiWR76qawNjcddqMJk RwUOEfBeLt7apjUSS/TNY4Q9ZsuPMC5XMDuA8+gRfx9as X-Gm-Gg: ASbGncvqapDmXgOnCZugBE3dj2/jdVKUIHizZVMcjmFj2CeN5Z6YZujd+jC+l6t371h aGxmJ0ofRVi6zn3+kMiqTLkonQ4vN1soHW7rOGOqPFQ+MpYPlUSdnEG5rJYk5CdzcBJQNuKYdq4 O8mstb8L1sziMHFW3IyrgHU4EWZeCUXGO08Z/1tIDU5zgtWPzRah/tzutNYzF7Ly1IUewcBeimc wrCpT4ZeyAt6JBup19A4TXyJkqQAHeiAPV0cTYQUDxamr2XBW4ra+qSqCCVsRbd8m8yontPP7vO i3XVXukwuQcnLk3WttxrDOSSMFhQos1DuaFO1Fgh7qPwq08+9B0oiLLAmq0EcaIJxEP5edZl X-Google-Smtp-Source: AGHT+IGshM38EUJDlKtrx1luh1jiG3cC7mzOcRPtslfGLhh+ZUKZJMaVCSDzq6jlomDxJFqWn+j5ZNHXlgIp X-Received: by 2002:a05:6e02:12e4:b0:424:8c2d:ca3b with SMTP id e9e14a558f8ab-42581e8ef78mr94941975ab.28.1758706538683; Wed, 24 Sep 2025 02:35:38 -0700 (PDT) Received: from postal.iol.unh.edu (postal.iol.unh.edu. [132.177.123.84]) by smtp-relay.gmail.com with ESMTPS id 8926c6da1cb9f-53d50aa6517sm909778173.24.2025.09.24.02.35.38 (version=TLS1_2 cipher=ECDHE-ECDSA-AES128-GCM-SHA256 bits=128/128); Wed, 24 Sep 2025 02:35:38 -0700 (PDT) X-Relaying-Domain: iol.unh.edu Date: Wed, 24 Sep 2025 02:35:38 -0700 (PDT) Message-ID: <68d3bb6a.050a0220.1fab00.b034SMTPIN_ADDED_MISSING@mx.google.com> Received: from [172.21.0.2] (unknown [172.18.0.240]) by postal.iol.unh.edu (Postfix) with ESMTP id 422AB6051830; Wed, 24 Sep 2025 05:35:38 -0400 (EDT) Subject: |SUCCESS| pw156870 [PATCH] [v1] net/zxdh: support multiple PF proces From: dpdklab@iol.unh.edu To: Test Report Cc: dpdk-test-reports@iol.unh.edu In-Reply-To: <20250924082331.39962-1-zhang.tianhao2@zte.com.cn> References: <20250924082331.39962-1-zhang.tianhao2@zte.com.cn> Content-Type: text/plain X-BeenThere: test-report@dpdk.org X-Mailman-Version: 2.1.29 Precedence: list List-Id: automatic DPDK test reports List-Unsubscribe: , List-Archive: List-Post: List-Help: List-Subscribe: , Errors-To: test-report-bounces@dpdk.org Test-Label: iol-unit-amd64-testing Test-Status: SUCCESS http://dpdk.org/patch/156870 _Testing PASS_ Submitter: Tianhao Zhang Date: Wednesday, September 24 2025 08:23:31 DPDK git baseline: Repo:dpdk Branch: master CommitID:0e03ab647d07cd985a7cac36cefff5195cc3a07d 156870 --> testing pass Upstream job id: Generic-VM-Unit-Test-DPDK#31336 Test environment and result as below: +-------------------------------+----------------+ | Environment | dpdk_unit_test | +===============================+================+ | CentOS Stream 9 | PASS | +-------------------------------+----------------+ | Red Hat Enterprise Linux 8.10 | PASS | +-------------------------------+----------------+ | Fedora Linux 40 | PASS | +-------------------------------+----------------+ | Fedora Linux 42 | PASS | +-------------------------------+----------------+ | Fedora Linux 41 | PASS | +-------------------------------+----------------+ | Ubuntu 22.04 | PASS | +-------------------------------+----------------+ | Ubuntu 20.04 | PASS | +-------------------------------+----------------+ | CentOS Stream 10 | PASS | +-------------------------------+----------------+ | Debian GNU/Linux 12 | PASS | +-------------------------------+----------------+ | Ubuntu 24.04 | PASS | +-------------------------------+----------------+ | Red Hat Enterprise Linux 9.5 | PASS | +-------------------------------+----------------+ | Windows Server 2022 | PASS | +-------------------------------+----------------+ CentOS Stream 9 Kernel: 5.15 Compiler: gcc gcc (GCC) 11.5.0 20240719 (Red Hat 11.5.0-11) Red Hat Enterprise Linux 8.10 Kernel: 5.15 Compiler: gcc gcc (GCC) 8.5.0 20210514 (Red Hat 8.5.0-22) Fedora Linux 40 Kernel: 5.15 Compiler: gcc gcc (GCC) 14.2.1 20240912 (Red Hat 14.2.1-3) Fedora Linux 42 Kernel: 5.15 Compiler: gcc gcc (GCC) 15.2.1 20250808 (Red Hat 15.2.1-1) Fedora Linux 41 Kernel: 5.15 Compiler: clang gcc (GCC) 14.3.1 20250523 (Red Hat 14.3.1-1) Ubuntu 22.04 Kernel: 5.15 Compiler: gcc gcc (Ubuntu 11.4.0-1ubuntu1~22.04) 11.4.0 Ubuntu 20.04 Kernel: 5.15 Compiler: gcc gcc (Ubuntu 9.4.0-1ubuntu1~20.04.2) 9.4.0 CentOS Stream 10 Kernel: 5.15 Compiler: gcc gcc (GCC) 14.2.1 20250110 (Red Hat 14.2.1-8) Debian GNU/Linux 12 Kernel: 5.15 Compiler: gcc gcc (Debian 12.2.0-14+deb12u1) 12.2.0 Ubuntu 24.04 Kernel: 5.15 Compiler: gcc gcc (Ubuntu 13.3.0-6ubuntu2~24.04) 13.3.0 Red Hat Enterprise Linux 9.5 Kernel: 5.15 Compiler: gcc gcc (GCC) 11.5.0 20240719 (Red Hat 11.5.0-2) Windows Server 2022 Kernel: 10.0.20348.2031 Compiler: clang 15.0.7, gcc 14.1.0 (MinGW), and MSVC VS 19.39.33521 To view detailed results, visit: https://lab.dpdk.org/results/dashboard/patchsets/34130/ UNH-IOL DPDK Community Lab To manage your email subscriptions, visit: https://lab.dpdk.org/results/dashboard/preferences/subscriptions/