From mboxrd@z Thu Jan 1 00:00:00 1970 Return-Path: Received: from mails.dpdk.org (mails.dpdk.org [217.70.189.124]) by inbox.dpdk.org (Postfix) with ESMTP id AC71046F05 for ; Wed, 24 Sep 2025 11:41:05 +0200 (CEST) Received: from mails.dpdk.org (localhost [127.0.0.1]) by mails.dpdk.org (Postfix) with ESMTP id A6432402C1; Wed, 24 Sep 2025 11:41:05 +0200 (CEST) Received: from mail-io1-f98.google.com (mail-io1-f98.google.com [209.85.166.98]) by mails.dpdk.org (Postfix) with ESMTP id 6A8BE402C1 for ; Wed, 24 Sep 2025 11:41:04 +0200 (CEST) Received: by mail-io1-f98.google.com with SMTP id ca18e2360f4ac-88c347db574so220533639f.0 for ; Wed, 24 Sep 2025 02:41:04 -0700 (PDT) DKIM-Signature: v=1; a=rsa-sha256; c=relaxed/relaxed; d=iol.unh.edu; s=unh-iol; t=1758706864; x=1759311664; darn=dpdk.org; h=references:in-reply-to:cc:to:from:subject:message-id:date:from:to :cc:subject:date:message-id:reply-to; bh=aDVgKO1rCVhFBfEhRo6UOlEJzC1xSOJtgvuZlyKRNs8=; b=aWqhBbBVkGdcrQIlfxyEhtRR/e6IZjYRaH7gn3zH88RB+EidJniih5Au6K5azxX9Vy QX0UMSTP70VfdjALF69VJfkagOBfL9Ll8E8Gf/54/xzWx1rALiZ37PdAjeu9/EDYS8TH HoxQN01e+Xrag2h01tcRf+EDIpi114mu8oxko= X-Google-DKIM-Signature: v=1; a=rsa-sha256; c=relaxed/relaxed; d=1e100.net; s=20230601; t=1758706864; x=1759311664; h=references:in-reply-to:cc:to:from:subject:message-id:date :x-gm-message-state:from:to:cc:subject:date:message-id:reply-to; bh=aDVgKO1rCVhFBfEhRo6UOlEJzC1xSOJtgvuZlyKRNs8=; b=H6Hry6XpXw8+gR88QpvQpB3eKm23okpOMT2djHhAcPN8CITlBSi618CTKivPCrwpET nh54xk9vMRWqPjOz+KL4BVfa/aF9NbfgyGqnOosZUK9qBhsYL789VtQXgBE9uyMwdqgo 4ToWrodiDmZ34sU6nA22Z7H2kQvfI5mU9pIljGZvRjRpFB5ieV20EniK/RL3EV824c3d hEzQHpRQNCaEU3Posy7BY4z1Dq5O0gi+kb5M4DF32qL3+KtRcvpVERrkjWgySk9ro3eS RPHTAdxZIWhfp/AIaj7T1tveWVfLRpwYQtOOAu0fdWINxOCbLp3M/PpKgtAXEILI51zh GUQg== X-Gm-Message-State: AOJu0Yw6iwElapti1aVGCLvE2BzlPGgKra1CJjikSYUfOQIdSsHpXKO0 8AOV1b7H4sapQz6G9YIwctZkUudSecN7Vi3VgHxAtfyzvenwwku9s+FvEdM8iSMviuVet6p7ov0 YKUP8owb6v2IL3s8Y4rRHDBYuKvyuLHYxhl1pDquf59hy X-Gm-Gg: ASbGnctR4sEfYnKZi1NazEYb+mzKTw6tDu2DILLfWRs4ZTBBNNyiLYO5PNG7qlXz8Ue tw43qCl+q2R4pWuGQ46RSf+obg6UZIWmcmmJNhSvtpou8IkRaH84UNMkEKoApegbRomswgidWdK ZtdSsBgYNp+nZmdrk5meIFeNC1KZfLCe5VGtxc/f0AbmzhCW06+LHPq8QsKW12e5LDjl5QU/cTV D22FHTGmF7UiYJiJ+0iQehZx+sOdBN2x88uBaXUkueB77G0HhadrvmGonB46VTAr+fXKy5KSZHV fkQsoDiGNoVeNJ0n2sy7NF+ssjnDekI5V9mFvFGD03cnJj5TGOmQzKC57yJapQGjJ+mGWU/Q X-Google-Smtp-Source: AGHT+IEELKS3F31XjVxOGJYfmYlwoM8/j9+lQcMLYB+30vCP/8HwPj7yhG5EC90zGCBe42rIhl142ivpoFQB X-Received: by 2002:a05:6602:1689:b0:893:666b:2d0e with SMTP id ca18e2360f4ac-8e1ca590820mr943576139f.6.1758706863729; Wed, 24 Sep 2025 02:41:03 -0700 (PDT) Received: from postal.iol.unh.edu (postal.iol.unh.edu. [132.177.123.84]) by smtp-relay.gmail.com with ESMTPS id ca18e2360f4ac-8a46d66bf79sm79240939f.7.2025.09.24.02.41.03 (version=TLS1_2 cipher=ECDHE-ECDSA-AES128-GCM-SHA256 bits=128/128); Wed, 24 Sep 2025 02:41:03 -0700 (PDT) X-Relaying-Domain: iol.unh.edu Date: Wed, 24 Sep 2025 02:41:03 -0700 (PDT) Message-ID: <68d3bcaf.5d0a0220.34e30d.2a4eSMTPIN_ADDED_MISSING@mx.google.com> Received: from [172.21.0.2] (unknown [172.18.0.240]) by postal.iol.unh.edu (Postfix) with ESMTP id 43CD86051830; Wed, 24 Sep 2025 05:41:03 -0400 (EDT) Subject: |SUCCESS| pw156870 [PATCH] [v1] net/zxdh: support multiple PF proces From: dpdklab@iol.unh.edu To: Test Report Cc: dpdk-test-reports@iol.unh.edu In-Reply-To: <20250924082331.39962-1-zhang.tianhao2@zte.com.cn> References: <20250924082331.39962-1-zhang.tianhao2@zte.com.cn> Content-Type: text/plain X-BeenThere: test-report@dpdk.org X-Mailman-Version: 2.1.29 Precedence: list List-Id: automatic DPDK test reports List-Unsubscribe: , List-Archive: List-Post: List-Help: List-Subscribe: , Errors-To: test-report-bounces@dpdk.org Test-Label: iol-unit-amd64-testing Test-Status: SUCCESS http://dpdk.org/patch/156870 _Testing PASS_ Submitter: Tianhao Zhang Date: Wednesday, September 24 2025 08:23:31 DPDK git baseline: Repo:dpdk Branch: master CommitID:0e03ab647d07cd985a7cac36cefff5195cc3a07d 156870 --> testing pass Upstream job id: Generic-VM-Unit-Test-DPDK#31337 Test environment and result as below: +-------------------------------+----------------+ | Environment | dpdk_unit_test | +===============================+================+ | CentOS Stream 9 | PASS | +-------------------------------+----------------+ | Red Hat Enterprise Linux 8.10 | PASS | +-------------------------------+----------------+ | Fedora Linux 40 | PASS | +-------------------------------+----------------+ | Fedora Linux 42 | PASS | +-------------------------------+----------------+ | Fedora Linux 41 | PASS | +-------------------------------+----------------+ | Ubuntu 22.04 | PASS | +-------------------------------+----------------+ | Ubuntu 20.04 | PASS | +-------------------------------+----------------+ | CentOS Stream 10 | PASS | +-------------------------------+----------------+ | Debian GNU/Linux 12 | PASS | +-------------------------------+----------------+ | Ubuntu 24.04 | PASS | +-------------------------------+----------------+ | Red Hat Enterprise Linux 9.5 | PASS | +-------------------------------+----------------+ | Windows Server 2022 | PASS | +-------------------------------+----------------+ CentOS Stream 9 Kernel: 5.15 Compiler: gcc gcc (GCC) 11.5.0 20240719 (Red Hat 11.5.0-11) Red Hat Enterprise Linux 8.10 Kernel: 5.15 Compiler: gcc gcc (GCC) 8.5.0 20210514 (Red Hat 8.5.0-22) Fedora Linux 40 Kernel: 5.15 Compiler: gcc gcc (GCC) 14.2.1 20240912 (Red Hat 14.2.1-3) Fedora Linux 42 Kernel: 5.15 Compiler: gcc gcc (GCC) 15.2.1 20250808 (Red Hat 15.2.1-1) Fedora Linux 41 Kernel: 5.15 Compiler: clang gcc (GCC) 14.3.1 20250523 (Red Hat 14.3.1-1) Ubuntu 22.04 Kernel: 5.15 Compiler: gcc gcc (Ubuntu 11.4.0-1ubuntu1~22.04) 11.4.0 Ubuntu 20.04 Kernel: 5.15 Compiler: gcc gcc (Ubuntu 9.4.0-1ubuntu1~20.04.2) 9.4.0 CentOS Stream 10 Kernel: 5.15 Compiler: gcc gcc (GCC) 14.2.1 20250110 (Red Hat 14.2.1-8) Debian GNU/Linux 12 Kernel: 5.15 Compiler: gcc gcc (Debian 12.2.0-14+deb12u1) 12.2.0 Ubuntu 24.04 Kernel: 5.15 Compiler: gcc gcc (Ubuntu 13.3.0-6ubuntu2~24.04) 13.3.0 Red Hat Enterprise Linux 9.5 Kernel: 5.15 Compiler: gcc gcc (GCC) 11.5.0 20240719 (Red Hat 11.5.0-2) Windows Server 2022 Kernel: 10.0.20348.2031 Compiler: clang 15.0.7, gcc 14.1.0 (MinGW), and MSVC VS 19.39.33521 To view detailed results, visit: https://lab.dpdk.org/results/dashboard/patchsets/34130/ UNH-IOL DPDK Community Lab To manage your email subscriptions, visit: https://lab.dpdk.org/results/dashboard/preferences/subscriptions/