From mboxrd@z Thu Jan 1 00:00:00 1970 Return-Path: Received: from mails.dpdk.org (mails.dpdk.org [217.70.189.124]) by inbox.dpdk.org (Postfix) with ESMTP id 326BE46F05 for ; Wed, 24 Sep 2025 11:52:08 +0200 (CEST) Received: from mails.dpdk.org (localhost [127.0.0.1]) by mails.dpdk.org (Postfix) with ESMTP id 12A7A40289; Wed, 24 Sep 2025 11:52:08 +0200 (CEST) Received: from mail-io1-f98.google.com (mail-io1-f98.google.com [209.85.166.98]) by mails.dpdk.org (Postfix) with ESMTP id 059A540289 for ; Wed, 24 Sep 2025 11:52:05 +0200 (CEST) Received: by mail-io1-f98.google.com with SMTP id ca18e2360f4ac-88cdb27571eso222313339f.0 for ; Wed, 24 Sep 2025 02:52:05 -0700 (PDT) DKIM-Signature: v=1; a=rsa-sha256; c=relaxed/relaxed; d=iol.unh.edu; s=unh-iol; t=1758707525; x=1759312325; darn=dpdk.org; h=references:in-reply-to:cc:to:from:subject:message-id:date:from:to :cc:subject:date:message-id:reply-to; bh=uOJp43chWYxgJkh0WdBLzRy7mq2hYxR0OlpawZj6euY=; b=A+YJqSYwVolq5ETEtuV0obZ9HJVC1dvebvS6IIjLn9bqJKpXl60cElHSHhG1RJSDoA Z+g2VGkNdCKepQAmOgqMr2TNnwF6Bb1jEuYdAl7YsVIn+y0E2udRvoay2zXoJcCvWjRZ BsgrsjoJdGrs9JwTKeXUneMkLSJj2ih8WLRo0= X-Google-DKIM-Signature: v=1; a=rsa-sha256; c=relaxed/relaxed; d=1e100.net; s=20230601; t=1758707525; x=1759312325; h=references:in-reply-to:cc:to:from:subject:message-id:date :x-gm-message-state:from:to:cc:subject:date:message-id:reply-to; bh=uOJp43chWYxgJkh0WdBLzRy7mq2hYxR0OlpawZj6euY=; b=PjbUJ7Ri904si/HFT+P4bsw1fx98fo5U/PINikfZq7QsqwU9IDjUBZzLj+6tFx/fQu Y/1rDF2IvP4a/oQup94xgQWnpyP/fKWOerGi8lSNJBQGHqyMttytlmNpZZeXIxY4aU7R P7HSClfVONrHHQzxSQ67wiwyzSyDESAK2xB3HK13Zl+W8XFhsJIBKL8WOHu8p13PEeCY Kadbnm9VVl1zPM+HDU+W7CyoIDntAkZaRe4IfwGbPMwTC6KsOTW6U3S7PeEwjOYvnE5b m3yaVcK0zJPLcA0/hiQoX+oR3/YTprZZPtMqtYeLfeN6PzvknSD1EVwEq+cJB8i4EqSe VPdg== X-Gm-Message-State: AOJu0YyVlMO7RfF01bezD6CcC1zFcwGRi8Eg3LAtNx04EazAg/X6O/tT 0ngROTF2K/pOtqGMynpEdRsLZiG0yMBHPJooaUOeqOPNpXhXecKJpeBuoPV7sGOTBBv6LfxM8W4 XDobSLQXnK9OjFbcpCtuE6hAW3wZp/8DZL8voGWsFo5ICdYqy5mCCEVCyJ3j2 X-Gm-Gg: ASbGncvDWDBlJvGKGKvOKSdwLZg/jGXXdByDIYXoQqKdcsOj0ZLNGlsl+jDiVlyKCIl eRxfQs2Kv6NCZHN9jwmuao0jy8y+e3yapFsMmxbx1YArfIPlNEVHlIZVlI77hHxBhlnNrXcQX3k 6GDzrL+yELt9VvRszyxQxm6enoIGYy1hNzc9OvmlDly5ACjRn822aOp/VIKqE6UpQsXfJmbSFZv A3u4zqjCLUAmhxZ2dOkyN8zmvW7HiXZoJ1GwC43WapeMvtX12bMwLsNZ4p7wI4xpXpeVsbsDl1O EIy2deqka6PypqdzOEti6CJWzv0st1jgSd9XsqyC995iwT50DQ== X-Google-Smtp-Source: AGHT+IFdyD27hwStjgGZrjYiyrQ94Gy5m2tK4JFXSCtR6B7uTrgb63KWKUbaCzGZ9PfddmIw1L7TFbVp67nP X-Received: by 2002:a05:6602:c84:b0:881:87ac:24a with SMTP id ca18e2360f4ac-8e1ffb3d359mr1122884439f.7.1758707525168; Wed, 24 Sep 2025 02:52:05 -0700 (PDT) Received: from postal.iol.unh.edu (postal.iol.unh.edu. [2606:4100:3880:1234::84]) by smtp-relay.gmail.com with ESMTPS id 8926c6da1cb9f-5590535f7bdsm535722173.44.2025.09.24.02.52.05 (version=TLS1_2 cipher=ECDHE-ECDSA-AES128-GCM-SHA256 bits=128/128); Wed, 24 Sep 2025 02:52:05 -0700 (PDT) X-Relaying-Domain: iol.unh.edu Date: Wed, 24 Sep 2025 02:52:05 -0700 (PDT) Message-ID: <68d3bf45.050a0220.72b49.3b52SMTPIN_ADDED_MISSING@mx.google.com> Received: from [172.21.0.2] (unknown [172.18.0.240]) by postal.iol.unh.edu (Postfix) with ESMTP id C92016051830; Wed, 24 Sep 2025 05:52:04 -0400 (EDT) Subject: |SUCCESS| pw156851 [PATCH] rawdev: fix device ID retrieval function From: dpdklab@iol.unh.edu To: Test Report Cc: dpdk-test-reports@iol.unh.edu In-Reply-To: <20250924055654.1986682-1-nkishor@marvell.com> References: <20250924055654.1986682-1-nkishor@marvell.com> Content-Type: text/plain X-BeenThere: test-report@dpdk.org X-Mailman-Version: 2.1.29 Precedence: list List-Id: automatic DPDK test reports List-Unsubscribe: , List-Archive: List-Post: List-Help: List-Subscribe: , Errors-To: test-report-bounces@dpdk.org Test-Label: iol-compile-arm64-testing Test-Status: SUCCESS http://dpdk.org/patch/156851 _Testing PASS_ Submitter: Nawal Kishor Date: Wednesday, September 24 2025 05:56:43 DPDK git baseline: Repo:dpdk Branch: master CommitID:0e03ab647d07cd985a7cac36cefff5195cc3a07d 156851 --> testing pass Upstream job id: Generic-DPDK-Compile-Meson#427932 Test environment and result as below: +------------------------------+--------------------+ | Environment | dpdk_meson_compile | +==============================+====================+ | Fedora Linux 42 | PASS | +------------------------------+--------------------+ | Ubuntu 22.04 | PASS | +------------------------------+--------------------+ | Ubuntu 20.04 | PASS | +------------------------------+--------------------+ | Debian GNU/Linux 12 | PASS | +------------------------------+--------------------+ | Red Hat Enterprise Linux 9.5 | PASS | +------------------------------+--------------------+ | CentOS Stream 10 | PASS | +------------------------------+--------------------+ | CentOS Stream 9 | PASS | +------------------------------+--------------------+ | Ubuntu 24.04 | PASS | +------------------------------+--------------------+ Fedora Linux 42 Kernel: 5.4 Compiler: gcc gcc (GCC) 15.2.1 20250808 (Red Hat 15.2.1-1) Ubuntu 22.04 Kernel: 5.4 Compiler: gcc gcc (Ubuntu 11.4.0-1ubuntu1~22.04) 11.4.0 Ubuntu 20.04 Kernel: 5.15 Compiler: aarch64-linux-gnu-gcc gcc (Ubuntu 9.4.0-1ubuntu1~20.04.2) 9.4.0 Debian GNU/Linux 12 Kernel: 5.4 Compiler: gcc gcc (Debian 12.2.0-14+deb12u1) 12.2.0 Red Hat Enterprise Linux 9.5 Kernel: 5.4 Compiler: gcc gcc (GCC) 11.5.0 20240719 (Red Hat 11.5.0-2) CentOS Stream 10 Kernel: 5.4 Compiler: gcc gcc (GCC) 14.2.1 20250110 (Red Hat 14.2.1-8) CentOS Stream 9 Kernel: 5.4 Compiler: gcc gcc (GCC) 11.5.0 20240719 (Red Hat 11.5.0-11) Ubuntu 24.04 Kernel: 5.4 Compiler: gcc gcc (Ubuntu 13.3.0-6ubuntu2~24.04) 13.3.0 To view detailed results, visit: https://lab.dpdk.org/results/dashboard/patchsets/34128/ UNH-IOL DPDK Community Lab To manage your email subscriptions, visit: https://lab.dpdk.org/results/dashboard/preferences/subscriptions/