From mboxrd@z Thu Jan 1 00:00:00 1970 Return-Path: Received: from mails.dpdk.org (mails.dpdk.org [217.70.189.124]) by inbox.dpdk.org (Postfix) with ESMTP id 24E9446F45 for ; Wed, 24 Sep 2025 12:10:22 +0200 (CEST) Received: from mails.dpdk.org (localhost [127.0.0.1]) by mails.dpdk.org (Postfix) with ESMTP id 0A71A402CB; Wed, 24 Sep 2025 12:10:22 +0200 (CEST) Received: from mail-pj1-f99.google.com (mail-pj1-f99.google.com [209.85.216.99]) by mails.dpdk.org (Postfix) with ESMTP id AEEF7402CB for ; Wed, 24 Sep 2025 12:10:20 +0200 (CEST) Received: by mail-pj1-f99.google.com with SMTP id 98e67ed59e1d1-32bb1132c11so607284a91.0 for ; Wed, 24 Sep 2025 03:10:20 -0700 (PDT) DKIM-Signature: v=1; a=rsa-sha256; c=relaxed/relaxed; d=iol.unh.edu; s=unh-iol; t=1758708620; x=1759313420; darn=dpdk.org; h=cc:to:from:subject:message-id:date:from:to:cc:subject:date :message-id:reply-to; bh=miSxZrQhTKUoc+IDXCm8VeHw0auEv60x+qmX7lzh9MM=; b=Rt0cCQNp31e+or7f3tr895mhNU/+LJsLBOdIAcwxJ0ai8EoSn+Qt2d2hZ51AfFKgG9 CjiWDtHK0SanHWg1V//zziFYnxJzOxMhHqLAZkIn7TIGs0djaO5rOGFZupxOCADmqKr5 wKCjvOWpAc5asBEh5Otiq/YdsZQb86lbCG0QQ= X-Google-DKIM-Signature: v=1; a=rsa-sha256; c=relaxed/relaxed; d=1e100.net; s=20230601; t=1758708620; x=1759313420; h=cc:to:from:subject:message-id:date:x-gm-message-state:from:to:cc :subject:date:message-id:reply-to; bh=miSxZrQhTKUoc+IDXCm8VeHw0auEv60x+qmX7lzh9MM=; b=DTrIt7PdamZmtxCfuk4E0IOybKCR5Bl5j411WeusZ2BQMXYOC4/++WAzmk21+YRkCL KGiVXAXLIw9hkZR3s1UEF7PJal3AU/o/GyI4etiTPGK7DaXKQsVyqeZDmTWNm2byFHzZ r7TO8XAzYNaJd+CS7Eq4lrYWCi/b99E1igBL7zh7GrFPGcEBZhcVFL1+SWDjOuoYrWNr 9+LtCgmVsBmeD3UuuBPxpacBW1zy4wfFclfIJY3s1MO8n7zkK008ZWbcnlD2+IILBnyp qbKMBUsLRknwNKHESnCLT/mSxbDRocFDh6al/QacPB0ufLrGqfXbwFkJWzIzxINduGFD S+fw== X-Gm-Message-State: AOJu0Yy6nm+wZzLrtnrXn09m7h1Mo0NndSMrEwLA1iZavLxqDUF8Ctpo i3wQjpj5tvwxeKLZJ3ZFD765aAt37vbnqx2pm4t5sIhRWwx7BziCpz8L8sL53leEpMXlSA4nSpf mo6yNIo4ZQUJd3E3dkmcgQnWZvosWSrY9vczKnISNdAqcEzjXyTenfwKWhz+4 X-Gm-Gg: ASbGnct2q4ONpsAKTRLU08ncWzFpnN+yJY7ThDtUa3+446bYE8eHWzQz37vhg1t9Lr3 NAqlybukRRsBa3OeliXDJdS1/KWkEbvwiMUyD1jZxlgsrsWex8b9Zdq9OLDk1e1Msp9WwYhjKkb byUr7e5/rKAKuICiboBHpVcU1JDwXpMUwOIQFNlrIhbSSYRhQhgiEQek2sQLmv3JHSPuK8r//eC YM/CHea9lJl8f01QCW9d86OyKn+ADaiQIVOYtrL8eT5g9/OuiAs8l/8TsTLWbLB5rRy/bQmfEw+ 9ITnXx3mTt72mQY5pfAmXol6ZDtZnRyC4V/MIxiq6I13lgsyPw== X-Google-Smtp-Source: AGHT+IElAHxdy5FK8eabTPyzH1soD8O+6BDdrxZrJ0zOomnnLFA+J1Azjo3qSSyh9b3x0NloRBLh6DP7BO9c X-Received: by 2002:a17:90b:388e:b0:32e:528c:60de with SMTP id 98e67ed59e1d1-3341bfa8cb4mr2074711a91.9.1758708619633; Wed, 24 Sep 2025 03:10:19 -0700 (PDT) Received: from postal.iol.unh.edu (postal.iol.unh.edu. [2606:4100:3880:1234::84]) by smtp-relay.gmail.com with ESMTPS id 98e67ed59e1d1-3341bdc1becsm113156a91.6.2025.09.24.03.10.19 (version=TLS1_2 cipher=ECDHE-ECDSA-AES128-GCM-SHA256 bits=128/128); Wed, 24 Sep 2025 03:10:19 -0700 (PDT) X-Relaying-Domain: iol.unh.edu Date: Wed, 24 Sep 2025 03:10:19 -0700 (PDT) Message-ID: <68d3c38b.170a0220.1e06e3.775dSMTPIN_ADDED_MISSING@mx.google.com> Received: from [172.21.0.2] (unknown [172.18.0.240]) by postal.iol.unh.edu (Postfix) with ESMTP id D6BA26051830; Wed, 24 Sep 2025 06:10:18 -0400 (EDT) Subject: |SUCCESS| [GIT MASTER] 20ef5263db276361bf25982884e7f5b537a57d9d From: dpdklab@iol.unh.edu To: Test Report Cc: dpdk-test-reports@iol.unh.edu, Stephen Hemminger Content-Type: text/plain X-BeenThere: test-report@dpdk.org X-Mailman-Version: 2.1.29 Precedence: list List-Id: automatic DPDK test reports List-Unsubscribe: , List-Archive: List-Post: List-Help: List-Subscribe: , Errors-To: test-report-bounces@dpdk.org _Testing PASS_ Branch: dpdk-next-net 20ef5263db276361bf25982884e7f5b537a57d9d --> testing pass Upstream job id: Generic-DPDK-Compile-Meson#427959 Test environment and result as below: +------------------------------+--------------------+ | Environment | dpdk_meson_compile | +==============================+====================+ | Fedora Linux 42 | PASS | +------------------------------+--------------------+ | Red Hat Enterprise Linux 9.5 | PASS | +------------------------------+--------------------+ | Ubuntu 20.04 | PASS | +------------------------------+--------------------+ | Debian GNU/Linux 12 | PASS | +------------------------------+--------------------+ | Ubuntu 22.04 | PASS | +------------------------------+--------------------+ | CentOS Stream 9 | PASS | +------------------------------+--------------------+ | CentOS Stream 10 | PASS | +------------------------------+--------------------+ | Ubuntu 24.04 | PASS | +------------------------------+--------------------+ Fedora Linux 42 Kernel: 5.4 Compiler: gcc gcc (GCC) 15.2.1 20250808 (Red Hat 15.2.1-1) Red Hat Enterprise Linux 9.5 Kernel: 5.4 Compiler: gcc gcc (GCC) 11.5.0 20240719 (Red Hat 11.5.0-2) Ubuntu 20.04 Kernel: 5.4 Compiler: gcc gcc (Ubuntu 9.4.0-1ubuntu1~20.04.2) 9.4.0 Debian GNU/Linux 12 Kernel: 5.4 Compiler: gcc gcc (Debian 12.2.0-14+deb12u1) 12.2.0 Ubuntu 22.04 Kernel: 5.4 Compiler: gcc gcc (Ubuntu 11.4.0-1ubuntu1~22.04) 11.4.0 CentOS Stream 9 Kernel: 5.4 Compiler: gcc gcc (GCC) 11.5.0 20240719 (Red Hat 11.5.0-11) CentOS Stream 10 Kernel: 5.4 Compiler: gcc gcc (GCC) 14.2.1 20250110 (Red Hat 14.2.1-8) Ubuntu 24.04 Kernel: 5.4 Compiler: gcc gcc (Ubuntu 13.3.0-6ubuntu2~24.04) 13.3.0 To view detailed results, visit: https://lab.dpdk.org/results/dashboard/tarballs/34979/ UNH-IOL DPDK Community Lab To manage your email subscriptions, visit: https://lab.dpdk.org/results/dashboard/preferences/subscriptions/