From mboxrd@z Thu Jan 1 00:00:00 1970 Return-Path: Received: from mails.dpdk.org (mails.dpdk.org [217.70.189.124]) by inbox.dpdk.org (Postfix) with ESMTP id 5FC9146F45 for ; Wed, 24 Sep 2025 13:22:55 +0200 (CEST) Received: from mails.dpdk.org (localhost [127.0.0.1]) by mails.dpdk.org (Postfix) with ESMTP id 5476D402C1; Wed, 24 Sep 2025 13:22:55 +0200 (CEST) Received: from mail-pj1-f99.google.com (mail-pj1-f99.google.com [209.85.216.99]) by mails.dpdk.org (Postfix) with ESMTP id B064E402C1 for ; Wed, 24 Sep 2025 13:22:53 +0200 (CEST) Received: by mail-pj1-f99.google.com with SMTP id 98e67ed59e1d1-330b0bb4507so4311382a91.3 for ; Wed, 24 Sep 2025 04:22:53 -0700 (PDT) DKIM-Signature: v=1; a=rsa-sha256; c=relaxed/relaxed; d=iol.unh.edu; s=unh-iol; t=1758712973; x=1759317773; darn=dpdk.org; h=cc:to:from:subject:message-id:date:from:to:cc:subject:date :message-id:reply-to; bh=ZQmXsgzB2DmI0mXS75Pi4AFfbnUHpmMHOADU82Rdrds=; b=eH7M4xEOKnY/u5FfAOJUqqCNGIFXeLLClIFrUhV6MG6HqYUGijIXDQ8y4DLcU8PG14 gxvWh8lVH0nxsr7Y75PGymf41jh4DzMY6X1v/ydcNDyEDPyk8Y8+zdHF7iur5LBJA9GF KAo/J2jpxhRL4Lf9htxIVoae7hjMDmUgdvGtk= X-Google-DKIM-Signature: v=1; a=rsa-sha256; c=relaxed/relaxed; d=1e100.net; s=20230601; t=1758712973; x=1759317773; h=cc:to:from:subject:message-id:date:x-gm-message-state:from:to:cc :subject:date:message-id:reply-to; bh=ZQmXsgzB2DmI0mXS75Pi4AFfbnUHpmMHOADU82Rdrds=; b=nqmXW3g19Q1BUvPZb1B/++Nizf+KubAE8yqtYnXMIruzFwsoLyxXD7bqqLIKYbH/VS F2NpyZUn5ACzRUWATlls0fe8EnZLUUeWNBrZjeR/7f7o0qlJ/sJ/BGkt7C0ezad0K3J8 3jwNBOfRCbq3kYVVQPDLmfPBTdn9kIjdxhJk39cyZNDlxhWFVhpuOrzFB2VtwtGexpJB aqG0AH2xjGgXgUMSVIs0Qb7/nfiLDR18AUI+bY7k/ucZPckD+1H9zYx6Im8TOjW1O7AG EGLnYa93oXlVKTRGNsS9NFXtoteEWvgAinV1buyi9fiTkHnMLw4/muftCP6Akbm9tzH5 1N/g== X-Gm-Message-State: AOJu0YxJDolCVNnOJwz0+w3aEMM4VaPXxaBC/aUSw44zaXcMwAkBhXNQ qnIiAMIeEHrPQClm5I0chpdcxaNEfLBzn3Uk/U8p4j5jxQMSq7BHYbebzvnfzMD5aiKshSm3QOg rrgcNcP1620cBKM5pDSI8QUFG8kDa0Wqgxicaj52MBvHs X-Gm-Gg: ASbGncuDgROSoFspLKqjdAYWZITq6h3ipB2jQVo7Vh47oHYguXxsa6OVvXRhsxy1l3c scHEqI6bYHpL4ral4nV7dWeQyB3QwkKQRb9MxLY77Q28QWCQjSSfn+e58nKw2ea8EyCA5vh3ENl uDasF6ce/1b9NqYfXcLR/QG8XdemmV65rSeKpQyV7yqX8NDPwmPfMPHB5s9vHxKGPGPnGzx/24n 4e8ZT1oheo92cIo/Xx1h2g+L5JLnmWbfE1rrwjJ/VAcQRtUtPrx+3G9NhKWiUHelUKVUeqAXADq JeSiLJsHuQuGEJhYDt4jb0bKR1pkDsOuC3Vl/cumy7TUlgRacpEK9cNhS4XVgaveDaNfKzvq X-Google-Smtp-Source: AGHT+IE286nrq5KADhK6JoikQa8mSTNEodc2hhtryU0922vNG+FS8rwG+ZT+31tEsYOBZLiQvbPCfoqASgxI X-Received: by 2002:a17:90b:4cc5:b0:32e:528c:60ee with SMTP id 98e67ed59e1d1-332a95c6dabmr7028888a91.24.1758712972840; Wed, 24 Sep 2025 04:22:52 -0700 (PDT) Received: from postal.iol.unh.edu (postal.iol.unh.edu. [132.177.123.84]) by smtp-relay.gmail.com with ESMTPS id d2e1a72fcca58-77f6914f726sm93298b3a.5.2025.09.24.04.22.52 (version=TLS1_2 cipher=ECDHE-ECDSA-AES128-GCM-SHA256 bits=128/128); Wed, 24 Sep 2025 04:22:52 -0700 (PDT) X-Relaying-Domain: iol.unh.edu Date: Wed, 24 Sep 2025 04:22:52 -0700 (PDT) Message-ID: <68d3d48c.050a0220.1f2510.63fbSMTPIN_ADDED_MISSING@mx.google.com> Received: from [172.21.0.2] (unknown [172.18.0.240]) by postal.iol.unh.edu (Postfix) with ESMTP id 70DE460003E8; Wed, 24 Sep 2025 07:22:51 -0400 (EDT) Subject: |SUCCESS| [GIT MASTER] 20ef5263db276361bf25982884e7f5b537a57d9d From: dpdklab@iol.unh.edu To: Test Report Cc: dpdk-test-reports@iol.unh.edu, Stephen Hemminger Content-Type: text/plain X-BeenThere: test-report@dpdk.org X-Mailman-Version: 2.1.29 Precedence: list List-Id: automatic DPDK test reports List-Unsubscribe: , List-Archive: List-Post: List-Help: List-Subscribe: , Errors-To: test-report-bounces@dpdk.org _Testing PASS_ Branch: dpdk-next-net 20ef5263db276361bf25982884e7f5b537a57d9d --> testing pass Upstream job id: Generic-Unit-Test-DPDK#374320 Test environment and result as below: +------------------------------+----------------+---------------------------+--------------+------------------------------+ | Environment | dpdk_unit_test | cryptodev_sw_zuc_autotest | lpm_autotest | cryptodev_sw_snow3g_autotest | +==============================+================+===========================+==============+==============================+ | Fedora Linux 41 | PASS | SKIPPED | SKIPPED | SKIPPED | +------------------------------+----------------+---------------------------+--------------+------------------------------+ | Fedora Linux 40 | PASS | SKIPPED | SKIPPED | SKIPPED | +------------------------------+----------------+---------------------------+--------------+------------------------------+ | CentOS Stream 9 | PASS | SKIPPED | SKIPPED | SKIPPED | +------------------------------+----------------+---------------------------+--------------+------------------------------+ | Debian GNU/Linux 12 | PASS | SKIPPED | SKIPPED | SKIPPED | +------------------------------+----------------+---------------------------+--------------+------------------------------+ | Red Hat Enterprise Linux 9.5 | PASS | SKIPPED | SKIPPED | SKIPPED | +------------------------------+----------------+---------------------------+--------------+------------------------------+ | Fedora Linux 42 | PASS | SKIPPED | SKIPPED | SKIPPED | +------------------------------+----------------+---------------------------+--------------+------------------------------+ | Ubuntu 22.04 | PASS | SKIPPED | SKIPPED | SKIPPED | +------------------------------+----------------+---------------------------+--------------+------------------------------+ | CentOS Stream 10 | PASS | SKIPPED | SKIPPED | SKIPPED | +------------------------------+----------------+---------------------------+--------------+------------------------------+ | Ubuntu 24.04 | PASS | SKIPPED | SKIPPED | SKIPPED | +------------------------------+----------------+---------------------------+--------------+------------------------------+ | Ubuntu 20.04 | PASS | SKIPPED | PASS | SKIPPED | +------------------------------+----------------+---------------------------+--------------+------------------------------+ | Debian 12 (arm) | SKIPPED | PASS | SKIPPED | PASS | +------------------------------+----------------+---------------------------+--------------+------------------------------+ Fedora Linux 41 Kernel: 5.4 Compiler: gcc gcc (GCC) 14.3.1 20250523 (Red Hat 14.3.1-1) Fedora Linux 40 Kernel: 5.4 Compiler: gcc gcc (GCC) 14.2.1 20240912 (Red Hat 14.2.1-3) CentOS Stream 9 Kernel: 5.4 Compiler: gcc gcc (GCC) 11.5.0 20240719 (Red Hat 11.5.0-11) Debian GNU/Linux 12 Kernel: 5.4 Compiler: gcc gcc (Debian 12.2.0-14+deb12u1) 12.2.0 Red Hat Enterprise Linux 9.5 Kernel: 5.4 Compiler: gcc gcc (GCC) 11.5.0 20240719 (Red Hat 11.5.0-2) Fedora Linux 42 Kernel: 5.4 Compiler: gcc gcc (GCC) 15.2.1 20250808 (Red Hat 15.2.1-1) Ubuntu 22.04 Kernel: 5.4 Compiler: gcc gcc (Ubuntu 11.4.0-1ubuntu1~22.04) 11.4.0 CentOS Stream 10 Kernel: 5.4 Compiler: gcc gcc (GCC) 14.2.1 20250110 (Red Hat 14.2.1-8) Ubuntu 24.04 Kernel: 5.4 Compiler: gcc gcc (Ubuntu 13.3.0-6ubuntu2~24.04) 13.3.0 Ubuntu 20.04 Kernel: 5.4 Compiler: gcc gcc (Ubuntu 9.4.0-1ubuntu1~20.04.2) 9.4.0 Debian 12 (arm) Kernel: Depends on container host Compiler: gcc (Debian 12.2.0-14) 12.2.0 To view detailed results, visit: https://lab.dpdk.org/results/dashboard/tarballs/34979/ UNH-IOL DPDK Community Lab To manage your email subscriptions, visit: https://lab.dpdk.org/results/dashboard/preferences/subscriptions/