From mboxrd@z Thu Jan 1 00:00:00 1970 Return-Path: Received: from mails.dpdk.org (mails.dpdk.org [217.70.189.124]) by inbox.dpdk.org (Postfix) with ESMTP id 1834346F67 for ; Wed, 24 Sep 2025 14:04:38 +0200 (CEST) Received: from mails.dpdk.org (localhost [127.0.0.1]) by mails.dpdk.org (Postfix) with ESMTP id 10EA440289; Wed, 24 Sep 2025 14:04:38 +0200 (CEST) Received: from mail-pf1-f228.google.com (mail-pf1-f228.google.com [209.85.210.228]) by mails.dpdk.org (Postfix) with ESMTP id D960440289 for ; Wed, 24 Sep 2025 14:04:36 +0200 (CEST) Received: by mail-pf1-f228.google.com with SMTP id d2e1a72fcca58-77dedf198d4so7515580b3a.0 for ; Wed, 24 Sep 2025 05:04:36 -0700 (PDT) DKIM-Signature: v=1; a=rsa-sha256; c=relaxed/relaxed; d=iol.unh.edu; s=unh-iol; t=1758715476; x=1759320276; darn=dpdk.org; h=references:in-reply-to:cc:to:from:subject:message-id:date:from:to :cc:subject:date:message-id:reply-to; bh=Hr7CpqIRc85QOLmGOJy3OqfxmAUaDKGlTUcN1ZjhKAs=; b=LbHkzbQ62xyfzGnbupI4RphL8UJBTniO6bVYUooR5SLtE9PUqsaMOIee+9SvN27wX8 vg8EUC1q59tX+oDClH9VhkKhmeilGxjffM4Fk6sXDZS9B3RexS7tFotR+A/cG1YSlsEm SYJEqBf7CTK7dcxFYSgFavsOD6J3XJUOOQ0EI= X-Google-DKIM-Signature: v=1; a=rsa-sha256; c=relaxed/relaxed; d=1e100.net; s=20230601; t=1758715476; x=1759320276; h=references:in-reply-to:cc:to:from:subject:message-id:date :x-gm-message-state:from:to:cc:subject:date:message-id:reply-to; bh=Hr7CpqIRc85QOLmGOJy3OqfxmAUaDKGlTUcN1ZjhKAs=; b=Eabs6JTbA/ZGSXLMEVuPbyRJLtU/p1qy1HwVs3LXKlNp9DyTtS5oPsSHNE4COD3v2J Mfm0qi42AAP5ksVGuA1EQ2H/kP+XGPr+j57Su8bQt2+DlDMpgCJKX6GKZ2HfzQ1t/a7I TssUcwuboXbUT+X61r0m8TFGevAhkR9IYpMecJCIGA7eyE5wjPMziJy92kt/dFLbrCHR 0tzIIWB4/BOByp8ocusoMjF7O2dTMYwblwx4HQSp0jtOguyFQ+ysjZw0lBY/LTF0HTf+ lQSdVe968QT4CJilLyvdAStruEdmB/dDexQyudPW7PI8qVAt+6x/Sf/qXAsSO9Eu8LKs gfGw== X-Gm-Message-State: AOJu0YyUkcgnVKfqiN8z3LHA1ZRMuow+HK8DUA1axcX2SkFctazXRTtZ LuKb30fgQx3bSKlLsVeYEYRAbUmQLaIz+SSCAK3QDWy+OdyXOCoHZ5o7P9Dutk4sedqMCy8Uwlp QkC+Zb86oWtuKz2jcMhNVL/vi5zzQyeh7F1bBYKkha+yN X-Gm-Gg: ASbGncuk2ka8qMOyYe0wTxjDvbT0JZsgqJeIHeqw9zENT4Fl/vLj0bMVP/88OMxdj5U Mb/g0kRZuHdRgZoZyMbnW7cUgg0IwzQUZsgQNYIvtFCeG9IT02LERmZV21ykM68kbiDCJ4KoYRt msWkZ8wjXZCKcCPVa3AmlsPNyArT9emxX+LPRx2ohijUWp7Yd5eCFdjao7xh23bUYiKARLHuxGy U6owLUrbFoZFj5ObzAcRaRXWsYQ82q7bY61LYQOtmPgJGFjBSNRZZSnhJDD4x6ThA3Cs3hzV5CS /QYW0UpugyOBluUF3n6teBxc3bOnzEUxSV5+EUVKv42JrIUXo3hAWxaOokL5X8PchYnooXEE X-Google-Smtp-Source: AGHT+IEIYp9dNxEXx7Lh2B5vMvuU1/g6dIoK6mVIdNoKt8ReYcmbK8/J7fJYr8/7oNVXfek2ZWVepgC2Z0QG X-Received: by 2002:a05:6a00:994:b0:776:4eba:de33 with SMTP id d2e1a72fcca58-77f539335a1mr7389719b3a.14.1758715475992; Wed, 24 Sep 2025 05:04:35 -0700 (PDT) Received: from postal.iol.unh.edu (postal.iol.unh.edu. [132.177.123.84]) by smtp-relay.gmail.com with ESMTPS id d2e1a72fcca58-77dd613745dsm956708b3a.8.2025.09.24.05.04.35 (version=TLS1_2 cipher=ECDHE-ECDSA-AES128-GCM-SHA256 bits=128/128); Wed, 24 Sep 2025 05:04:35 -0700 (PDT) X-Relaying-Domain: iol.unh.edu Date: Wed, 24 Sep 2025 05:04:35 -0700 (PDT) Message-ID: <68d3de53.050a0220.22c3fc.079dSMTPIN_ADDED_MISSING@mx.google.com> Received: from [172.21.0.4] (unknown [172.18.0.240]) by postal.iol.unh.edu (Postfix) with ESMTP id 0D10E6051830; Wed, 24 Sep 2025 08:04:35 -0400 (EDT) Subject: |SUCCESS| pw156852-156869 [PATCH] [V13,18/18] drivers/net: add hinic From: dpdklab@iol.unh.edu To: Test Report Cc: dpdk-test-reports@iol.unh.edu In-Reply-To: <20250924075216.18750-19-wff_light@vip.163.com> References: <20250924075216.18750-19-wff_light@vip.163.com> Content-Type: text/plain X-BeenThere: test-report@dpdk.org X-Mailman-Version: 2.1.29 Precedence: list List-Id: automatic DPDK test reports List-Unsubscribe: , List-Archive: List-Post: List-Help: List-Subscribe: , Errors-To: test-report-bounces@dpdk.org Test-Label: iol-compile-arm64-testing Test-Status: SUCCESS http://dpdk.org/patch/156869 _Testing PASS_ Submitter: Feifei Wang Date: Wednesday, September 24 2025 07:52:05 DPDK git baseline: Repo:dpdk Branch: master CommitID:0e03ab647d07cd985a7cac36cefff5195cc3a07d 156852-156869 --> testing pass Upstream job id: Generic-DPDK-Compile-Meson#427987 Test environment and result as below: +------------------------------+--------------------+ | Environment | dpdk_meson_compile | +==============================+====================+ | Ubuntu 20.04 | PASS | +------------------------------+--------------------+ | Red Hat Enterprise Linux 9.5 | PASS | +------------------------------+--------------------+ | Debian GNU/Linux 12 | PASS | +------------------------------+--------------------+ | Fedora Linux 42 | PASS | +------------------------------+--------------------+ | Ubuntu 24.04 | PASS | +------------------------------+--------------------+ | CentOS Stream 10 | PASS | +------------------------------+--------------------+ | CentOS Stream 9 | PASS | +------------------------------+--------------------+ | Ubuntu 22.04 | PASS | +------------------------------+--------------------+ Ubuntu 20.04 Kernel: 5.15 Compiler: aarch64-linux-gnu-gcc gcc (Ubuntu 9.4.0-1ubuntu1~20.04.2) 9.4.0 Red Hat Enterprise Linux 9.5 Kernel: 5.4 Compiler: gcc gcc (GCC) 11.5.0 20240719 (Red Hat 11.5.0-2) Debian GNU/Linux 12 Kernel: 5.4 Compiler: gcc gcc (Debian 12.2.0-14+deb12u1) 12.2.0 Fedora Linux 42 Kernel: 5.4 Compiler: gcc gcc (GCC) 15.2.1 20250808 (Red Hat 15.2.1-1) Ubuntu 24.04 Kernel: 5.4 Compiler: gcc gcc (Ubuntu 13.3.0-6ubuntu2~24.04) 13.3.0 CentOS Stream 10 Kernel: 5.4 Compiler: gcc gcc (GCC) 14.2.1 20250110 (Red Hat 14.2.1-8) CentOS Stream 9 Kernel: 5.4 Compiler: gcc gcc (GCC) 11.5.0 20240719 (Red Hat 11.5.0-11) Ubuntu 22.04 Kernel: 5.4 Compiler: gcc gcc (Ubuntu 11.4.0-1ubuntu1~22.04) 11.4.0 To view detailed results, visit: https://lab.dpdk.org/results/dashboard/patchsets/34129/ UNH-IOL DPDK Community Lab To manage your email subscriptions, visit: https://lab.dpdk.org/results/dashboard/preferences/subscriptions/