From mboxrd@z Thu Jan 1 00:00:00 1970 Return-Path: Received: from mails.dpdk.org (mails.dpdk.org [217.70.189.124]) by inbox.dpdk.org (Postfix) with ESMTP id 5FC6546F67 for ; Wed, 24 Sep 2025 14:16:19 +0200 (CEST) Received: from mails.dpdk.org (localhost [127.0.0.1]) by mails.dpdk.org (Postfix) with ESMTP id 585814027C; Wed, 24 Sep 2025 14:16:19 +0200 (CEST) Received: from mail-qt1-f225.google.com (mail-qt1-f225.google.com [209.85.160.225]) by mails.dpdk.org (Postfix) with ESMTP id 8DC204027C for ; Wed, 24 Sep 2025 14:16:17 +0200 (CEST) Received: by mail-qt1-f225.google.com with SMTP id d75a77b69052e-4cf068ffe4dso22943771cf.1 for ; Wed, 24 Sep 2025 05:16:17 -0700 (PDT) DKIM-Signature: v=1; a=rsa-sha256; c=relaxed/relaxed; d=iol.unh.edu; s=unh-iol; t=1758716177; x=1759320977; darn=dpdk.org; h=references:in-reply-to:cc:to:from:subject:message-id:date:from:to :cc:subject:date:message-id:reply-to; bh=Aa6rLdI0gOSwT8tXr+EXGRJOeDBMtDNqiuSP3vA8Tow=; b=WAcqcf6/axtiYhP0Znn61J9j/pyQXw9rOoW0hv2NNb3aQRXfQkg9hxra2+aJYtGu1j VtV8NFCdQ894xi8h3DMq/oEprCGE4RXPLD7XGeHidz14BEryZVe30WSoSQ0zkyERYVRP H6nC/oF4qU2onSUraeqv0xwonkxi3P/ATw/5I= X-Google-DKIM-Signature: v=1; a=rsa-sha256; c=relaxed/relaxed; d=1e100.net; s=20230601; t=1758716177; x=1759320977; h=references:in-reply-to:cc:to:from:subject:message-id:date :x-gm-message-state:from:to:cc:subject:date:message-id:reply-to; bh=Aa6rLdI0gOSwT8tXr+EXGRJOeDBMtDNqiuSP3vA8Tow=; b=IO9m0GOBlg1SJXyQij0sR1qkHVrDuuMD2DuZOqnpVKrvP6V/IXfe8L8enOpfw7PMsi W2Vse7gNEcSiKCZSfCcier8tpgTzNO3NVkx3MDlL1CiRd9+jAUNfBQqg7eUHqTnFJ1AH tdeQ4241lejzZo9CrSUjI4Om/R/WwM2t4CHXCvISdfYEXHSY2Vn3xnWKk9ij50akBM0V ak5U1d/d7G9jz/1d0mUlW4YQroHS5VasafaEBSvDjck6VLrWztm6WFT1apW5MdoZrePB tIJT7+kF0CX0OgSucGqywZ2yOpN6Gu07hAogIxTQYxZCyDf+sTMuLnBVywJjKAyj10kt DGhw== X-Gm-Message-State: AOJu0YzTWrs/ZVXc2iC/YmxDRw7Aq4Ok1T1j1a3oPmS58G718E88M1Vw 4sNfvCyAmBKw3xAZAoos+DnYYRzMKQ28gYcwZjRtu6W0j7V0hRywfpyTAaLU2t/cTnEHD1lk9wo QTTM/bArOnleA/W3q3dBDaNratHKbTMYskyBpQsKRKSCS X-Gm-Gg: ASbGncv+jHt24HmWXQ+aDRcuG0EYsvzmvTUbmPR1C2nCNo0zthIZvbHgyRIgut+4M+w NnhJUtLb+esYG+ev8tFKxpcflcerBD+jTPGMJfWdx4oIQ/iHFyEvLGaKsaFZo7x80isLZwm99Vf tgs0T1HX5b5Y8iwnmDfD0bPVFL0LesQpqFo/g7cVeUxc4U5NRAQ47pidiAeEcq9qHtdnkPYAqEw cuxh/Qo9+rFX1z2RKHrJfO2wZUtv0/RSSDp5xmfnK5jFnxSRzxtdnWP3VfOKdcphv1d+vBZZ10K U6cPzN4uDH0XYiM2v1+SpwlxngkKkhHky0zqmD1DOhbiyHuZsEVTFdLgBlmB/zf4Krnx7wJn X-Google-Smtp-Source: AGHT+IHeTZ0sBId1z5ojhOxvHLa1zqH2Xilhc9GS0bRr/12ccUlpqs7C1xkcL5f6flVZ1IDQqMVG+/5Rg1dj X-Received: by 2002:ac8:5e4b:0:b0:4b3:50b0:d7f with SMTP id d75a77b69052e-4d36fdee494mr65742441cf.61.1758716176741; Wed, 24 Sep 2025 05:16:16 -0700 (PDT) Received: from postal.iol.unh.edu (postal.iol.unh.edu. [132.177.123.84]) by smtp-relay.gmail.com with ESMTPS id d75a77b69052e-4cadd9f9507sm3320241cf.1.2025.09.24.05.16.16 (version=TLS1_2 cipher=ECDHE-ECDSA-AES128-GCM-SHA256 bits=128/128); Wed, 24 Sep 2025 05:16:16 -0700 (PDT) X-Relaying-Domain: iol.unh.edu Date: Wed, 24 Sep 2025 05:16:16 -0700 (PDT) Message-ID: <68d3e110.c80a0220.95a31.6126SMTPIN_ADDED_MISSING@mx.google.com> Received: from [172.21.0.2] (unknown [172.18.0.240]) by postal.iol.unh.edu (Postfix) with ESMTP id 5E7CC6051830; Wed, 24 Sep 2025 08:16:16 -0400 (EDT) Subject: |SUCCESS| pw156873 [PATCH] [v2] build: validate libraries returned f From: dpdklab@iol.unh.edu To: Test Report Cc: dpdk-test-reports@iol.unh.edu In-Reply-To: <20250924111318.567771-1-bruce.richardson@intel.com> References: <20250924111318.567771-1-bruce.richardson@intel.com> Content-Type: text/plain X-BeenThere: test-report@dpdk.org X-Mailman-Version: 2.1.29 Precedence: list List-Id: automatic DPDK test reports List-Unsubscribe: , List-Archive: List-Post: List-Help: List-Subscribe: , Errors-To: test-report-bounces@dpdk.org Test-Label: iol-unit-amd64-testing Test-Status: SUCCESS http://dpdk.org/patch/156873 _Testing PASS_ Submitter: Bruce Richardson Date: Wednesday, September 24 2025 10:54:00 DPDK git baseline: Repo:dpdk Branch: master CommitID:0e03ab647d07cd985a7cac36cefff5195cc3a07d 156873 --> testing pass Upstream job id: Generic-VM-Unit-Test-DPDK#31339 Test environment and result as below: +-------------------------------+----------------+ | Environment | dpdk_unit_test | +===============================+================+ | CentOS Stream 10 | PASS | +-------------------------------+----------------+ | Debian GNU/Linux 12 | PASS | +-------------------------------+----------------+ | CentOS Stream 9 | PASS | +-------------------------------+----------------+ | Fedora Linux 41 | PASS | +-------------------------------+----------------+ | Fedora Linux 42 | PASS | +-------------------------------+----------------+ | Ubuntu 24.04 | PASS | +-------------------------------+----------------+ | Ubuntu 22.04 | PASS | +-------------------------------+----------------+ | Red Hat Enterprise Linux 8.10 | PASS | +-------------------------------+----------------+ | Red Hat Enterprise Linux 9.5 | PASS | +-------------------------------+----------------+ | Fedora Linux 40 | PASS | +-------------------------------+----------------+ | Ubuntu 20.04 | PASS | +-------------------------------+----------------+ | Windows Server 2022 | PASS | +-------------------------------+----------------+ CentOS Stream 10 Kernel: 5.15 Compiler: gcc gcc (GCC) 14.2.1 20250110 (Red Hat 14.2.1-8) Debian GNU/Linux 12 Kernel: 5.15 Compiler: gcc gcc (Debian 12.2.0-14+deb12u1) 12.2.0 CentOS Stream 9 Kernel: 5.15 Compiler: gcc gcc (GCC) 11.5.0 20240719 (Red Hat 11.5.0-11) Fedora Linux 41 Kernel: 5.15 Compiler: gcc gcc (GCC) 14.3.1 20250523 (Red Hat 14.3.1-1) Fedora Linux 42 Kernel: 5.15 Compiler: clang gcc (GCC) 15.2.1 20250808 (Red Hat 15.2.1-1) Ubuntu 24.04 Kernel: 5.15 Compiler: gcc gcc (Ubuntu 13.3.0-6ubuntu2~24.04) 13.3.0 Ubuntu 22.04 Kernel: 5.15 Compiler: gcc gcc (Ubuntu 11.4.0-1ubuntu1~22.04) 11.4.0 Red Hat Enterprise Linux 8.10 Kernel: 5.15 Compiler: gcc gcc (GCC) 8.5.0 20210514 (Red Hat 8.5.0-22) Red Hat Enterprise Linux 9.5 Kernel: 5.15 Compiler: gcc gcc (GCC) 11.5.0 20240719 (Red Hat 11.5.0-2) Fedora Linux 40 Kernel: 5.15 Compiler: clang gcc (GCC) 14.2.1 20240912 (Red Hat 14.2.1-3) Ubuntu 20.04 Kernel: 5.15 Compiler: gcc gcc (Ubuntu 9.4.0-1ubuntu1~20.04.2) 9.4.0 Windows Server 2022 Kernel: 10.0.20348.2031 Compiler: clang 15.0.7, gcc 14.1.0 (MinGW), and MSVC VS 19.39.33521 To view detailed results, visit: https://lab.dpdk.org/results/dashboard/patchsets/34133/ UNH-IOL DPDK Community Lab To manage your email subscriptions, visit: https://lab.dpdk.org/results/dashboard/preferences/subscriptions/