From mboxrd@z Thu Jan 1 00:00:00 1970 Return-Path: Received: from mails.dpdk.org (mails.dpdk.org [217.70.189.124]) by inbox.dpdk.org (Postfix) with ESMTP id 92EE946EF7 for ; Wed, 24 Sep 2025 14:27:44 +0200 (CEST) Received: from mails.dpdk.org (localhost [127.0.0.1]) by mails.dpdk.org (Postfix) with ESMTP id 6E22E4027C; Wed, 24 Sep 2025 14:27:44 +0200 (CEST) Received: from mail-pf1-f227.google.com (mail-pf1-f227.google.com [209.85.210.227]) by mails.dpdk.org (Postfix) with ESMTP id A719A4027C for ; Wed, 24 Sep 2025 14:27:42 +0200 (CEST) Received: by mail-pf1-f227.google.com with SMTP id d2e1a72fcca58-77716518125so3588356b3a.3 for ; Wed, 24 Sep 2025 05:27:42 -0700 (PDT) DKIM-Signature: v=1; a=rsa-sha256; c=relaxed/relaxed; d=iol.unh.edu; s=unh-iol; t=1758716862; x=1759321662; darn=dpdk.org; h=references:in-reply-to:cc:to:from:subject:message-id:date:from:to :cc:subject:date:message-id:reply-to; bh=DJUKU2Cevk4D8K5z4mwgSaIJQyETsCDxo+NlstK4FNo=; b=f+CARrqitEHwNYB8aJ5IY5TLKc8jU6Lmz5d9tSxrdL8m+zyX+SRKO8TXfWM/leLp8g i5ln3TsUY0v8W+2YYJrYk/EAHiPzRMYtQ8+gXoHNzTxxmKoVsYnC5XUeBrjQec2zWKvJ gWsNvW9IMcX4PG7yUs7fQTHrLfaTetKPdr14U= X-Google-DKIM-Signature: v=1; a=rsa-sha256; c=relaxed/relaxed; d=1e100.net; s=20230601; t=1758716862; x=1759321662; h=references:in-reply-to:cc:to:from:subject:message-id:date :x-gm-message-state:from:to:cc:subject:date:message-id:reply-to; bh=DJUKU2Cevk4D8K5z4mwgSaIJQyETsCDxo+NlstK4FNo=; b=fIjb50FKYzHcHrDSB6MaSPg+lasMyMXGMz8TEC8NGWtFcutSpIOMtXhi3Cx1vnX13f NbI+B+wW61BPfg912FvIJ8Gz43tln8cCq8lsTvG+ir5QdYBUXwdI0ckK9qXEONSOY8Hg QYJUycXMqF0YyB1Cna1qZ6SEOG2dpOrYuw3LvIuV6E+Yfia//MafMljAIlvDrujJ9z4T 2ohUkwQ20KDCi4frh2WJxLtxjCcTwuluJftnrBHaH6ZRiiGD5+q/KlhKqb2kaHp7WgAx m/PFoavZoWnpXOyP3jHOS3NANmkJ3ld5Mb6LrsAr+tMDXRsf3YO4ZUsFeAVGn9g0Tc5K A1ug== X-Gm-Message-State: AOJu0YxsvzWNmv2Lp4ATJJ+w/0bK2XO+Z2XvcdfYqmL4UZovxIzUGR3E vgcUuYksTqUHbH+DktuHwmMB3M2w1oxvQoltdzLydPSU9eWloEIAdXZnKnvWzZUDip1Gah/CIbg fw890jYpoqpTPqszdGUCABjcYAbjKtt9IWuC6aGKMXJ+E54rXCyea4ujFGqGG X-Gm-Gg: ASbGncs2tVNBpbEcguhquzV1J56asgX6OZdb5lIsyJyaKffHTatW6B9ZHMWp/hZZ8NP VK6QLJ4QRii/pnkEavEuVU0WtTpi69cG/DAnaHDKMOoqqurE3kiFUjTWOtYmj1Zs8RlbYCKV2wa Do96jYRUt19ch3VCxpAYlZWu6uimw3uprNlZv8yII2Q+5P5tuzsNSAQtdtyKSCW7Wk/qe2p9EVQ eo5ofyatHxuWsOj3JOeNypZ6gMwtrI+cy3V78DJQWCskVR+6lZO91ybbR8JFI2ov8E5NyfN2fdH RLJ6BqR9vgKErUYZ+jQVig6uwWJNvqGAO594PO+bzmQdQ53zcg== X-Google-Smtp-Source: AGHT+IEt8T302dlBdhOQE6u+PzA9KzOzzhRVh+3whvhPA3tLmkWaz956i6CUcEd9LQVjmLf8Qul0BT1AAOBt X-Received: by 2002:a05:6a00:2b89:b0:780:f663:26d6 with SMTP id d2e1a72fcca58-780f6632f71mr954841b3a.12.1758716861721; Wed, 24 Sep 2025 05:27:41 -0700 (PDT) Received: from postal.iol.unh.edu (postal.iol.unh.edu. [2606:4100:3880:1234::84]) by smtp-relay.gmail.com with ESMTPS id d2e1a72fcca58-77f343ddd05sm497036b3a.3.2025.09.24.05.27.41 (version=TLS1_2 cipher=ECDHE-ECDSA-AES128-GCM-SHA256 bits=128/128); Wed, 24 Sep 2025 05:27:41 -0700 (PDT) X-Relaying-Domain: iol.unh.edu Date: Wed, 24 Sep 2025 05:27:41 -0700 (PDT) Message-ID: <68d3e3bd.050a0220.4b530.0bbcSMTPIN_ADDED_MISSING@mx.google.com> Received: from [172.21.0.2] (unknown [172.18.0.240]) by postal.iol.unh.edu (Postfix) with ESMTP id CA98D6051830; Wed, 24 Sep 2025 08:27:40 -0400 (EDT) Subject: |SUCCESS| pw156870 [PATCH] [v1] net/zxdh: support multiple PF proces From: dpdklab@iol.unh.edu To: Test Report Cc: dpdk-test-reports@iol.unh.edu In-Reply-To: <20250924082331.39962-1-zhang.tianhao2@zte.com.cn> References: <20250924082331.39962-1-zhang.tianhao2@zte.com.cn> Content-Type: text/plain X-BeenThere: test-report@dpdk.org X-Mailman-Version: 2.1.29 Precedence: list List-Id: automatic DPDK test reports List-Unsubscribe: , List-Archive: List-Post: List-Help: List-Subscribe: , Errors-To: test-report-bounces@dpdk.org Test-Label: iol-compile-arm64-testing Test-Status: SUCCESS http://dpdk.org/patch/156870 _Testing PASS_ Submitter: Tianhao Zhang Date: Wednesday, September 24 2025 08:23:31 DPDK git baseline: Repo:dpdk Branch: master CommitID:0e03ab647d07cd985a7cac36cefff5195cc3a07d 156870 --> testing pass Upstream job id: Generic-DPDK-Compile-Meson#428026 Test environment and result as below: +------------------------------+--------------------+ | Environment | dpdk_meson_compile | +==============================+====================+ | Red Hat Enterprise Linux 9.5 | PASS | +------------------------------+--------------------+ | Ubuntu 20.04 | PASS | +------------------------------+--------------------+ | Fedora Linux 42 | PASS | +------------------------------+--------------------+ | Debian GNU/Linux 12 | PASS | +------------------------------+--------------------+ | Ubuntu 22.04 | PASS | +------------------------------+--------------------+ | Ubuntu 24.04 | PASS | +------------------------------+--------------------+ | CentOS Stream 9 | PASS | +------------------------------+--------------------+ | CentOS Stream 10 | PASS | +------------------------------+--------------------+ Red Hat Enterprise Linux 9.5 Kernel: 5.4 Compiler: gcc gcc (GCC) 11.5.0 20240719 (Red Hat 11.5.0-2) Ubuntu 20.04 Kernel: 5.15 Compiler: aarch64-linux-gnu-gcc gcc (Ubuntu 9.4.0-1ubuntu1~20.04.2) 9.4.0 Fedora Linux 42 Kernel: 5.4 Compiler: gcc gcc (GCC) 15.2.1 20250808 (Red Hat 15.2.1-1) Debian GNU/Linux 12 Kernel: 5.4 Compiler: gcc gcc (Debian 12.2.0-14+deb12u1) 12.2.0 Ubuntu 22.04 Kernel: 5.4 Compiler: gcc gcc (Ubuntu 11.4.0-1ubuntu1~22.04) 11.4.0 Ubuntu 24.04 Kernel: 5.4 Compiler: gcc gcc (Ubuntu 13.3.0-6ubuntu2~24.04) 13.3.0 CentOS Stream 9 Kernel: 5.4 Compiler: gcc gcc (GCC) 11.5.0 20240719 (Red Hat 11.5.0-11) CentOS Stream 10 Kernel: 5.4 Compiler: gcc gcc (GCC) 14.2.1 20250110 (Red Hat 14.2.1-8) To view detailed results, visit: https://lab.dpdk.org/results/dashboard/patchsets/34130/ UNH-IOL DPDK Community Lab To manage your email subscriptions, visit: https://lab.dpdk.org/results/dashboard/preferences/subscriptions/