From mboxrd@z Thu Jan 1 00:00:00 1970 Return-Path: Received: from mails.dpdk.org (mails.dpdk.org [217.70.189.124]) by inbox.dpdk.org (Postfix) with ESMTP id 8C3C946EF7 for ; Wed, 24 Sep 2025 14:45:04 +0200 (CEST) Received: from mails.dpdk.org (localhost [127.0.0.1]) by mails.dpdk.org (Postfix) with ESMTP id 7A7CF4027C; Wed, 24 Sep 2025 14:45:04 +0200 (CEST) Received: from mail-qt1-f225.google.com (mail-qt1-f225.google.com [209.85.160.225]) by mails.dpdk.org (Postfix) with ESMTP id 304E24027C for ; Wed, 24 Sep 2025 14:45:03 +0200 (CEST) Received: by mail-qt1-f225.google.com with SMTP id d75a77b69052e-4b7d5978dd1so48500831cf.1 for ; Wed, 24 Sep 2025 05:45:03 -0700 (PDT) DKIM-Signature: v=1; a=rsa-sha256; c=relaxed/relaxed; d=iol.unh.edu; s=unh-iol; t=1758717902; x=1759322702; darn=dpdk.org; h=references:in-reply-to:cc:to:from:subject:message-id:date:from:to :cc:subject:date:message-id:reply-to; bh=yVZGiBhAVmku8II7+tc+fL8V+WZLyOyoQ0tGSFwmzRg=; b=bkWSbSKKLYv3oOUW3838qFft94VChCirKL8N99V/RLWckDVGLRZOLeREGSwXsy9VWq xWwJGtapHYOCFaTrHco5ti55zLQJmJbc/b7s3bj96y/vdfSKrocjJM2In82lV5QreQOg 2NuvDJyyoZup7pXqBPbQ7lFyJP3e0cP1BqLK4= X-Google-DKIM-Signature: v=1; a=rsa-sha256; c=relaxed/relaxed; d=1e100.net; s=20230601; t=1758717902; x=1759322702; h=references:in-reply-to:cc:to:from:subject:message-id:date :x-gm-message-state:from:to:cc:subject:date:message-id:reply-to; bh=yVZGiBhAVmku8II7+tc+fL8V+WZLyOyoQ0tGSFwmzRg=; b=DjuagRE3PyGNKGbLF0GNP4sDo75kkoNzWgNuYPhgpHnXmUeMKXljKQ/4W+DOWf1Lfh ume9wC4nFynKD2yO3Ff2fsLpmt30Il6uy14p/xJILJzR38ymE1ldOiB3nqddp1JAUyw+ o6CBe3mGWo8EJijPzruYFvp4ZpIw2jRuAJE3V6f7F0cQjelzkBy1LQDpf2jfq7x8Fpo0 8BGdGXxyn9Cg5/+QwBBgFAgAONfGVS+IxuuuYnKDP5V7Q/3kHUS/W06+IY0CsyXPi0Jt JAEtoj6S3wxduMkqhoJ7sGx5aBlvzPsRxe6WjcpRDZS/ojqHiHpvHmOQD8ShV/rdU/ib rMww== X-Gm-Message-State: AOJu0YzvFftNRMYNUDT+TafjBLXZFbiuqgEOC3Pajnx0hH+SWTBjMStd n29g9ne+fuMr7m7Zj7wJrq4Wj8i8gIv+lDzRJKMpXNYcS9Bb7NULXDvFgf+l/P8Nx1KBYizHCxq AMoTN6nQGmSyN4+pe7+SZGGVTvEf1hlAG2ig9/8bsvZN6XVvqwFwV+ZDGUkEN X-Gm-Gg: ASbGnctflWZXol8q1KLbYONttlROQ2rwHzm5vSLWfmWgCgGg1Dbux7LsbRZoAquUI1d 6Y0K5cVT0FNwK5Zkn05YhhJQ7zCK8C++rwDtTcH0n5ZBfw9ZqNDGiKsxrfo1nAaKBRya3aSFrTZ CyDZflDCUAXMSNwCuOa+LMvHOLfHdWnBGvsYDAFBc1F69CW+ZH+RGnZ28GhDzAamjvmlgiYFDdG UlIIhzcZTJVGbu2e8ZNLK4iyN2EE83TW31qBq8vBTJxRZ83Hv21u30zvh/iYmQjXjGKvUvRmtP9 cV3igOYE9e1e6D7KJ+tQz3kF2UmunlbtjUozjnaDKfa7tiB2kQ== X-Google-Smtp-Source: AGHT+IHe3c7zv3WM2nZ1t8O03yTLJbU6zr3IjQ4D5zsn+zYK4V4woRt8FYE0ETztmtc8r40hACu+dBeBEW+Q X-Received: by 2002:a05:622a:22a0:b0:4b7:9aea:1a0d with SMTP id d75a77b69052e-4d374af1a68mr73692241cf.76.1758717902208; Wed, 24 Sep 2025 05:45:02 -0700 (PDT) Received: from postal.iol.unh.edu (postal.iol.unh.edu. [2606:4100:3880:1234::84]) by smtp-relay.gmail.com with ESMTPS id d75a77b69052e-4bd9aed1a66sm3850461cf.0.2025.09.24.05.45.02 (version=TLS1_2 cipher=ECDHE-ECDSA-AES128-GCM-SHA256 bits=128/128); Wed, 24 Sep 2025 05:45:02 -0700 (PDT) X-Relaying-Domain: iol.unh.edu Date: Wed, 24 Sep 2025 05:45:02 -0700 (PDT) Message-ID: <68d3e7ce.050a0220.3c4b1f.a226SMTPIN_ADDED_MISSING@mx.google.com> Received: from [172.21.0.2] (unknown [172.18.0.240]) by postal.iol.unh.edu (Postfix) with ESMTP id A0FBA6050A61; Wed, 24 Sep 2025 08:45:01 -0400 (EDT) Subject: |SUCCESS| pw156852-156869 [PATCH] [V13,18/18] drivers/net: add hinic From: dpdklab@iol.unh.edu To: Test Report Cc: dpdk-test-reports@iol.unh.edu In-Reply-To: <20250924075216.18750-19-wff_light@vip.163.com> References: <20250924075216.18750-19-wff_light@vip.163.com> Content-Type: text/plain X-BeenThere: test-report@dpdk.org X-Mailman-Version: 2.1.29 Precedence: list List-Id: automatic DPDK test reports List-Unsubscribe: , List-Archive: List-Post: List-Help: List-Subscribe: , Errors-To: test-report-bounces@dpdk.org Test-Label: iol-unit-arm64-testing Test-Status: SUCCESS http://dpdk.org/patch/156869 _Testing PASS_ Submitter: Feifei Wang Date: Wednesday, September 24 2025 07:52:05 DPDK git baseline: Repo:dpdk Branch: master CommitID:0e03ab647d07cd985a7cac36cefff5195cc3a07d 156852-156869 --> testing pass Upstream job id: Generic-Unit-Test-DPDK#374346 Test environment and result as below: +------------------------------+------------------------------+---------------------------+--------------+----------------+ | Environment | cryptodev_sw_snow3g_autotest | cryptodev_sw_zuc_autotest | lpm_autotest | dpdk_unit_test | +==============================+==============================+===========================+==============+================+ | Debian 12 (arm) | PASS | PASS | SKIPPED | SKIPPED | +------------------------------+------------------------------+---------------------------+--------------+----------------+ | Ubuntu 20.04 | SKIPPED | SKIPPED | PASS | PASS | +------------------------------+------------------------------+---------------------------+--------------+----------------+ | Red Hat Enterprise Linux 9.5 | SKIPPED | SKIPPED | SKIPPED | PASS | +------------------------------+------------------------------+---------------------------+--------------+----------------+ | CentOS Stream 10 | SKIPPED | SKIPPED | SKIPPED | PASS | +------------------------------+------------------------------+---------------------------+--------------+----------------+ | Fedora Linux 42 | SKIPPED | SKIPPED | SKIPPED | PASS | +------------------------------+------------------------------+---------------------------+--------------+----------------+ | Ubuntu 22.04 | SKIPPED | SKIPPED | SKIPPED | PASS | +------------------------------+------------------------------+---------------------------+--------------+----------------+ | CentOS Stream 9 | SKIPPED | SKIPPED | SKIPPED | PASS | +------------------------------+------------------------------+---------------------------+--------------+----------------+ | Fedora Linux 41 | SKIPPED | SKIPPED | SKIPPED | PASS | +------------------------------+------------------------------+---------------------------+--------------+----------------+ | Debian GNU/Linux 12 | SKIPPED | SKIPPED | SKIPPED | PASS | +------------------------------+------------------------------+---------------------------+--------------+----------------+ | Ubuntu 24.04 | SKIPPED | SKIPPED | SKIPPED | PASS | +------------------------------+------------------------------+---------------------------+--------------+----------------+ | Fedora Linux 40 | SKIPPED | SKIPPED | SKIPPED | PASS | +------------------------------+------------------------------+---------------------------+--------------+----------------+ Debian 12 (arm) Kernel: Depends on container host Compiler: gcc (Debian 12.2.0-14) 12.2.0 Ubuntu 20.04 Kernel: 5.4 Compiler: gcc gcc (Ubuntu 9.4.0-1ubuntu1~20.04.2) 9.4.0 Red Hat Enterprise Linux 9.5 Kernel: 5.4 Compiler: gcc gcc (GCC) 11.5.0 20240719 (Red Hat 11.5.0-2) CentOS Stream 10 Kernel: 5.4 Compiler: gcc gcc (GCC) 14.2.1 20250110 (Red Hat 14.2.1-8) Fedora Linux 42 Kernel: 5.4 Compiler: gcc gcc (GCC) 15.2.1 20250808 (Red Hat 15.2.1-1) Ubuntu 22.04 Kernel: 5.15 Compiler: gcc gcc (Ubuntu 11.4.0-1ubuntu1~22.04.2) 11.4.0 CentOS Stream 9 Kernel: 5.4 Compiler: gcc gcc (GCC) 11.5.0 20240719 (Red Hat 11.5.0-11) Fedora Linux 41 Kernel: 5.4 Compiler: gcc gcc (GCC) 14.3.1 20250523 (Red Hat 14.3.1-1) Debian GNU/Linux 12 Kernel: 5.4 Compiler: gcc gcc (Debian 12.2.0-14+deb12u1) 12.2.0 Ubuntu 24.04 Kernel: 5.4 Compiler: gcc gcc (Ubuntu 13.3.0-6ubuntu2~24.04) 13.3.0 Fedora Linux 40 Kernel: 5.4 Compiler: clang gcc (GCC) 14.2.1 20240912 (Red Hat 14.2.1-3) To view detailed results, visit: https://lab.dpdk.org/results/dashboard/patchsets/34129/ UNH-IOL DPDK Community Lab To manage your email subscriptions, visit: https://lab.dpdk.org/results/dashboard/preferences/subscriptions/