From mboxrd@z Thu Jan 1 00:00:00 1970 Return-Path: Received: from mails.dpdk.org (mails.dpdk.org [217.70.189.124]) by inbox.dpdk.org (Postfix) with ESMTP id 5C0C446EF7 for ; Wed, 24 Sep 2025 15:35:48 +0200 (CEST) Received: from mails.dpdk.org (localhost [127.0.0.1]) by mails.dpdk.org (Postfix) with ESMTP id 45D454027C; Wed, 24 Sep 2025 15:35:48 +0200 (CEST) Received: from mail-il1-f227.google.com (mail-il1-f227.google.com [209.85.166.227]) by mails.dpdk.org (Postfix) with ESMTP id A56864027C for ; Wed, 24 Sep 2025 15:35:46 +0200 (CEST) Received: by mail-il1-f227.google.com with SMTP id e9e14a558f8ab-42571046185so22515775ab.0 for ; Wed, 24 Sep 2025 06:35:46 -0700 (PDT) DKIM-Signature: v=1; a=rsa-sha256; c=relaxed/relaxed; d=iol.unh.edu; s=unh-iol; t=1758720946; x=1759325746; darn=dpdk.org; h=references:in-reply-to:cc:to:from:subject:message-id:date:from:to :cc:subject:date:message-id:reply-to; bh=WkPkvgUe6FiLMqWQgpXKbgcKNVUKSxxtiuFhALspdwc=; b=CQiMxFCBPOT5ARWqHPzZFCMbibGMgBwueCHoqiMWbtcGCc4zBELCzWuDpJNNqr5rXF AchSYv25gdYh3tDanef4wejwRcmL32zYqgUmxxOOD14bU/Zn6hvRwooIWWxCcw4d2IDc vZPakxqYSbp7gWGDuD89AfP2dbGn1iDQq3jBI= X-Google-DKIM-Signature: v=1; a=rsa-sha256; c=relaxed/relaxed; d=1e100.net; s=20230601; t=1758720946; x=1759325746; h=references:in-reply-to:cc:to:from:subject:message-id:date :x-gm-message-state:from:to:cc:subject:date:message-id:reply-to; bh=WkPkvgUe6FiLMqWQgpXKbgcKNVUKSxxtiuFhALspdwc=; b=S3RvABykc6hdB1I2thz+N6ReOdWKax7dfU1mVpts7DwBP6UB/wcnGhzCyepajRSODD A76r7jHFTlCeKw00fo4v+U5CIvGmrrTIeWan7mPak84OXI5I8UWs/KNgao/v/yS0gP4N OlXDQX8hZvI+SNLnkyY05bsdheBqQyY5AmLb4TDc8y15vqz7KfKa83LgqfxxvwUInmOi MUkgHOfZFBiKKORUN0PkxPYL5GGcU3TDyTOcCOqRz209TbNrrhZNKYbzqIxFu10YqVNe 8gSY3LWEOjBjp7J8ZNLezJPpWrn38dkvHqdYJcBgfgHkkgB9ZKdk3aieHB1wfMB3juCx dEtA== X-Gm-Message-State: AOJu0YylTTQCfogvQjKGUyIpW6h0lzWerpjsz6m5nHc+IE4DQteM229+ J7yqlow1xb9NRcKvWz5hu0eW51dACKiNX6HB2w9dNx0vL1/xTpda6HQr+t9YVmVxuZ0bgg+TDbt rXMUpSyGz0bCo4Eh9XYMDevdvygljuQU4s7F9i7rveS5xOamHdJfvc989eipX X-Gm-Gg: ASbGncu/Rlxajf36rPsiLcvqkDLMeebiKpcLyntcD7b1XKKQ3ngaFX5+e2DVPP9b6BB UQrShvGtbbbqLYCGLSig05kbPAymJ5/+P45eRiyZNPzC9hEzNlW2tKvatWPj6LRpmIROHb0aawd kZkyerZRcL5U7iz0TJw4fFX2OcJ4uLYxftfcRUOlCm2WAdwEiIOvZ/cbdfr7atbiJer0vutVTwd EvBeyA3vOvMdqaKYmqwrRFDEiuh9CQz6TTuKXXBb4/qoAMAOLggaMzhhOXcp43Lj6866c7PJnSm EvB8c5TLSUUzMR+DNIzpQ6nKt22uqPFb1OsvkfKKVWghMsNZAQ== X-Google-Smtp-Source: AGHT+IHJZ2qCP2ewS9Q8XrTdBDcSEGvcBXe7Fv149RVMGfYdmul4GRcb8/lzPptEBRbVUBFEMFvx/HpCdGAO X-Received: by 2002:a05:6e02:258a:b0:425:799b:e05a with SMTP id e9e14a558f8ab-42581e991femr86138895ab.27.1758720945792; Wed, 24 Sep 2025 06:35:45 -0700 (PDT) Received: from postal.iol.unh.edu (postal.iol.unh.edu. [2606:4100:3880:1234::84]) by smtp-relay.gmail.com with ESMTPS id 8926c6da1cb9f-54fc0cbbf15sm757211173.47.2025.09.24.06.35.45 (version=TLS1_2 cipher=ECDHE-ECDSA-AES128-GCM-SHA256 bits=128/128); Wed, 24 Sep 2025 06:35:45 -0700 (PDT) X-Relaying-Domain: iol.unh.edu Date: Wed, 24 Sep 2025 06:35:45 -0700 (PDT) Message-ID: <68d3f3b1.050a0220.1bda90.319fSMTPIN_ADDED_MISSING@mx.google.com> Received: from [172.21.0.3] (unknown [172.18.0.240]) by postal.iol.unh.edu (Postfix) with ESMTP id 48DE46051830; Wed, 24 Sep 2025 09:35:45 -0400 (EDT) Subject: |SUCCESS| pw156874-156875 [PATCH] [v2,2/2] build: add backward compa From: dpdklab@iol.unh.edu To: Test Report Cc: dpdk-test-reports@iol.unh.edu In-Reply-To: <20250924123422.224988-3-ktraynor@redhat.com> References: <20250924123422.224988-3-ktraynor@redhat.com> Content-Type: text/plain X-BeenThere: test-report@dpdk.org X-Mailman-Version: 2.1.29 Precedence: list List-Id: automatic DPDK test reports List-Unsubscribe: , List-Archive: List-Post: List-Help: List-Subscribe: , Errors-To: test-report-bounces@dpdk.org Test-Label: iol-unit-amd64-testing Test-Status: SUCCESS http://dpdk.org/patch/156875 _Testing PASS_ Submitter: Kevin Traynor Date: Wednesday, September 24 2025 12:34:22 DPDK git baseline: Repo:dpdk Branch: master CommitID:0e03ab647d07cd985a7cac36cefff5195cc3a07d 156874-156875 --> testing pass Upstream job id: Generic-VM-Unit-Test-DPDK#31340 Test environment and result as below: +-------------------------------+----------------+ | Environment | dpdk_unit_test | +===============================+================+ | CentOS Stream 9 | PASS | +-------------------------------+----------------+ | Fedora Linux 40 | PASS | +-------------------------------+----------------+ | CentOS Stream 10 | PASS | +-------------------------------+----------------+ | Debian GNU/Linux 12 | PASS | +-------------------------------+----------------+ | Fedora Linux 41 | PASS | +-------------------------------+----------------+ | Red Hat Enterprise Linux 9.5 | PASS | +-------------------------------+----------------+ | Red Hat Enterprise Linux 8.10 | PASS | +-------------------------------+----------------+ | Ubuntu 20.04 | PASS | +-------------------------------+----------------+ | Fedora Linux 42 | PASS | +-------------------------------+----------------+ | Ubuntu 24.04 | PASS | +-------------------------------+----------------+ | Ubuntu 22.04 | PASS | +-------------------------------+----------------+ | Windows Server 2022 | PASS | +-------------------------------+----------------+ CentOS Stream 9 Kernel: 5.15 Compiler: gcc gcc (GCC) 11.5.0 20240719 (Red Hat 11.5.0-11) Fedora Linux 40 Kernel: 5.15 Compiler: clang gcc (GCC) 14.2.1 20240912 (Red Hat 14.2.1-3) CentOS Stream 10 Kernel: 5.15 Compiler: gcc gcc (GCC) 14.2.1 20250110 (Red Hat 14.2.1-8) Debian GNU/Linux 12 Kernel: 5.15 Compiler: gcc gcc (Debian 12.2.0-14+deb12u1) 12.2.0 Fedora Linux 41 Kernel: 5.15 Compiler: gcc gcc (GCC) 14.3.1 20250523 (Red Hat 14.3.1-1) Red Hat Enterprise Linux 9.5 Kernel: 5.15 Compiler: gcc gcc (GCC) 11.5.0 20240719 (Red Hat 11.5.0-2) Red Hat Enterprise Linux 8.10 Kernel: 5.15 Compiler: gcc gcc (GCC) 8.5.0 20210514 (Red Hat 8.5.0-22) Ubuntu 20.04 Kernel: 5.15 Compiler: gcc gcc (Ubuntu 9.4.0-1ubuntu1~20.04.2) 9.4.0 Fedora Linux 42 Kernel: 5.15 Compiler: gcc gcc (GCC) 15.2.1 20250808 (Red Hat 15.2.1-1) Ubuntu 24.04 Kernel: 5.15 Compiler: gcc gcc (Ubuntu 13.3.0-6ubuntu2~24.04) 13.3.0 Ubuntu 22.04 Kernel: 5.15 Compiler: gcc gcc (Ubuntu 11.4.0-1ubuntu1~22.04) 11.4.0 Windows Server 2022 Kernel: 10.0.20348.2031 Compiler: clang 15.0.7, gcc 14.1.0 (MinGW), and MSVC VS 19.39.33521 To view detailed results, visit: https://lab.dpdk.org/results/dashboard/patchsets/34134/ UNH-IOL DPDK Community Lab To manage your email subscriptions, visit: https://lab.dpdk.org/results/dashboard/preferences/subscriptions/