From mboxrd@z Thu Jan 1 00:00:00 1970 Return-Path: Received: from mails.dpdk.org (mails.dpdk.org [217.70.189.124]) by inbox.dpdk.org (Postfix) with ESMTP id DD85F46EF7 for ; Wed, 24 Sep 2025 15:48:16 +0200 (CEST) Received: from mails.dpdk.org (localhost [127.0.0.1]) by mails.dpdk.org (Postfix) with ESMTP id BF68C40289; Wed, 24 Sep 2025 15:48:16 +0200 (CEST) Received: from mail-pg1-f225.google.com (mail-pg1-f225.google.com [209.85.215.225]) by mails.dpdk.org (Postfix) with ESMTP id 7ACE840289 for ; Wed, 24 Sep 2025 15:48:15 +0200 (CEST) Received: by mail-pg1-f225.google.com with SMTP id 41be03b00d2f7-b54dd647edcso6560761a12.1 for ; Wed, 24 Sep 2025 06:48:15 -0700 (PDT) DKIM-Signature: v=1; a=rsa-sha256; c=relaxed/relaxed; d=iol.unh.edu; s=unh-iol; t=1758721694; x=1759326494; darn=dpdk.org; h=references:in-reply-to:cc:to:from:subject:message-id:date:from:to :cc:subject:date:message-id:reply-to; bh=OQ8Atla08dDbBnKI8FxSUeVJA1AQaq44UTBxtTNg6Xk=; b=A4KpoG73BOrwncYRT9Q/Pz9DIy1bbGwX6jtOT++r96niV4C6oq+zarehFyPgoDuJO0 1BGc+Oy5jC59Tc8dmiJavcQEQesPtW4a83iDcQtLFqh65hmaNeZJhwaeISV80EaV0vit p3+c6aBVNrMXhGhui8W+ndbBcTGpz/6/jiMNs= X-Google-DKIM-Signature: v=1; a=rsa-sha256; c=relaxed/relaxed; d=1e100.net; s=20230601; t=1758721694; x=1759326494; h=references:in-reply-to:cc:to:from:subject:message-id:date :x-gm-message-state:from:to:cc:subject:date:message-id:reply-to; bh=OQ8Atla08dDbBnKI8FxSUeVJA1AQaq44UTBxtTNg6Xk=; b=dibq2H4QCh5R0n4qvk1OIrVPWBD3ElbbUNEsFzL+vzRhbCTPes/dubhy04lUU3OJjN 8JcpvwKwlFjeoTozVU8i6FcHcexHsTjNsszkoNMreHEkHM5Z/sOLUN+a8Ea6bvVcXnhX +JhCTHRxSM0ERy7DK9WVaMF1dBbS95harIWGG/TD4E5qYFoQ6cPRsjlgcCUU32VyTHv4 1TEqOe+AgdhiHL5fwJkTA7qfJ2fzc4aIGBb9n75naaAOdZhZP7fIs4qAMp3fVH09GHj3 eHqCvWVpX/BwdXxJWuYrAKavb/GgMmz/+XWlRoiRzMIRDVFCMwc7jHP7rRld2mnweHu6 vZbw== X-Gm-Message-State: AOJu0Yz2O+oO0JwclL4q2CmcwuhhrgEQYfCUga25MM/fc1W27ei4Urqj 0DlLdMwwDa2d0ymdX7Cgc8k/iEARvUbuo0Hv3G6YuBTh852ced3t/jpUFUCz3+7pTlgI9bKqsQc HjtqgJ5DPXqANmRX/YjHfvczoYJ65zgClW0OOGyNT+Yf5 X-Gm-Gg: ASbGncuHNIxYLFy8Ni0YjTIPaT+cKrtTMWI6xC8Px241l7YpSARKNOCAHqLp+JbrzIv EfqDXPR1/xA7n8lq+R8xQHo9RYpJm4/eT8XTRDl9je6uwew5tjVyf1EjhV2s5b5l7K0vDQhV53D 2VT2I+r+le48JYtnaZdL32LuTlBlI6JyK5jzxZWYgvpcbebcOFnC+fEXcwyboomGLN66oosDfVi /apRBzgOiQsoSxwkhNURVbTnRmLlHzwgYmJb/X1SsYCgPh+oWtm4hYNaiOKZvs84DmqDBPyisE0 QMnDmr5l4nzCQ9pi/EIyO/vtTm5T2Wrm94/mFYo1Lb1Fn3m4ofuX7AUb9mdeRS+CWPeAjhqb X-Google-Smtp-Source: AGHT+IEh7XV6yjN2sgt1b/d3xj7LCjACsQO4WE72hb0JOeIkB3KkXlF8fMM09W6TQUa6kk4QbSfZ0pOyAlvI X-Received: by 2002:a17:902:f78d:b0:269:8dc2:cac2 with SMTP id d9443c01a7336-27cc2d9259amr76937835ad.27.1758721694548; Wed, 24 Sep 2025 06:48:14 -0700 (PDT) Received: from postal.iol.unh.edu (postal.iol.unh.edu. [132.177.123.84]) by smtp-relay.gmail.com with ESMTPS id d9443c01a7336-26980045da2sm12283095ad.15.2025.09.24.06.48.14 (version=TLS1_2 cipher=ECDHE-ECDSA-AES128-GCM-SHA256 bits=128/128); Wed, 24 Sep 2025 06:48:14 -0700 (PDT) X-Relaying-Domain: iol.unh.edu Date: Wed, 24 Sep 2025 06:48:14 -0700 (PDT) Message-ID: <68d3f69e.170a0220.c55d3.069dSMTPIN_ADDED_MISSING@mx.google.com> Received: from [172.21.0.2] (unknown [172.18.0.240]) by postal.iol.unh.edu (Postfix) with ESMTP id BED5A60003E8; Wed, 24 Sep 2025 09:48:13 -0400 (EDT) Subject: |SUCCESS| pw156874-156875 [PATCH] [v2,2/2] build: add backward compa From: dpdklab@iol.unh.edu To: Test Report Cc: dpdk-test-reports@iol.unh.edu In-Reply-To: <20250924123422.224988-3-ktraynor@redhat.com> References: <20250924123422.224988-3-ktraynor@redhat.com> Content-Type: text/plain X-BeenThere: test-report@dpdk.org X-Mailman-Version: 2.1.29 Precedence: list List-Id: automatic DPDK test reports List-Unsubscribe: , List-Archive: List-Post: List-Help: List-Subscribe: , Errors-To: test-report-bounces@dpdk.org Test-Label: iol-unit-amd64-testing Test-Status: SUCCESS http://dpdk.org/patch/156875 _Testing PASS_ Submitter: Kevin Traynor Date: Wednesday, September 24 2025 12:34:22 DPDK git baseline: Repo:dpdk Branch: master CommitID:0e03ab647d07cd985a7cac36cefff5195cc3a07d 156874-156875 --> testing pass Upstream job id: Generic-VM-Unit-Test-DPDK#31341 Test environment and result as below: +-------------------------------+----------------+ | Environment | dpdk_unit_test | +===============================+================+ | CentOS Stream 9 | PASS | +-------------------------------+----------------+ | Fedora Linux 40 | PASS | +-------------------------------+----------------+ | CentOS Stream 10 | PASS | +-------------------------------+----------------+ | Debian GNU/Linux 12 | PASS | +-------------------------------+----------------+ | Fedora Linux 41 | PASS | +-------------------------------+----------------+ | Red Hat Enterprise Linux 9.5 | PASS | +-------------------------------+----------------+ | Red Hat Enterprise Linux 8.10 | PASS | +-------------------------------+----------------+ | Ubuntu 20.04 | PASS | +-------------------------------+----------------+ | Fedora Linux 42 | PASS | +-------------------------------+----------------+ | Ubuntu 24.04 | PASS | +-------------------------------+----------------+ | Ubuntu 22.04 | PASS | +-------------------------------+----------------+ | Windows Server 2022 | PASS | +-------------------------------+----------------+ CentOS Stream 9 Kernel: 5.15 Compiler: gcc gcc (GCC) 11.5.0 20240719 (Red Hat 11.5.0-11) Fedora Linux 40 Kernel: 5.15 Compiler: clang gcc (GCC) 14.2.1 20240912 (Red Hat 14.2.1-3) CentOS Stream 10 Kernel: 5.15 Compiler: gcc gcc (GCC) 14.2.1 20250110 (Red Hat 14.2.1-8) Debian GNU/Linux 12 Kernel: 5.15 Compiler: gcc gcc (Debian 12.2.0-14+deb12u1) 12.2.0 Fedora Linux 41 Kernel: 5.15 Compiler: gcc gcc (GCC) 14.3.1 20250523 (Red Hat 14.3.1-1) Red Hat Enterprise Linux 9.5 Kernel: 5.15 Compiler: gcc gcc (GCC) 11.5.0 20240719 (Red Hat 11.5.0-2) Red Hat Enterprise Linux 8.10 Kernel: 5.15 Compiler: gcc gcc (GCC) 8.5.0 20210514 (Red Hat 8.5.0-22) Ubuntu 20.04 Kernel: 5.15 Compiler: gcc gcc (Ubuntu 9.4.0-1ubuntu1~20.04.2) 9.4.0 Fedora Linux 42 Kernel: 5.15 Compiler: gcc gcc (GCC) 15.2.1 20250808 (Red Hat 15.2.1-1) Ubuntu 24.04 Kernel: 5.15 Compiler: gcc gcc (Ubuntu 13.3.0-6ubuntu2~24.04) 13.3.0 Ubuntu 22.04 Kernel: 5.15 Compiler: gcc gcc (Ubuntu 11.4.0-1ubuntu1~22.04) 11.4.0 Windows Server 2022 Kernel: 10.0.20348.2031 Compiler: clang 15.0.7, gcc 14.1.0 (MinGW), and MSVC VS 19.39.33521 To view detailed results, visit: https://lab.dpdk.org/results/dashboard/patchsets/34134/ UNH-IOL DPDK Community Lab To manage your email subscriptions, visit: https://lab.dpdk.org/results/dashboard/preferences/subscriptions/