From mboxrd@z Thu Jan 1 00:00:00 1970 Return-Path: Received: from mails.dpdk.org (mails.dpdk.org [217.70.189.124]) by inbox.dpdk.org (Postfix) with ESMTP id 8F8E446EF7 for ; Wed, 24 Sep 2025 16:06:23 +0200 (CEST) Received: from mails.dpdk.org (localhost [127.0.0.1]) by mails.dpdk.org (Postfix) with ESMTP id 8B8A840685; Wed, 24 Sep 2025 16:06:23 +0200 (CEST) Received: from mail-pj1-f97.google.com (mail-pj1-f97.google.com [209.85.216.97]) by mails.dpdk.org (Postfix) with ESMTP id 875E840698 for ; Wed, 24 Sep 2025 16:06:22 +0200 (CEST) Received: by mail-pj1-f97.google.com with SMTP id 98e67ed59e1d1-33082aed31dso5616256a91.3 for ; Wed, 24 Sep 2025 07:06:22 -0700 (PDT) DKIM-Signature: v=1; a=rsa-sha256; c=relaxed/relaxed; d=iol.unh.edu; s=unh-iol; t=1758722782; x=1759327582; darn=dpdk.org; h=references:in-reply-to:cc:to:from:subject:message-id:date:from:to :cc:subject:date:message-id:reply-to; bh=n6QvYJRwIueXYsx90VOAYXYvJEC9ihRQ9V4LqQ5r7rA=; b=J68GJXCR5l8+tPlnMtzA+68ws0x0l84Ca/0NnGgaIvg/LjLP0e34Dih4tIEQ2UgMm4 hhTXiPG9fR5mlBklaG9sLsL3u4xKeBscFCwsLdGzcyqY6ZMMgiQVwZiLkBPG2YQR/r84 pTnxgY2JB70CnjECgLjXCU8XmQNWcdL8BtxLQ= X-Google-DKIM-Signature: v=1; a=rsa-sha256; c=relaxed/relaxed; d=1e100.net; s=20230601; t=1758722782; x=1759327582; h=references:in-reply-to:cc:to:from:subject:message-id:date :x-gm-message-state:from:to:cc:subject:date:message-id:reply-to; bh=n6QvYJRwIueXYsx90VOAYXYvJEC9ihRQ9V4LqQ5r7rA=; b=JKWAC5OpdznxOHEvTilJ+GujLqMLS6HM9CpKmak/GUcodXiDC8LURUJl8Nqn4NaePs NI/3ChGqE4VJy2AIG+L5VmUsfRRddHuTnkziaF6f67tBPxRsxF0PsRYYv8oLZqnuUSyI qsoxgacc01MSVkLCMByCyrNNgYfkE8OdV2QuG0GRvYjM9R9MTz0PfpSTdXgwfgpJspev b9JnQBrUcD8HfGmoSOT/ZNqDSGnx2arXoZ6QdKYf0Xh3Bz12ZyJCreD0xryldhO8U2ku xdi0btbZdrSw59BqoIlir9pYu4s85ZayKy0VJMNB+SQOmGPPuk3k6lfJVPBg7IbsN0ch v1AA== X-Gm-Message-State: AOJu0YzwcSmHj1jn+WaRKlw7c8Jzp7LFFnv+MdBWpfKHKXSMAluC/Ylw 4NUNPdVIJxus3cCisg2R9/ha3R8LU5b+Jint5dgvA6lwJHorL8UXTfjlbxMe4nfK1ge/NeI+YZW 0vfsxjOK8xaLDoBd9PN03uwvL5D8M9s4HYkD6KBFhBqQH2UdKOzz+rW66hWAi X-Gm-Gg: ASbGncuzgWK2qbwxpRzbmPJN/SzGw3zLLEKxZbR9juxRqZa8GRDRPRtpmYaIiGBoSWt qsYvjGCzjotX1FHa335ZjhJL/H5wS2YiZYENZ0NcDNZW42LUR/myDYBwCrVycvrgqfzTGqcpinr BsM9ABrZgXsjzsSx89FQWIQulx6+SHsf/JLziub3WYKHNVSzRNsvbxfX+D4d87miT+OnUC8LZRm oK4ah0y1TPIFRNaF3s415XAAf26mK0l+yTyuwMLuBzTVeVPBHaEKjPw4IVUqSG6ompVl3EqAMER ug4DJkKIcuugMuPITeMCNC7tMHxzVEbaliCmXO6CyXSjmhNNRg== X-Google-Smtp-Source: AGHT+IF3yWlZ6wAmP01KtAVGUvUqjbYsgwb57tr8gm2ZTk1haDrg0qk+jJNe8asYslYo2KOQc0hQtaM7+DTF X-Received: by 2002:a17:90b:3ccd:b0:32e:749d:fcb4 with SMTP id 98e67ed59e1d1-332a9544b4bmr7654443a91.6.1758722781588; Wed, 24 Sep 2025 07:06:21 -0700 (PDT) Received: from postal.iol.unh.edu (postal.iol.unh.edu. [2606:4100:3880:1234::84]) by smtp-relay.gmail.com with ESMTPS id 41be03b00d2f7-b5513a2f6b2sm808270a12.4.2025.09.24.07.06.21 (version=TLS1_2 cipher=ECDHE-ECDSA-AES128-GCM-SHA256 bits=128/128); Wed, 24 Sep 2025 07:06:21 -0700 (PDT) X-Relaying-Domain: iol.unh.edu Date: Wed, 24 Sep 2025 07:06:21 -0700 (PDT) Message-ID: <68d3fadd.630a0220.6184e.723aSMTPIN_ADDED_MISSING@mx.google.com> Received: from [172.21.0.3] (unknown [172.18.0.240]) by postal.iol.unh.edu (Postfix) with ESMTP id C440E6050A61; Wed, 24 Sep 2025 10:06:20 -0400 (EDT) Subject: |SUCCESS| pw156874-156875 [PATCH] [v2,2/2] build: add backward compa From: dpdklab@iol.unh.edu To: Test Report Cc: dpdk-test-reports@iol.unh.edu In-Reply-To: <20250924123422.224988-3-ktraynor@redhat.com> References: <20250924123422.224988-3-ktraynor@redhat.com> Content-Type: text/plain X-BeenThere: test-report@dpdk.org X-Mailman-Version: 2.1.29 Precedence: list List-Id: automatic DPDK test reports List-Unsubscribe: , List-Archive: List-Post: List-Help: List-Subscribe: , Errors-To: test-report-bounces@dpdk.org Test-Label: iol-compile-amd64-testing Test-Status: SUCCESS http://dpdk.org/patch/156875 _Testing PASS_ Submitter: Kevin Traynor Date: Wednesday, September 24 2025 12:34:22 DPDK git baseline: Repo:dpdk Branch: master CommitID:0e03ab647d07cd985a7cac36cefff5195cc3a07d 156874-156875 --> testing pass Upstream job id: Generic-DPDK-Compile-Meson#428079 Test environment and result as below: +-------------------------------+--------------------+-------------------------+-------------------+-------------------+------------------+----------------------+ | Environment | dpdk_meson_compile | dpdk_llvm_clang_compile | dpdk_compile_spdk | dpdk_msvc_compile | dpdk_compile_ovs | dpdk_mingw64_compile | +===============================+====================+=========================+===================+===================+==================+======================+ | Ubuntu 20.04 | PASS | SKIPPED | SKIPPED | SKIPPED | SKIPPED | SKIPPED | +-------------------------------+--------------------+-------------------------+-------------------+-------------------+------------------+----------------------+ | FreeBSD 14.2 | PASS | SKIPPED | SKIPPED | SKIPPED | SKIPPED | SKIPPED | +-------------------------------+--------------------+-------------------------+-------------------+-------------------+------------------+----------------------+ | CentOS Stream 9 | PASS | SKIPPED | PASS | SKIPPED | SKIPPED | SKIPPED | +-------------------------------+--------------------+-------------------------+-------------------+-------------------+------------------+----------------------+ | CentOS Stream 10 | PASS | SKIPPED | SKIPPED | SKIPPED | SKIPPED | SKIPPED | +-------------------------------+--------------------+-------------------------+-------------------+-------------------+------------------+----------------------+ | Debian GNU/Linux 12 | PASS | SKIPPED | PASS | SKIPPED | SKIPPED | SKIPPED | +-------------------------------+--------------------+-------------------------+-------------------+-------------------+------------------+----------------------+ | Fedora Linux 42 | PASS | SKIPPED | PASS | SKIPPED | PASS | SKIPPED | +-------------------------------+--------------------+-------------------------+-------------------+-------------------+------------------+----------------------+ | openSUSE Leap 15.6 | PASS | SKIPPED | SKIPPED | SKIPPED | SKIPPED | SKIPPED | +-------------------------------+--------------------+-------------------------+-------------------+-------------------+------------------+----------------------+ | Red Hat Enterprise Linux 8.10 | PASS | SKIPPED | SKIPPED | SKIPPED | SKIPPED | SKIPPED | +-------------------------------+--------------------+-------------------------+-------------------+-------------------+------------------+----------------------+ | Red Hat Enterprise Linux 9.5 | PASS | SKIPPED | SKIPPED | SKIPPED | SKIPPED | SKIPPED | +-------------------------------+--------------------+-------------------------+-------------------+-------------------+------------------+----------------------+ | Ubuntu 22.04 | PASS | SKIPPED | PASS | SKIPPED | SKIPPED | SKIPPED | +-------------------------------+--------------------+-------------------------+-------------------+-------------------+------------------+----------------------+ | Ubuntu 24.04 | PASS | SKIPPED | PASS | SKIPPED | PASS | SKIPPED | +-------------------------------+--------------------+-------------------------+-------------------+-------------------+------------------+----------------------+ | Alpine Linux 3.22.0 | PASS | SKIPPED | SKIPPED | SKIPPED | SKIPPED | SKIPPED | +-------------------------------+--------------------+-------------------------+-------------------+-------------------+------------------+----------------------+ | Windows Server 2022 | SKIPPED | PASS | SKIPPED | PASS | SKIPPED | PASS | +-------------------------------+--------------------+-------------------------+-------------------+-------------------+------------------+----------------------+ Ubuntu 20.04 Kernel: 4.19 Compiler: gcc gcc (Ubuntu 9.4.0-1ubuntu1~20.04.2) 9.4.0 FreeBSD 14.2 Kernel: 14.2-RELEASE Compiler: clang 18.1.6 CentOS Stream 9 Kernel: 5.15 Compiler: gcc gcc (GCC) 11.5.0 20240719 (Red Hat 11.5.0-11) CentOS Stream 10 Kernel: 5.15 Compiler: gcc gcc (GCC) 14.2.1 20250110 (Red Hat 14.2.1-8) Debian GNU/Linux 12 Kernel: 5.15 Compiler: gcc gcc (Debian 12.2.0-14+deb12u1) 12.2.0 Fedora Linux 42 Kernel: 5.15 Compiler: gcc gcc (GCC) 15.2.1 20250808 (Red Hat 15.2.1-1) openSUSE Leap 15.6 Kernel: 5.15 Compiler: gcc gcc (SUSE Linux) 7.5.0 Red Hat Enterprise Linux 8.10 Kernel: 5.15 Compiler: gcc gcc (GCC) 8.5.0 20210514 (Red Hat 8.5.0-22) Red Hat Enterprise Linux 9.5 Kernel: 5.15 Compiler: gcc gcc (GCC) 11.5.0 20240719 (Red Hat 11.5.0-2) Ubuntu 22.04 Kernel: 5.15 Compiler: gcc gcc (Ubuntu 11.4.0-1ubuntu1~22.04) 11.4.0 Ubuntu 24.04 Kernel: 5.15 Compiler: gcc gcc (Ubuntu 13.3.0-6ubuntu2~24.04) 13.3.0 Alpine Linux 3.22.0 Kernel: 5.15 Compiler: gcc gcc (Alpine 14.2.0) 14.2.0 Windows Server 2022 Kernel: 10.0.20348.2031 Compiler: clang 15.0.7, gcc 14.1.0 (MinGW), and MSVC VS 19.39.33521 To view detailed results, visit: https://lab.dpdk.org/results/dashboard/patchsets/34134/ UNH-IOL DPDK Community Lab To manage your email subscriptions, visit: https://lab.dpdk.org/results/dashboard/preferences/subscriptions/