From mboxrd@z Thu Jan 1 00:00:00 1970 Return-Path: Received: from mails.dpdk.org (mails.dpdk.org [217.70.189.124]) by inbox.dpdk.org (Postfix) with ESMTP id 5E22146EF7 for ; Wed, 24 Sep 2025 16:13:58 +0200 (CEST) Received: from mails.dpdk.org (localhost [127.0.0.1]) by mails.dpdk.org (Postfix) with ESMTP id 53D7040289; Wed, 24 Sep 2025 16:13:58 +0200 (CEST) Received: from mail-qk1-f228.google.com (mail-qk1-f228.google.com [209.85.222.228]) by mails.dpdk.org (Postfix) with ESMTP id A082D40289 for ; Wed, 24 Sep 2025 16:13:56 +0200 (CEST) Received: by mail-qk1-f228.google.com with SMTP id af79cd13be357-84cb12f56c7so297169185a.1 for ; Wed, 24 Sep 2025 07:13:56 -0700 (PDT) DKIM-Signature: v=1; a=rsa-sha256; c=relaxed/relaxed; d=iol.unh.edu; s=unh-iol; t=1758723236; x=1759328036; darn=dpdk.org; h=references:in-reply-to:cc:to:from:subject:message-id:date:from:to :cc:subject:date:message-id:reply-to; bh=xVJrTmjvQ7t4q//sI9vtYtpW4PDYIV8+Ehr6aekbkmc=; b=AQAJUrp/PoMnTIXz5HtqmbkunSQoe4AmNFsJBLeaHc6XeIKe+wsUmJE0+T1Nf/BNcW h2V7b6tHbxi66y6PjL2txJIfC0XudiruQzldQcFRadTvJKmn8kDI3SfZ6fXiOrLxyeMF xAiiEvMIuNjHwt2J2RmNQw8cfZpxww6a5TwfE= X-Google-DKIM-Signature: v=1; a=rsa-sha256; c=relaxed/relaxed; d=1e100.net; s=20230601; t=1758723236; x=1759328036; h=references:in-reply-to:cc:to:from:subject:message-id:date :x-gm-message-state:from:to:cc:subject:date:message-id:reply-to; bh=xVJrTmjvQ7t4q//sI9vtYtpW4PDYIV8+Ehr6aekbkmc=; b=Gor5L9sNfC1acbWcJPhKe+kwEkTlSpkXNgFkVfoi8HDYgv4qNiDhQOdVfD6HpCx9Nq ZOZdyPaXfYrsexfPnO4VXyr8Xu1XBgph2V2GTaGJm4faKLtN7YDIhzg3cQpHaljc+wzT v/neo7M4zUkW58pay0CAQILXW2fiOyzgoG2r3zZyL3bSExFrwcLoOHJflBMy6Q5cKmvF b5/WOSaQvEw0q8DoYwdg9O1lM77H8CHeEUTeaEuOcY8GVGDDpWc6BGjj+Yj0UCcptTJt W6lrqfKsnn7v6TYRXpMSSFzo6yrqlyZAkDV0MSOGUqI2aJib+UGvsM8LWTxnSPIXkIAL CbJg== X-Gm-Message-State: AOJu0Yyl0JEUvNfIvXpP7+hUZcFymocnRybNvNgwmT93RMOjJgsU3nUp sUaML4XRsF3DzoyRs5NZEtS8Za3/iN50jI56b0EsKYihQv1x+ZSPHynS5vZsXvcGGY+BiRe6wNd e0fPKuWS598f3DgJogbSwe94sawIVKuY1ILwyBFzc+xwk X-Gm-Gg: ASbGncssXmNNr+MkVIDfDUwsaGm1tWgznXEKz7CZut5V7AmuDfLPhBAoRYsLzYZXFmS AmJZIiSiPyeYzWNy4HXVAx7yHcxbz1bxCVIceO870e5hSl7P0nRoDx+DJMmv4QPCAllZQOtsK+j s5inwv5O1gEkaV5VYIVC6xdSMOb2TVj6x+1ge0+vWXoyAWxhGmGSj2QAzKj8MIBiuZpz+drQCF6 u+cgjc+bb3E0f9IPx/LrnSNgkZYgmdX+LBkB6SCJmcpNMXMSWVePcil34AEyDhuMp/ARW8/Qroo xjaJ6NfMP6LHtE9TfvSHM/aIVu13XhJah2ezZjfDuZKm53zYJHccFQKR/+7B5mx3Ic/yRulG X-Google-Smtp-Source: AGHT+IG5IfrdebawSN5SSibpQC9W8qBA9ADK2E3b+Tou8VHfgKOPU30gkZzd99QXJhkEAWK/Kz27Qd/wRlKB X-Received: by 2002:a05:6214:21e6:b0:77c:9e3d:672 with SMTP id 6a1803df08f44-7fc29a8ddf5mr2262936d6.5.1758723235852; Wed, 24 Sep 2025 07:13:55 -0700 (PDT) Received: from postal.iol.unh.edu (postal.iol.unh.edu. [132.177.123.84]) by smtp-relay.gmail.com with ESMTPS id 6a1803df08f44-79351f73ee0sm10382166d6.40.2025.09.24.07.13.55 (version=TLS1_2 cipher=ECDHE-ECDSA-AES128-GCM-SHA256 bits=128/128); Wed, 24 Sep 2025 07:13:55 -0700 (PDT) X-Relaying-Domain: iol.unh.edu Date: Wed, 24 Sep 2025 07:13:55 -0700 (PDT) Message-ID: <68d3fca3.d40a0220.cef16.472aSMTPIN_ADDED_MISSING@mx.google.com> Received: from [172.21.0.2] (unknown [172.18.0.240]) by postal.iol.unh.edu (Postfix) with ESMTP id 8F2B3604D420; Wed, 24 Sep 2025 10:13:55 -0400 (EDT) Subject: |SUCCESS| pw156876 [PATCH] [v2] net/intel: add IDPF PCI class ID sup From: dpdklab@iol.unh.edu To: Test Report Cc: dpdk-test-reports@iol.unh.edu, Bruce Richardson In-Reply-To: <20250924125749.83507-1-venkatesh.vemula@intel.com> References: <20250924125749.83507-1-venkatesh.vemula@intel.com> Content-Type: text/plain X-BeenThere: test-report@dpdk.org X-Mailman-Version: 2.1.29 Precedence: list List-Id: automatic DPDK test reports List-Unsubscribe: , List-Archive: List-Post: List-Help: List-Subscribe: , Errors-To: test-report-bounces@dpdk.org Test-Label: iol-compile-amd64-testing Test-Status: SUCCESS http://dpdk.org/patch/156876 _Testing PASS_ Submitter: Vemula Venkatesh Date: Wednesday, September 24 2025 12:57:49 DPDK git baseline: Repo:dpdk-next-net-intel Branch: master CommitID:f5ecd82420f63657cf78c949849a4f9dfb3bca09 156876 --> testing pass Upstream job id: Generic-DPDK-Compile-Meson#428092 Test environment and result as below: +-------------------------------+--------------------+-------------------+------------------+-------------------------+-------------------+----------------------+ | Environment | dpdk_meson_compile | dpdk_compile_spdk | dpdk_compile_ovs | dpdk_llvm_clang_compile | dpdk_msvc_compile | dpdk_mingw64_compile | +===============================+====================+===================+==================+=========================+===================+======================+ | CentOS Stream 9 | PASS | PASS | SKIPPED | SKIPPED | SKIPPED | SKIPPED | +-------------------------------+--------------------+-------------------+------------------+-------------------------+-------------------+----------------------+ | FreeBSD 14.2 | PASS | SKIPPED | SKIPPED | SKIPPED | SKIPPED | SKIPPED | +-------------------------------+--------------------+-------------------+------------------+-------------------------+-------------------+----------------------+ | Fedora Linux 42 | PASS | PASS | PASS | SKIPPED | SKIPPED | SKIPPED | +-------------------------------+--------------------+-------------------+------------------+-------------------------+-------------------+----------------------+ | CentOS Stream 10 | PASS | SKIPPED | SKIPPED | SKIPPED | SKIPPED | SKIPPED | +-------------------------------+--------------------+-------------------+------------------+-------------------------+-------------------+----------------------+ | Debian GNU/Linux 12 | PASS | PASS | SKIPPED | SKIPPED | SKIPPED | SKIPPED | +-------------------------------+--------------------+-------------------+------------------+-------------------------+-------------------+----------------------+ | Red Hat Enterprise Linux 9.5 | PASS | SKIPPED | SKIPPED | SKIPPED | SKIPPED | SKIPPED | +-------------------------------+--------------------+-------------------+------------------+-------------------------+-------------------+----------------------+ | openSUSE Leap 15.6 | PASS | SKIPPED | SKIPPED | SKIPPED | SKIPPED | SKIPPED | +-------------------------------+--------------------+-------------------+------------------+-------------------------+-------------------+----------------------+ | Alpine Linux 3.22.0 | PASS | SKIPPED | SKIPPED | SKIPPED | SKIPPED | SKIPPED | +-------------------------------+--------------------+-------------------+------------------+-------------------------+-------------------+----------------------+ | Ubuntu 20.04 | PASS | SKIPPED | SKIPPED | SKIPPED | SKIPPED | SKIPPED | +-------------------------------+--------------------+-------------------+------------------+-------------------------+-------------------+----------------------+ | Ubuntu 22.04 | PASS | PASS | SKIPPED | SKIPPED | SKIPPED | SKIPPED | +-------------------------------+--------------------+-------------------+------------------+-------------------------+-------------------+----------------------+ | Red Hat Enterprise Linux 8.10 | PASS | SKIPPED | SKIPPED | SKIPPED | SKIPPED | SKIPPED | +-------------------------------+--------------------+-------------------+------------------+-------------------------+-------------------+----------------------+ | Ubuntu 24.04 | PASS | PASS | PASS | SKIPPED | SKIPPED | SKIPPED | +-------------------------------+--------------------+-------------------+------------------+-------------------------+-------------------+----------------------+ | Windows Server 2022 | SKIPPED | SKIPPED | SKIPPED | PASS | PASS | PASS | +-------------------------------+--------------------+-------------------+------------------+-------------------------+-------------------+----------------------+ CentOS Stream 9 Kernel: 5.15 Compiler: gcc gcc (GCC) 11.5.0 20240719 (Red Hat 11.5.0-11) FreeBSD 14.2 Kernel: 14.2-RELEASE Compiler: clang 18.1.6 Fedora Linux 42 Kernel: 5.15 Compiler: gcc gcc (GCC) 15.2.1 20250808 (Red Hat 15.2.1-1) CentOS Stream 10 Kernel: 5.15 Compiler: gcc gcc (GCC) 14.2.1 20250110 (Red Hat 14.2.1-8) Debian GNU/Linux 12 Kernel: 5.15 Compiler: gcc gcc (Debian 12.2.0-14+deb12u1) 12.2.0 Red Hat Enterprise Linux 9.5 Kernel: 5.15 Compiler: gcc gcc (GCC) 11.5.0 20240719 (Red Hat 11.5.0-2) openSUSE Leap 15.6 Kernel: 5.15 Compiler: gcc gcc (SUSE Linux) 7.5.0 Alpine Linux 3.22.0 Kernel: 5.15 Compiler: gcc gcc (Alpine 14.2.0) 14.2.0 Ubuntu 20.04 Kernel: 5.15 Compiler: gcc gcc (Ubuntu 9.4.0-1ubuntu1~20.04.2) 9.4.0 Ubuntu 22.04 Kernel: 5.15 Compiler: gcc gcc (Ubuntu 11.4.0-1ubuntu1~22.04) 11.4.0 Red Hat Enterprise Linux 8.10 Kernel: 5.15 Compiler: gcc gcc (GCC) 8.5.0 20210514 (Red Hat 8.5.0-22) Ubuntu 24.04 Kernel: 5.15 Compiler: gcc gcc (Ubuntu 13.3.0-6ubuntu2~24.04) 13.3.0 Windows Server 2022 Kernel: 10.0.20348.2031 Compiler: clang 15.0.7, gcc 14.1.0 (MinGW), and MSVC VS 19.39.33521 To view detailed results, visit: https://lab.dpdk.org/results/dashboard/patchsets/34135/ UNH-IOL DPDK Community Lab To manage your email subscriptions, visit: https://lab.dpdk.org/results/dashboard/preferences/subscriptions/