From mboxrd@z Thu Jan 1 00:00:00 1970 Return-Path: Received: from mails.dpdk.org (mails.dpdk.org [217.70.189.124]) by inbox.dpdk.org (Postfix) with ESMTP id 118B146EF7 for ; Wed, 24 Sep 2025 16:24:47 +0200 (CEST) Received: from mails.dpdk.org (localhost [127.0.0.1]) by mails.dpdk.org (Postfix) with ESMTP id E6F7140611; Wed, 24 Sep 2025 16:24:46 +0200 (CEST) Received: from mail-io1-f99.google.com (mail-io1-f99.google.com [209.85.166.99]) by mails.dpdk.org (Postfix) with ESMTP id 98F9040611 for ; Wed, 24 Sep 2025 16:24:45 +0200 (CEST) Received: by mail-io1-f99.google.com with SMTP id ca18e2360f4ac-8876de33c86so576562739f.3 for ; Wed, 24 Sep 2025 07:24:45 -0700 (PDT) DKIM-Signature: v=1; a=rsa-sha256; c=relaxed/relaxed; d=iol.unh.edu; s=unh-iol; t=1758723885; x=1759328685; darn=dpdk.org; h=references:in-reply-to:cc:to:from:subject:message-id:date:from:to :cc:subject:date:message-id:reply-to; bh=Uj6Urxue9D9Kr3cX4o9gOBU+dTMVt2H8CLaIcGMZM1A=; b=PCHGZ4JMR8vRycGPjlG+QmGqJQ7OazI+VbbYvm5k0R9dwMMmdnfkFs1g426bp2g8Wm mSl+tAhziwQRI0urTUoc4N8MxPFCIMnbD7Mz5hOjwZRVEftGKoCesf+9duopzTUUvnuO nV70LFINq8pULXpWChQJX6jXr842i8UYD38aA= X-Google-DKIM-Signature: v=1; a=rsa-sha256; c=relaxed/relaxed; d=1e100.net; s=20230601; t=1758723885; x=1759328685; h=references:in-reply-to:cc:to:from:subject:message-id:date :x-gm-message-state:from:to:cc:subject:date:message-id:reply-to; bh=Uj6Urxue9D9Kr3cX4o9gOBU+dTMVt2H8CLaIcGMZM1A=; b=osBXoZAMU79EpM4lGOWQAEjrc9MpHWYcfR5sYs2CVmSyeDcBhnMrYLPnBmi5sQbGUD Brn8VqKna17U7XUVWuBxHgeMcEtrA+L2kriTZXkVNW9khkAm8OxsZYe8axppoD2ZLoAO Nf/pt1+O6sbsOKsw5Gg7KZlHNA1ipY7KL1AHsvVM59lu01stT/wbFe0WYPKG1u7IlbB1 A2CJKTHXtyYjRsGNlHbh1hjMuVtVWPhujhFmyRD2KRasPjzB0Lp9nGfmO16Aw9ag1YMp EXjXgZ24XzB5L1RD4b5S2LWWAds9Ph+arPGgoj1uAXFbO4+pmN/IkRYJTw/JfsjiLbc3 6PpA== X-Gm-Message-State: AOJu0YzoS8GEojVvf6Wcujjq0wqg851hfBqGv+tS9WnhSjAhD5+WfTju dXIy+1coek5K6uajFxtZqVthmLa/5rSPShRkZW3ILz19MTj1KF+CEbWcea29rVMTPPMhUzBk33i vV8fcJkQkUtelMguY6/ExP+uPayGZJqbEQsJGPwmU3x3qg4YsLe2W7DyqJJsy X-Gm-Gg: ASbGnctghW1sxPi2TjmmPxZbpyNinJIF5S4tTn/Whilca+lsJrgM9r71zTWYGrDZ2k7 K5FEvly/Q6blSJ6y1SSPtkG834+dLiN2WPxipUFdPD1yipIrzwVMahHXOoGsFoltGvMRgVVqepj vBcI0ZgUjJkStxBUsXC+t6umYlVTKGKP2Zg8J69H+afd4uxk5txqKaPXBUGX0ja7btW2g0ajk+K J9pZFPmTUl2WH8ETXN+4SaV+AMUinu0CUg5QZn8JZmvNX6cYDQmHWcznDzrYnIH/XyvHPZxQtqV 4wBMGmq3vXEXcImNizmgMa4KIdqk/Pul4IJd+KVWkMjuJapFvQ== X-Google-Smtp-Source: AGHT+IHeP657lPSbddNNGoMFoNj9WRvUsPYrVYw7AtFL69rVWU+xp3oQT9eQspeW22qJRAHDI3CJ00aRwUpA X-Received: by 2002:a05:6e02:1b05:b0:423:fb83:6958 with SMTP id e9e14a558f8ab-42581e17171mr96993485ab.2.1758723884740; Wed, 24 Sep 2025 07:24:44 -0700 (PDT) Received: from postal.iol.unh.edu (postal.iol.unh.edu. [2606:4100:3880:1234::84]) by smtp-relay.gmail.com with ESMTPS id 8926c6da1cb9f-566127694c4sm181098173.14.2025.09.24.07.24.44 (version=TLS1_2 cipher=ECDHE-ECDSA-AES128-GCM-SHA256 bits=128/128); Wed, 24 Sep 2025 07:24:44 -0700 (PDT) X-Relaying-Domain: iol.unh.edu Date: Wed, 24 Sep 2025 07:24:44 -0700 (PDT) Message-ID: <68d3ff2c.050a0220.1bfd2e.be24SMTPIN_ADDED_MISSING@mx.google.com> Received: from [172.21.0.2] (unknown [172.18.0.240]) by postal.iol.unh.edu (Postfix) with ESMTP id 62C0B6051830; Wed, 24 Sep 2025 10:24:44 -0400 (EDT) Subject: |SUCCESS| pw156876 [PATCH] [v2] net/intel: add IDPF PCI class ID sup From: dpdklab@iol.unh.edu To: Test Report Cc: dpdk-test-reports@iol.unh.edu, Bruce Richardson In-Reply-To: <20250924125749.83507-1-venkatesh.vemula@intel.com> References: <20250924125749.83507-1-venkatesh.vemula@intel.com> Content-Type: text/plain X-BeenThere: test-report@dpdk.org X-Mailman-Version: 2.1.29 Precedence: list List-Id: automatic DPDK test reports List-Unsubscribe: , List-Archive: List-Post: List-Help: List-Subscribe: , Errors-To: test-report-bounces@dpdk.org Test-Label: iol-unit-amd64-testing Test-Status: SUCCESS http://dpdk.org/patch/156876 _Testing PASS_ Submitter: Vemula Venkatesh Date: Wednesday, September 24 2025 12:57:49 DPDK git baseline: Repo:dpdk-next-net-intel Branch: master CommitID:f5ecd82420f63657cf78c949849a4f9dfb3bca09 156876 --> testing pass Upstream job id: Generic-VM-Unit-Test-DPDK#31343 Test environment and result as below: +-------------------------------+----------------+ | Environment | dpdk_unit_test | +===============================+================+ | CentOS Stream 10 | PASS | +-------------------------------+----------------+ | CentOS Stream 9 | PASS | +-------------------------------+----------------+ | Debian GNU/Linux 12 | PASS | +-------------------------------+----------------+ | Fedora Linux 41 | PASS | +-------------------------------+----------------+ | Fedora Linux 40 | PASS | +-------------------------------+----------------+ | Fedora Linux 42 | PASS | +-------------------------------+----------------+ | Red Hat Enterprise Linux 9.5 | PASS | +-------------------------------+----------------+ | Red Hat Enterprise Linux 8.10 | PASS | +-------------------------------+----------------+ | Ubuntu 24.04 | PASS | +-------------------------------+----------------+ | Ubuntu 20.04 | PASS | +-------------------------------+----------------+ | Ubuntu 22.04 | PASS | +-------------------------------+----------------+ | Windows Server 2022 | PASS | +-------------------------------+----------------+ CentOS Stream 10 Kernel: 5.15 Compiler: gcc gcc (GCC) 14.2.1 20250110 (Red Hat 14.2.1-8) CentOS Stream 9 Kernel: 5.15 Compiler: gcc gcc (GCC) 11.5.0 20240719 (Red Hat 11.5.0-11) Debian GNU/Linux 12 Kernel: 5.15 Compiler: gcc gcc (Debian 12.2.0-14+deb12u1) 12.2.0 Fedora Linux 41 Kernel: 5.15 Compiler: clang gcc (GCC) 14.3.1 20250523 (Red Hat 14.3.1-1) Fedora Linux 40 Kernel: 5.15 Compiler: clang gcc (GCC) 14.2.1 20240912 (Red Hat 14.2.1-3) Fedora Linux 42 Kernel: 5.15 Compiler: gcc gcc (GCC) 15.2.1 20250808 (Red Hat 15.2.1-1) Red Hat Enterprise Linux 9.5 Kernel: 5.15 Compiler: gcc gcc (GCC) 11.5.0 20240719 (Red Hat 11.5.0-2) Red Hat Enterprise Linux 8.10 Kernel: 5.15 Compiler: gcc gcc (GCC) 8.5.0 20210514 (Red Hat 8.5.0-22) Ubuntu 24.04 Kernel: 5.15 Compiler: gcc gcc (Ubuntu 13.3.0-6ubuntu2~24.04) 13.3.0 Ubuntu 20.04 Kernel: 5.15 Compiler: gcc gcc (Ubuntu 9.4.0-1ubuntu1~20.04.2) 9.4.0 Ubuntu 22.04 Kernel: 5.15 Compiler: gcc gcc (Ubuntu 11.4.0-1ubuntu1~22.04) 11.4.0 Windows Server 2022 Kernel: 10.0.20348.2031 Compiler: clang 15.0.7, gcc 14.1.0 (MinGW), and MSVC VS 19.39.33521 To view detailed results, visit: https://lab.dpdk.org/results/dashboard/patchsets/34135/ UNH-IOL DPDK Community Lab To manage your email subscriptions, visit: https://lab.dpdk.org/results/dashboard/preferences/subscriptions/