From mboxrd@z Thu Jan 1 00:00:00 1970 Return-Path: Received: from mails.dpdk.org (mails.dpdk.org [217.70.189.124]) by inbox.dpdk.org (Postfix) with ESMTP id 13F3246EF7 for ; Wed, 24 Sep 2025 17:02:33 +0200 (CEST) Received: from mails.dpdk.org (localhost [127.0.0.1]) by mails.dpdk.org (Postfix) with ESMTP id 0D64D4065E; Wed, 24 Sep 2025 17:02:33 +0200 (CEST) Received: from mail-il1-f226.google.com (mail-il1-f226.google.com [209.85.166.226]) by mails.dpdk.org (Postfix) with ESMTP id 4CDA34065E for ; Wed, 24 Sep 2025 17:02:32 +0200 (CEST) Received: by mail-il1-f226.google.com with SMTP id e9e14a558f8ab-4248c9a64f7so6438635ab.0 for ; Wed, 24 Sep 2025 08:02:32 -0700 (PDT) DKIM-Signature: v=1; a=rsa-sha256; c=relaxed/relaxed; d=iol.unh.edu; s=unh-iol; t=1758726151; x=1759330951; darn=dpdk.org; h=references:in-reply-to:cc:to:from:subject:message-id:date:from:to :cc:subject:date:message-id:reply-to; bh=9DubRNEZyfeTyZSNGVWG5rBQPZ0CWFKedBvUfhSGd94=; b=EFGGB+R+NhS0y77SkXwuSmI3NSc8QHegiXQEGV+SSaMZTVi9MBbResfV2qQHsSXKHo 6BGLlcGEBCpLYvudjQhhl2RwLxEmHpwwU5ekxRgy03QtlxqNt7t94Li3p6tSr7N0jBio DYAMMajTT5LhFuw6XWk8XA5nkvgSBELCZCL6A= X-Google-DKIM-Signature: v=1; a=rsa-sha256; c=relaxed/relaxed; d=1e100.net; s=20230601; t=1758726151; x=1759330951; h=references:in-reply-to:cc:to:from:subject:message-id:date :x-gm-message-state:from:to:cc:subject:date:message-id:reply-to; bh=9DubRNEZyfeTyZSNGVWG5rBQPZ0CWFKedBvUfhSGd94=; b=YbVqQ6s2uRlCIfbXb2M0rFaTwz9L09UoxkogUetLy4cAs6tF5hhGUwSKuL3YamR6AE HV0p9THAlajGJmsbSb7I0sF5ASM5JVxLwrEdt8nKODKZ4bspLWsoPYlHnXfJyapFoWJw LaNMj/4jhzRrXiPUqYA+nErFZB9RDTLtFfONR+3e3D+7+M0vyTb5QdSwjM5OziFdEJU5 b/Dad31TOfObNPhzrrLLWbqcxpvUcD3w1HPTovpDwhG57tRSHwV2t2iz8hNFBZwqwNu3 5JRtaHPPZZkU2/nHAw84CRZDWYk+hNNKOjwU6qo4PKU3Tcb4KCaLr1TExneYlOOxI5Am N7fQ== X-Gm-Message-State: AOJu0YyUj2DJlRArAcSzriEizinvLav+OamdXTcbHbKlBsmLyMMeXWTk cUgiyWPZxeG1xgqxG9hAbQhhNIjmT1iROoNFr55ovn4iNyfTCFClNyFV9Oua0JyEC8vhe9XPRbp upKrFxf3o+6mwWXe0Q/qy9NyzdxoGSzfMJwhWLYuMYVQI X-Gm-Gg: ASbGncu04dyGndThhbuwGYxGxXdK5rgQO+CuJx8Bk1hwz2RX33Aclu/2D5TPRN1+8vD kRJ559iBaxTR6p+BjsAepEEUJgknBaO6cP0mFvgxvcJ43q7Jbe9fIVkz2BIdhrVojMZRA5kZorW mWar8Yx3+2IUIA5LtjrzwIMl6vuwNnq0ZhMQyhWgiE0n6XLf2E1flhX4bZ2w1NaqIzdzufFtUmA dY32s8MnatZHEg0PalTtMWRa0MKN2+RUa6Hj/niF+7DIYjC8fIjfq/XeuMeGpAiCWQ1ub4TWigL MLlyjOuSEZa3W/70rZ8nHBQ2y43b6tfaO3Sy1aiFGBBYsSH1uVCo+1wbsAnG7bWZ8llAHGi3 X-Google-Smtp-Source: AGHT+IEs3vcB9lVZyKFvVq8snVUqaRvSgauAgccgsO81hiekdTT/n1gV4cbYa1x7v8VgvIuHWWx/WOGBKWN3 X-Received: by 2002:a92:d98d:0:b0:424:da17:dd71 with SMTP id e9e14a558f8ab-4259543fd15mr267185ab.6.1758726151325; Wed, 24 Sep 2025 08:02:31 -0700 (PDT) Received: from postal.iol.unh.edu (postal.iol.unh.edu. [132.177.123.84]) by smtp-relay.gmail.com with ESMTPS id e9e14a558f8ab-424881c3d42sm7473555ab.33.2025.09.24.08.02.31 (version=TLS1_2 cipher=ECDHE-ECDSA-AES128-GCM-SHA256 bits=128/128); Wed, 24 Sep 2025 08:02:31 -0700 (PDT) X-Relaying-Domain: iol.unh.edu Date: Wed, 24 Sep 2025 08:02:31 -0700 (PDT) Message-ID: <68d40807.050a0220.2d5ae4.30fcSMTPIN_ADDED_MISSING@mx.google.com> Received: from [172.21.0.2] (unknown [172.18.0.240]) by postal.iol.unh.edu (Postfix) with ESMTP id F2DD8604D420; Wed, 24 Sep 2025 11:02:29 -0400 (EDT) Subject: |SUCCESS| pw156873 [PATCH] [v2] build: validate libraries returned f From: dpdklab@iol.unh.edu To: Test Report Cc: dpdk-test-reports@iol.unh.edu In-Reply-To: <20250924111318.567771-1-bruce.richardson@intel.com> References: <20250924111318.567771-1-bruce.richardson@intel.com> Content-Type: text/plain X-BeenThere: test-report@dpdk.org X-Mailman-Version: 2.1.29 Precedence: list List-Id: automatic DPDK test reports List-Unsubscribe: , List-Archive: List-Post: List-Help: List-Subscribe: , Errors-To: test-report-bounces@dpdk.org Test-Label: iol-compile-arm64-testing Test-Status: SUCCESS http://dpdk.org/patch/156873 _Testing PASS_ Submitter: Bruce Richardson Date: Wednesday, September 24 2025 10:54:00 DPDK git baseline: Repo:dpdk Branch: master CommitID:0e03ab647d07cd985a7cac36cefff5195cc3a07d 156873 --> testing pass Upstream job id: Generic-DPDK-Compile-Meson#428053 Test environment and result as below: +------------------------------+--------------------+ | Environment | dpdk_meson_compile | +==============================+====================+ | Ubuntu 20.04 | PASS | +------------------------------+--------------------+ | Ubuntu 22.04 | PASS | +------------------------------+--------------------+ | Ubuntu 24.04 | PASS | +------------------------------+--------------------+ | CentOS Stream 9 | PASS | +------------------------------+--------------------+ | Fedora Linux 42 | PASS | +------------------------------+--------------------+ | Debian GNU/Linux 12 | PASS | +------------------------------+--------------------+ | Red Hat Enterprise Linux 9.5 | PASS | +------------------------------+--------------------+ | CentOS Stream 10 | PASS | +------------------------------+--------------------+ Ubuntu 20.04 Kernel: 5.15 Compiler: aarch64-linux-gnu-gcc gcc (Ubuntu 9.4.0-1ubuntu1~20.04.2) 9.4.0 Ubuntu 22.04 Kernel: 5.4 Compiler: gcc gcc (Ubuntu 11.4.0-1ubuntu1~22.04) 11.4.0 Ubuntu 24.04 Kernel: 5.4 Compiler: gcc gcc (Ubuntu 13.3.0-6ubuntu2~24.04) 13.3.0 CentOS Stream 9 Kernel: 5.4 Compiler: gcc gcc (GCC) 11.5.0 20240719 (Red Hat 11.5.0-11) Fedora Linux 42 Kernel: 5.4 Compiler: clang gcc (GCC) 15.2.1 20250808 (Red Hat 15.2.1-1) Debian GNU/Linux 12 Kernel: 5.4 Compiler: gcc gcc (Debian 12.2.0-14+deb12u1) 12.2.0 Red Hat Enterprise Linux 9.5 Kernel: 5.4 Compiler: gcc gcc (GCC) 11.5.0 20240719 (Red Hat 11.5.0-2) CentOS Stream 10 Kernel: 5.4 Compiler: gcc gcc (GCC) 14.2.1 20250110 (Red Hat 14.2.1-8) To view detailed results, visit: https://lab.dpdk.org/results/dashboard/patchsets/34133/ UNH-IOL DPDK Community Lab To manage your email subscriptions, visit: https://lab.dpdk.org/results/dashboard/preferences/subscriptions/