From mboxrd@z Thu Jan 1 00:00:00 1970 Return-Path: Received: from mails.dpdk.org (mails.dpdk.org [217.70.189.124]) by inbox.dpdk.org (Postfix) with ESMTP id 4DFAE46EF7 for ; Wed, 24 Sep 2025 17:47:29 +0200 (CEST) Received: from mails.dpdk.org (localhost [127.0.0.1]) by mails.dpdk.org (Postfix) with ESMTP id 4784940613; Wed, 24 Sep 2025 17:47:29 +0200 (CEST) Received: from mail-io1-f98.google.com (mail-io1-f98.google.com [209.85.166.98]) by mails.dpdk.org (Postfix) with ESMTP id 1872B40A7F for ; Wed, 24 Sep 2025 17:47:28 +0200 (CEST) Received: by mail-io1-f98.google.com with SMTP id ca18e2360f4ac-887764c2868so1875439f.1 for ; Wed, 24 Sep 2025 08:47:28 -0700 (PDT) DKIM-Signature: v=1; a=rsa-sha256; c=relaxed/relaxed; d=iol.unh.edu; s=unh-iol; t=1758728847; x=1759333647; darn=dpdk.org; h=references:in-reply-to:cc:to:from:subject:message-id:date:from:to :cc:subject:date:message-id:reply-to; bh=O/lBD6hmEMQEAsS9EowAKZxzpZNNWSlbVTGj9KDkcvw=; b=WsEfdxf6wLmYkyF59nSoF97DmK5PVkbIwr8oS6t/8j61O9t/RwsNVGS+mxsKETqWrv LE7+6lnR0Y/yQsuVzeTY5VNukX+97eT6AcGLnLQ0K+29u47Z+K5//68o4bNt164csbQ1 u3xQ4nORi2T/gM85CNmhH4GdpiAsgm7i6+Tlc= X-Google-DKIM-Signature: v=1; a=rsa-sha256; c=relaxed/relaxed; d=1e100.net; s=20230601; t=1758728847; x=1759333647; h=references:in-reply-to:cc:to:from:subject:message-id:date :x-gm-message-state:from:to:cc:subject:date:message-id:reply-to; bh=O/lBD6hmEMQEAsS9EowAKZxzpZNNWSlbVTGj9KDkcvw=; b=uLh05OPl0LylXz08/NBYEc9fa/wxnJgTDy0TlO5t4tQ+AnqUl5F7io3p5thyV2HZ01 uEpOJgntR6PVLXEL8m6OfE/xN9YGjEYHRIy20euqlvkuzTd/TTpyvtSVAYqX5/cB3vyD RRa0jjG8yFcWrHIrunf6OHWdK9ZxJbtCk/Tl09IaMzIBHG7cba1cwFr18Y4b7+/je7on A3Vv3K7GwU95hHon5v2VnaPW/PAy3uUsMmme3MQUiTd+0KrfHnVYvRJaYCKhVvGXJuf0 z0n6xRushbN0WpL+4bs81tapvTJ3Fh/J1JVdd0xvgkcw3HqnmmXJy8YemVtnUoTqZPSJ OXBw== X-Gm-Message-State: AOJu0YwvW1YVE1JJdnn9hPdiQkInK4w6okEpUCr+UyZ37+nGXkOwvZB/ 0BX3m3a6SX7oAWxowVWkUf4x65uxG6E4KvxKwxDIBc92NrIRgt9TymxbBdXwu2VMjuVSPWVi62F ZPP3nlxi2hkhpTG+1EM/5mr6CRqr4eat0lzN3SUBBdsPE X-Gm-Gg: ASbGncsxAk6lcUnYtVdvuL9K0uUTpmYwdhyjWITCiiXyrOTI5zgrRDS/1dacdF+2DyC y4Z9M9b942Koprr5nFu27U0cFsg2Rh2SKsUekjVJ5CLhhjr+KzIMR6jZwqXMD62kzXIQKPFhejm cKsD8h74uKjFdcI4/xw93KH5cBazp0P5m4SxDNi+VrZTpVvFv4X59iYxWI/uhE7xyDQHkDGpyXt EmrxEgsL6TZXadlhHWAHfzWeMfz/XToYPKNxbo6vzp5e4lOR95ESTRkxzKQrBgpJlZ2IY7Ku7og rgCkberbORhkkEok2NHocPmLCPIaOYjUQPNTt41AZdEqBP4t9BGTdd0Ob8gYhO0Sr9Z9kI/N X-Google-Smtp-Source: AGHT+IEZgtPhl0YzlaNviXRsJ0oXoRae+bwGGUS0dvu4a0lXgZxyOTGKAPtB8jsI6xHD7Z7jOy9o+vXKN80z X-Received: by 2002:a05:6e02:378b:b0:424:7d95:b90b with SMTP id e9e14a558f8ab-425955eea63mr1034335ab.14.1758728847335; Wed, 24 Sep 2025 08:47:27 -0700 (PDT) Received: from postal.iol.unh.edu (postal.iol.unh.edu. [132.177.123.84]) by smtp-relay.gmail.com with ESMTPS id e9e14a558f8ab-424868dd707sm7647925ab.46.2025.09.24.08.47.27 (version=TLS1_2 cipher=ECDHE-ECDSA-AES128-GCM-SHA256 bits=128/128); Wed, 24 Sep 2025 08:47:27 -0700 (PDT) X-Relaying-Domain: iol.unh.edu Date: Wed, 24 Sep 2025 08:47:27 -0700 (PDT) Message-ID: <68d4128f.050a0220.ccc85.3b1eSMTPIN_ADDED_MISSING@mx.google.com> Received: from [172.21.0.2] (unknown [172.18.0.240]) by postal.iol.unh.edu (Postfix) with ESMTP id D96B5604D420; Wed, 24 Sep 2025 11:47:26 -0400 (EDT) Subject: |SUCCESS| pw156879-156897 [PATCH] [v1,24/24] net/ntnic: rename table From: dpdklab@iol.unh.edu To: Test Report Cc: dpdk-test-reports@iol.unh.edu, Stephen Hemminger In-Reply-To: <20250924144152.53203-25-sil-plv@napatech.com> References: <20250924144152.53203-25-sil-plv@napatech.com> Content-Type: text/plain X-BeenThere: test-report@dpdk.org X-Mailman-Version: 2.1.29 Precedence: list List-Id: automatic DPDK test reports List-Unsubscribe: , List-Archive: List-Post: List-Help: List-Subscribe: , Errors-To: test-report-bounces@dpdk.org Test-Label: iol-unit-amd64-testing Test-Status: SUCCESS http://dpdk.org/patch/156897 _Testing PASS_ Submitter: Serhii Iliushyk Date: Wednesday, September 24 2025 14:41:47 DPDK git baseline: Repo:dpdk-next-net Branch: master CommitID:20ef5263db276361bf25982884e7f5b537a57d9d 156879-156897 --> testing pass Upstream job id: Generic-Unit-Test-DPDK#374502 Test environment and result as below: +-------------------------------+----------------+ | Environment | dpdk_unit_test | +===============================+================+ | CentOS Stream 9 | PASS | +-------------------------------+----------------+ | CentOS Stream 10 | PASS | +-------------------------------+----------------+ | Fedora Linux 42 | PASS | +-------------------------------+----------------+ | Debian GNU/Linux 12 | PASS | +-------------------------------+----------------+ | Fedora Linux 41 | PASS | +-------------------------------+----------------+ | Fedora Linux 40 | PASS | +-------------------------------+----------------+ | Ubuntu 24.04 | PASS | +-------------------------------+----------------+ | Ubuntu 20.04 | PASS | +-------------------------------+----------------+ | Red Hat Enterprise Linux 8.10 | PASS | +-------------------------------+----------------+ | Red Hat Enterprise Linux 9.5 | PASS | +-------------------------------+----------------+ | Ubuntu 22.04 | PASS | +-------------------------------+----------------+ | Windows Server 2022 | PASS | +-------------------------------+----------------+ CentOS Stream 9 Kernel: 5.15 Compiler: gcc gcc (GCC) 11.5.0 20240719 (Red Hat 11.5.0-11) CentOS Stream 10 Kernel: 5.15 Compiler: gcc gcc (GCC) 14.2.1 20250110 (Red Hat 14.2.1-8) Fedora Linux 42 Kernel: 5.15 Compiler: gcc gcc (GCC) 15.2.1 20250808 (Red Hat 15.2.1-1) Debian GNU/Linux 12 Kernel: 5.15 Compiler: gcc gcc (Debian 12.2.0-14+deb12u1) 12.2.0 Fedora Linux 41 Kernel: 5.15 Compiler: gcc gcc (GCC) 14.3.1 20250523 (Red Hat 14.3.1-1) Fedora Linux 40 Kernel: 5.15 Compiler: gcc gcc (GCC) 14.2.1 20240912 (Red Hat 14.2.1-3) Ubuntu 24.04 Kernel: 5.15 Compiler: gcc gcc (Ubuntu 13.3.0-6ubuntu2~24.04) 13.3.0 Ubuntu 20.04 Kernel: 5.15 Compiler: gcc gcc (Ubuntu 9.4.0-1ubuntu1~20.04.2) 9.4.0 Red Hat Enterprise Linux 8.10 Kernel: 5.15 Compiler: gcc gcc (GCC) 8.5.0 20210514 (Red Hat 8.5.0-22) Red Hat Enterprise Linux 9.5 Kernel: 5.15 Compiler: gcc gcc (GCC) 11.5.0 20240719 (Red Hat 11.5.0-2) Ubuntu 22.04 Kernel: 5.15 Compiler: gcc gcc (Ubuntu 11.4.0-1ubuntu1~22.04) 11.4.0 Windows Server 2022 Kernel: 10.0.20348.2031 Compiler: clang 15.0.7, gcc 14.1.0 (MinGW), and MSVC VS 19.39.33521 To view detailed results, visit: https://lab.dpdk.org/results/dashboard/patchsets/34136/ UNH-IOL DPDK Community Lab To manage your email subscriptions, visit: https://lab.dpdk.org/results/dashboard/preferences/subscriptions/