From mboxrd@z Thu Jan 1 00:00:00 1970 Return-Path: Received: from mails.dpdk.org (mails.dpdk.org [217.70.189.124]) by inbox.dpdk.org (Postfix) with ESMTP id 42AAF46EF7 for ; Wed, 24 Sep 2025 17:57:32 +0200 (CEST) Received: from mails.dpdk.org (localhost [127.0.0.1]) by mails.dpdk.org (Postfix) with ESMTP id 3BB1A40613; Wed, 24 Sep 2025 17:57:32 +0200 (CEST) Received: from mail-io1-f100.google.com (mail-io1-f100.google.com [209.85.166.100]) by mails.dpdk.org (Postfix) with ESMTP id A8AD740613 for ; Wed, 24 Sep 2025 17:57:30 +0200 (CEST) Received: by mail-io1-f100.google.com with SMTP id ca18e2360f4ac-88432e60eebso884839f.3 for ; Wed, 24 Sep 2025 08:57:30 -0700 (PDT) DKIM-Signature: v=1; a=rsa-sha256; c=relaxed/relaxed; d=iol.unh.edu; s=unh-iol; t=1758729450; x=1759334250; darn=dpdk.org; h=references:in-reply-to:cc:to:from:subject:message-id:date:from:to :cc:subject:date:message-id:reply-to; bh=R7kXyvRNo/B9X0joL4JZLQJDJzOu8aOC3Aw6bPAnZxY=; b=ewfAP81gFS8wl9P8rUA9aI/SGu6L1iPoaR44uqqUg6w+7NppL4oXtASlUpvsQqY9sq UEw/rxenudaAVf0AV53uCzyOJSkhgKLk8slX1gXLLAHJYErGT4DsKa6yk5VLwDa6rDec sjIt6nHmNk+PmecKW8x+98jJ2D8yvFvZ86xSs= X-Google-DKIM-Signature: v=1; a=rsa-sha256; c=relaxed/relaxed; d=1e100.net; s=20230601; t=1758729450; x=1759334250; h=references:in-reply-to:cc:to:from:subject:message-id:date :x-gm-message-state:from:to:cc:subject:date:message-id:reply-to; bh=R7kXyvRNo/B9X0joL4JZLQJDJzOu8aOC3Aw6bPAnZxY=; b=ZhEMRo1WQfFAjJjLVf23GNdujfqzLuidEh5Q+YWIK3If4V5kXhMAH1J4PWTYYFsD5V QsiUp21l24yLHlZJA2hhWWedENt5pSoxan/p0nBLR0j4X+mxxQ5mWZFFt/NlTjTuW3Mc nqYjM7sQTMwA7yx/HxCWx8/RxjtSaSuMsc3LAfUZZpj9AAJ6wG68QKSSYNiLCN30jqdO EpMwB0c7/K6WqnnwwjdW3fWmgFKIUcVjftBf3DJ77sb25IrQqrn82RJdT2RvBFY8z6lW ueoKBlH52Iw+ACXFBOH5SBt9tsGZB8T18/jw1z+O4aIhrFG1ogVJ7DAkJ/J4ZICDTLtD pacw== X-Gm-Message-State: AOJu0YwX1LI66eilsnjdtXketUJq0B3vJXQTesB2Vd4WT+vhTzNEHKj0 9hG2Om7NJJHaGEuyKgxUyLExIw92C+XRHYVti7EB1aSYaMsXP0TM8vPqDslgz64K26HYtJvwc65 pCyxvQWjgpCI7/cVqCF1RyGYB3vaYABO+jPx+3XtJV9IX X-Gm-Gg: ASbGncsnacDpvZRtccwaPmfSpdrPPo1J/7vjcwrcIzeMk53Dgv2TmpwDIrG5/sq+zm2 HtZ+prik0rmHEmCGJWvf2ya/SWNQy5h16V4Nfl4wu26wygQIe5BUKiuGgy9I6w4JafyPstPilvN i0uBqe4QoayVnJHA6/Pxm34XWMUZLsBrNGUK1NG9FxSzG/BfqbzjiBhgCtA/7ENIWXQJAJh7KXS vNEXJfawiqS7fUIk9kUoaN3EO4niuDk40kC7oWNjby+3Kyzf5fQ02t0ME/V5fNKZqnlVEEK1Tyz +u0+P1wEVMQKmKxGqpgjQiCGxh3Vho4/xspZ0e+ZixKMahnS1Yun2MHqf0vtzeJaNlt/QY0N X-Google-Smtp-Source: AGHT+IG5ALOA9wg5JhCOanifpUD1O/QPi5afkwqmM0jfEFh/VzoridRPNQWCHcDAHYDOU/fZzwTMpxwuX9uo X-Received: by 2002:a05:6e02:12cf:b0:424:9926:a97b with SMTP id e9e14a558f8ab-42595654326mr1092595ab.25.1758729449883; Wed, 24 Sep 2025 08:57:29 -0700 (PDT) Received: from postal.iol.unh.edu (postal.iol.unh.edu. [132.177.123.84]) by smtp-relay.gmail.com with ESMTPS id 8926c6da1cb9f-53d39a17c86sm1049676173.3.2025.09.24.08.57.29 (version=TLS1_2 cipher=ECDHE-ECDSA-AES128-GCM-SHA256 bits=128/128); Wed, 24 Sep 2025 08:57:29 -0700 (PDT) X-Relaying-Domain: iol.unh.edu Date: Wed, 24 Sep 2025 08:57:29 -0700 (PDT) Message-ID: <68d414e9.050a0220.e6d2e.48daSMTPIN_ADDED_MISSING@mx.google.com> Received: from [172.21.0.2] (unknown [172.18.0.240]) by postal.iol.unh.edu (Postfix) with ESMTP id 6CE416051830; Wed, 24 Sep 2025 11:57:29 -0400 (EDT) Subject: |SUCCESS| pw156879-156897 [PATCH] [v1,24/24] net/ntnic: rename table From: dpdklab@iol.unh.edu To: Test Report Cc: dpdk-test-reports@iol.unh.edu, Stephen Hemminger In-Reply-To: <20250924144152.53203-25-sil-plv@napatech.com> References: <20250924144152.53203-25-sil-plv@napatech.com> Content-Type: text/plain X-BeenThere: test-report@dpdk.org X-Mailman-Version: 2.1.29 Precedence: list List-Id: automatic DPDK test reports List-Unsubscribe: , List-Archive: List-Post: List-Help: List-Subscribe: , Errors-To: test-report-bounces@dpdk.org Test-Label: iol-compile-amd64-testing Test-Status: SUCCESS http://dpdk.org/patch/156897 _Testing PASS_ Submitter: Serhii Iliushyk Date: Wednesday, September 24 2025 14:41:47 DPDK git baseline: Repo:dpdk-next-net Branch: master CommitID:20ef5263db276361bf25982884e7f5b537a57d9d 156879-156897 --> testing pass Upstream job id: Generic-DPDK-Compile-Meson#428133 Test environment and result as below: +-------------------------------+--------------------+-------------------+------------------+-------------------------+-------------------+----------------------+ | Environment | dpdk_meson_compile | dpdk_compile_spdk | dpdk_compile_ovs | dpdk_llvm_clang_compile | dpdk_msvc_compile | dpdk_mingw64_compile | +===============================+====================+===================+==================+=========================+===================+======================+ | CentOS Stream 9 | PASS | PASS | SKIPPED | SKIPPED | SKIPPED | SKIPPED | +-------------------------------+--------------------+-------------------+------------------+-------------------------+-------------------+----------------------+ | CentOS Stream 10 | PASS | SKIPPED | SKIPPED | SKIPPED | SKIPPED | SKIPPED | +-------------------------------+--------------------+-------------------+------------------+-------------------------+-------------------+----------------------+ | Debian GNU/Linux 12 | PASS | PASS | SKIPPED | SKIPPED | SKIPPED | SKIPPED | +-------------------------------+--------------------+-------------------+------------------+-------------------------+-------------------+----------------------+ | Fedora Linux 42 | PASS | PASS | PASS | SKIPPED | SKIPPED | SKIPPED | +-------------------------------+--------------------+-------------------+------------------+-------------------------+-------------------+----------------------+ | openSUSE Leap 15.6 | PASS | SKIPPED | SKIPPED | SKIPPED | SKIPPED | SKIPPED | +-------------------------------+--------------------+-------------------+------------------+-------------------------+-------------------+----------------------+ | Red Hat Enterprise Linux 9.5 | PASS | SKIPPED | SKIPPED | SKIPPED | SKIPPED | SKIPPED | +-------------------------------+--------------------+-------------------+------------------+-------------------------+-------------------+----------------------+ | Red Hat Enterprise Linux 8.10 | PASS | SKIPPED | SKIPPED | SKIPPED | SKIPPED | SKIPPED | +-------------------------------+--------------------+-------------------+------------------+-------------------------+-------------------+----------------------+ | Ubuntu 20.04 | PASS | SKIPPED | SKIPPED | SKIPPED | SKIPPED | SKIPPED | +-------------------------------+--------------------+-------------------+------------------+-------------------------+-------------------+----------------------+ | Ubuntu 22.04 | PASS | PASS | SKIPPED | SKIPPED | SKIPPED | SKIPPED | +-------------------------------+--------------------+-------------------+------------------+-------------------------+-------------------+----------------------+ | Ubuntu 24.04 | PASS | PASS | PASS | SKIPPED | SKIPPED | SKIPPED | +-------------------------------+--------------------+-------------------+------------------+-------------------------+-------------------+----------------------+ | Alpine Linux 3.22.0 | PASS | SKIPPED | SKIPPED | SKIPPED | SKIPPED | SKIPPED | +-------------------------------+--------------------+-------------------+------------------+-------------------------+-------------------+----------------------+ | FreeBSD 14.2 | PASS | SKIPPED | SKIPPED | SKIPPED | SKIPPED | SKIPPED | +-------------------------------+--------------------+-------------------+------------------+-------------------------+-------------------+----------------------+ | Windows Server 2022 | SKIPPED | SKIPPED | SKIPPED | PASS | PASS | PASS | +-------------------------------+--------------------+-------------------+------------------+-------------------------+-------------------+----------------------+ CentOS Stream 9 Kernel: 5.15 Compiler: gcc gcc (GCC) 11.5.0 20240719 (Red Hat 11.5.0-11) CentOS Stream 10 Kernel: 5.15 Compiler: gcc gcc (GCC) 14.2.1 20250110 (Red Hat 14.2.1-8) Debian GNU/Linux 12 Kernel: 5.15 Compiler: gcc gcc (Debian 12.2.0-14+deb12u1) 12.2.0 Fedora Linux 42 Kernel: 5.15 Compiler: clang gcc (GCC) 15.2.1 20250808 (Red Hat 15.2.1-1) openSUSE Leap 15.6 Kernel: 5.15 Compiler: gcc gcc (SUSE Linux) 7.5.0 Red Hat Enterprise Linux 9.5 Kernel: 5.15 Compiler: gcc gcc (GCC) 11.5.0 20240719 (Red Hat 11.5.0-2) Red Hat Enterprise Linux 8.10 Kernel: 5.15 Compiler: gcc gcc (GCC) 8.5.0 20210514 (Red Hat 8.5.0-22) Ubuntu 20.04 Kernel: 5.15 Compiler: gcc gcc (Ubuntu 9.4.0-1ubuntu1~20.04.2) 9.4.0 Ubuntu 22.04 Kernel: 5.15 Compiler: gcc gcc (Ubuntu 11.4.0-1ubuntu1~22.04) 11.4.0 Ubuntu 24.04 Kernel: 5.15 Compiler: gcc gcc (Ubuntu 13.3.0-6ubuntu2~24.04) 13.3.0 Alpine Linux 3.22.0 Kernel: 5.15 Compiler: gcc gcc (Alpine 14.2.0) 14.2.0 FreeBSD 14.2 Kernel: 14.2-RELEASE Compiler: clang 18.1.6 Windows Server 2022 Kernel: 10.0.20348.2031 Compiler: clang 15.0.7, gcc 14.1.0 (MinGW), and MSVC VS 19.39.33521 To view detailed results, visit: https://lab.dpdk.org/results/dashboard/patchsets/34136/ UNH-IOL DPDK Community Lab To manage your email subscriptions, visit: https://lab.dpdk.org/results/dashboard/preferences/subscriptions/