From mboxrd@z Thu Jan 1 00:00:00 1970 Return-Path: Received: from mails.dpdk.org (mails.dpdk.org [217.70.189.124]) by inbox.dpdk.org (Postfix) with ESMTP id AF14C46F67 for ; Wed, 24 Sep 2025 18:01:58 +0200 (CEST) Received: from mails.dpdk.org (localhost [127.0.0.1]) by mails.dpdk.org (Postfix) with ESMTP id A82FB402EB; Wed, 24 Sep 2025 18:01:58 +0200 (CEST) Received: from mail-il1-f225.google.com (mail-il1-f225.google.com [209.85.166.225]) by mails.dpdk.org (Postfix) with ESMTP id 4CACD402EB for ; Wed, 24 Sep 2025 18:01:57 +0200 (CEST) Received: by mail-il1-f225.google.com with SMTP id e9e14a558f8ab-42593858280so2167595ab.1 for ; Wed, 24 Sep 2025 09:01:57 -0700 (PDT) DKIM-Signature: v=1; a=rsa-sha256; c=relaxed/relaxed; d=iol.unh.edu; s=unh-iol; t=1758729716; x=1759334516; darn=dpdk.org; h=references:in-reply-to:cc:to:from:subject:message-id:date:from:to :cc:subject:date:message-id:reply-to; bh=nJLd9vU2XxwHK06itq4yHJ6VuEYhC5dXfu4lAO80CnE=; b=C3IBSv7cME2T+G/9Z+WdGfpykIN4xxM4sRxqEBC0GpWfQALMekFFpy44ziHL36d9Kr LddVxR9oUJ9zkTLe7ZYXh/DzVRwMe/xhf5LV96zBqm76SevJBS1f4jVAT3i6iHiU+HC1 c+VdbrjjT0i7fc2qg7FdZOOgYCgi0XE6HdJh8= X-Google-DKIM-Signature: v=1; a=rsa-sha256; c=relaxed/relaxed; d=1e100.net; s=20230601; t=1758729716; x=1759334516; h=references:in-reply-to:cc:to:from:subject:message-id:date :x-gm-message-state:from:to:cc:subject:date:message-id:reply-to; bh=nJLd9vU2XxwHK06itq4yHJ6VuEYhC5dXfu4lAO80CnE=; b=n5HTrXnQFFvvfONcbb2GcBfYj3GJH6abbe1KGzk4BoLyBdNg+jialLhW7lA3kSEf30 KBievCyvZFmbZZcsesutDi3cQ8RVTV0VeqVYv736I9TRFe9SQSR5Dg0ch1qkRbNvkx02 hQAXjBNxGVBUcKeXQqi6tBFa6wUVnZ483d5mWflYZDt2BSt0sfhpmmj93prl5Z3Ze+oC 67PODCY/yrvueCZYUCoH3VdUKr5jHqA7NdPuiG5oND3nostIlEt87ajdPpt6qUn18Ihj EAcKRx7agdDal+aonreQRnXIsHIUc/Ds7tuqpdQwmJAWoYI/Ogre2CqgBvBOwmi34NAx 8EPQ== X-Gm-Message-State: AOJu0YzJeLEwKZ26kCRZdp0Q5JbN42WjnU6yfQzc5qzx2gp3vMiDPumv FmOCdWijR2k/N/QKPWnoOw8DUgg5y4Mzcd9miwLJRgTpFz4tWGnnIyKlKfAXZIaOyTFauFpRVP8 jO13nEPjTA3v2cUr1BXOSriAzXxBWn6JwWkWl1YajZv4Rym9KNvujnF/DSsIL X-Gm-Gg: ASbGncsRvHVDyKsHkFxD0ze3bu3rXLZa/WEJ1exn1JgXp+EDTieHKswCk+/APwUC3q5 n6y0+puAEB1s+BCoh1bqToF15f6Ugi14NrCXOYBVt4qu1CgDwiIhuR3n4ISz5p3DJ59r5cVkMOR V2fz3Dbsmu+X4ZEzcClNmCUOSnUo1imACezdm7oBd1o9heg+3PZ1GHuYKXYGYM0B49iNOzpnZ3A DfA62sFM4vPD2j7djjp3bUrXxhTqp1tKRxOgsFpW4xK4MVr8uBP6dDslXCYzfnVug5pOccLE07H Neg6QmqZxtCowatbXo3jRk2etLOUl+45OMwRcxGHJDGqx5BQAw== X-Google-Smtp-Source: AGHT+IGaUCngIviuQWQBXFjJgLjgJFD+mUOVt7bD94HXkHGeRFj2E7avZssecgmx+r6T5n11lYN603Ax069C X-Received: by 2002:a92:d342:0:b0:424:8c2d:ca43 with SMTP id e9e14a558f8ab-42595654ed3mr1144595ab.29.1758729716296; Wed, 24 Sep 2025 09:01:56 -0700 (PDT) Received: from postal.iol.unh.edu (postal.iol.unh.edu. [2606:4100:3880:1234::84]) by smtp-relay.gmail.com with ESMTPS id 8926c6da1cb9f-5680f989c63sm100234173.11.2025.09.24.09.01.56 (version=TLS1_2 cipher=ECDHE-ECDSA-AES128-GCM-SHA256 bits=128/128); Wed, 24 Sep 2025 09:01:56 -0700 (PDT) X-Relaying-Domain: iol.unh.edu Date: Wed, 24 Sep 2025 09:01:56 -0700 (PDT) Message-ID: <68d415f4.050a0220.3637f4.684bSMTPIN_ADDED_MISSING@mx.google.com> Received: from [172.21.0.2] (unknown [172.18.0.240]) by postal.iol.unh.edu (Postfix) with ESMTP id CE52B6051830; Wed, 24 Sep 2025 12:01:55 -0400 (EDT) Subject: |SUCCESS| pw156873 [PATCH] [v2] build: validate libraries returned f From: dpdklab@iol.unh.edu To: Test Report Cc: dpdk-test-reports@iol.unh.edu In-Reply-To: <20250924111318.567771-1-bruce.richardson@intel.com> References: <20250924111318.567771-1-bruce.richardson@intel.com> Content-Type: text/plain X-BeenThere: test-report@dpdk.org X-Mailman-Version: 2.1.29 Precedence: list List-Id: automatic DPDK test reports List-Unsubscribe: , List-Archive: List-Post: List-Help: List-Subscribe: , Errors-To: test-report-bounces@dpdk.org Test-Label: iol-unit-arm64-testing Test-Status: SUCCESS http://dpdk.org/patch/156873 _Testing PASS_ Submitter: Bruce Richardson Date: Wednesday, September 24 2025 10:54:00 DPDK git baseline: Repo:dpdk Branch: master CommitID:0e03ab647d07cd985a7cac36cefff5195cc3a07d 156873 --> testing pass Upstream job id: Generic-Unit-Test-DPDK#374410 Test environment and result as below: +------------------------------+------------------------------+---------------------------+--------------+----------------+ | Environment | cryptodev_sw_snow3g_autotest | cryptodev_sw_zuc_autotest | lpm_autotest | dpdk_unit_test | +==============================+==============================+===========================+==============+================+ | Debian 12 (arm) | PASS | PASS | SKIPPED | SKIPPED | +------------------------------+------------------------------+---------------------------+--------------+----------------+ | Ubuntu 20.04 | SKIPPED | SKIPPED | PASS | PASS | +------------------------------+------------------------------+---------------------------+--------------+----------------+ | Debian GNU/Linux 12 | SKIPPED | SKIPPED | SKIPPED | PASS | +------------------------------+------------------------------+---------------------------+--------------+----------------+ | Fedora Linux 40 | SKIPPED | SKIPPED | SKIPPED | PASS | +------------------------------+------------------------------+---------------------------+--------------+----------------+ | CentOS Stream 10 | SKIPPED | SKIPPED | SKIPPED | PASS | +------------------------------+------------------------------+---------------------------+--------------+----------------+ | Fedora Linux 42 | SKIPPED | SKIPPED | SKIPPED | PASS | +------------------------------+------------------------------+---------------------------+--------------+----------------+ | CentOS Stream 9 | SKIPPED | SKIPPED | SKIPPED | PASS | +------------------------------+------------------------------+---------------------------+--------------+----------------+ | Red Hat Enterprise Linux 9.5 | SKIPPED | SKIPPED | SKIPPED | PASS | +------------------------------+------------------------------+---------------------------+--------------+----------------+ | Fedora Linux 41 | SKIPPED | SKIPPED | SKIPPED | PASS | +------------------------------+------------------------------+---------------------------+--------------+----------------+ | Ubuntu 24.04 | SKIPPED | SKIPPED | SKIPPED | PASS | +------------------------------+------------------------------+---------------------------+--------------+----------------+ | Ubuntu 22.04 | SKIPPED | SKIPPED | SKIPPED | PASS | +------------------------------+------------------------------+---------------------------+--------------+----------------+ Debian 12 (arm) Kernel: Depends on container host Compiler: gcc (Debian 12.2.0-14) 12.2.0 Ubuntu 20.04 Kernel: 5.4 Compiler: gcc gcc (Ubuntu 9.4.0-1ubuntu1~20.04.2) 9.4.0 Debian GNU/Linux 12 Kernel: 5.4 Compiler: gcc gcc (Debian 12.2.0-14+deb12u1) 12.2.0 Fedora Linux 40 Kernel: 5.4 Compiler: clang gcc (GCC) 14.2.1 20240912 (Red Hat 14.2.1-3) CentOS Stream 10 Kernel: 5.4 Compiler: gcc gcc (GCC) 14.2.1 20250110 (Red Hat 14.2.1-8) Fedora Linux 42 Kernel: 5.4 Compiler: clang gcc (GCC) 15.2.1 20250808 (Red Hat 15.2.1-1) CentOS Stream 9 Kernel: 5.4 Compiler: gcc gcc (GCC) 11.5.0 20240719 (Red Hat 11.5.0-11) Red Hat Enterprise Linux 9.5 Kernel: 5.4 Compiler: gcc gcc (GCC) 11.5.0 20240719 (Red Hat 11.5.0-2) Fedora Linux 41 Kernel: 5.4 Compiler: gcc gcc (GCC) 14.3.1 20250523 (Red Hat 14.3.1-1) Ubuntu 24.04 Kernel: 5.4 Compiler: gcc gcc (Ubuntu 13.3.0-6ubuntu2~24.04) 13.3.0 Ubuntu 22.04 Kernel: 5.4 Compiler: gcc gcc (Ubuntu 11.4.0-1ubuntu1~22.04) 11.4.0 To view detailed results, visit: https://lab.dpdk.org/results/dashboard/patchsets/34133/ UNH-IOL DPDK Community Lab To manage your email subscriptions, visit: https://lab.dpdk.org/results/dashboard/preferences/subscriptions/