From mboxrd@z Thu Jan 1 00:00:00 1970 Return-Path: Received: from mails.dpdk.org (mails.dpdk.org [217.70.189.124]) by inbox.dpdk.org (Postfix) with ESMTP id 33BF846F67 for ; Wed, 24 Sep 2025 19:10:35 +0200 (CEST) Received: from mails.dpdk.org (localhost [127.0.0.1]) by mails.dpdk.org (Postfix) with ESMTP id 2685440615; Wed, 24 Sep 2025 19:10:35 +0200 (CEST) Received: from mail-oo1-f99.google.com (mail-oo1-f99.google.com [209.85.161.99]) by mails.dpdk.org (Postfix) with ESMTP id 066CC40615 for ; Wed, 24 Sep 2025 19:10:34 +0200 (CEST) Received: by mail-oo1-f99.google.com with SMTP id 006d021491bc7-6218b52be5cso6973eaf.0 for ; Wed, 24 Sep 2025 10:10:33 -0700 (PDT) DKIM-Signature: v=1; a=rsa-sha256; c=relaxed/relaxed; d=iol.unh.edu; s=unh-iol; t=1758733833; x=1759338633; darn=dpdk.org; h=references:in-reply-to:cc:to:from:subject:message-id:date:from:to :cc:subject:date:message-id:reply-to; bh=eLjfEiaktRRBpByzrM8VUm/knEsvjpWjwh6pnoqbrpc=; b=bdPBR5hGt21Ntz+661R1FSinCPPNXBwxt6/ydtXZqy7d5o5XYXr9buEWNHmY+u6SJ0 HxZxERW6QU0HpcXJXcP+xfl7Cvcm8FZLh9AEflVpatcgSbdpody1GUVgH/HzjZ2yu/1m EK9mCY5uSvm35Dvnu8n8Etva8bs1lmVKHRyZI= X-Google-DKIM-Signature: v=1; a=rsa-sha256; c=relaxed/relaxed; d=1e100.net; s=20230601; t=1758733833; x=1759338633; h=references:in-reply-to:cc:to:from:subject:message-id:date :x-gm-message-state:from:to:cc:subject:date:message-id:reply-to; bh=eLjfEiaktRRBpByzrM8VUm/knEsvjpWjwh6pnoqbrpc=; b=vJSeR6LS1L0iRYirKW4AeG4KU9Wz/hKCiyp7yq3vkHVlRraScfS8imlcDRbjNlrYjY vZRySMmc8OQ/mwEbaYu14Smu9VBSPVdVKx5AMk8Pg1bf89Cd2z8KphAE0sZUVobqPCTj sNK25IHr52C7yNJfGGVrEaEBg6VPuVxLnPWH1LTYPVKZbjPg1AlSyPpqcFVKxbwXHrjm gIYvnWIyF2yw4YpkTYYFqHeXNPS/WoghUIQphfbPQrs8GvdPrHKXBa7f7/Pw+uqCRRxm +HsHDUW8/KI5cwNe/IZWU2r33qRFqZ54rCOwxF2es6XbRuqZKNAJSARYfomMOFSIyaqs +omg== X-Gm-Message-State: AOJu0Yx39myg0rRe4hs9IPCxDL01YC1Zlrc1pqmEWzYEMB94iocfr//U 90to69buaF3Vfl2jVWz/Jd49nfCGWxtMxsQ3cfWdBCmqk+1EHfGMVSzfleunKfF+kcLC7Tkw9no xgw0GeBi4N2oStDwf0Ey9E70Y0CWlaEdDXgiEfCY5qo3NB7YcPVwNRQr4jWMu X-Gm-Gg: ASbGnctOPQi+qMGnFYIcrwKFzPqydy9qI/vUbJYDMI9WbfUOyse5GSPqMrkedyJ5MuC vbB2XdSgton6ua7bN+YvXjFEp4mP7Sf3cqOR89bzIpl8hRmR+a3AoCz+PM72LDUbaWMreflyL0g k8762Bc7HmCt6TlGap0Sbdu2t2hZ3vPuRhtOjQhcvt2VwvL+Xi0iZkPIsyE2Wz8tFbvJzLbVYKG euE7HY5S5Es00qvntn8SHktqFZGavM7oS5FmmQkzWmyPVWh8uMZ6h8A/XLBCQxX1NWkQSHO6ZWf iaGjEiYxfiYA0/ZM2vp0zttkWwzU7pOar8VN1kZQZVTaq3A1NA== X-Google-Smtp-Source: AGHT+IHl2ieW0oTDKPmXhVv8NMV8FzOYVGjFukgVzO9tsugknrJS6Nt8PMqErgdhTdb7//aYAczMBZ5AEKzD X-Received: by 2002:a05:6820:50b:b0:623:48b6:b4d with SMTP id 006d021491bc7-63a361c0263mr259602eaf.3.1758733833135; Wed, 24 Sep 2025 10:10:33 -0700 (PDT) Received: from postal.iol.unh.edu (postal.iol.unh.edu. [2606:4100:3880:1234::84]) by smtp-relay.gmail.com with ESMTPS id 006d021491bc7-625dae1d688sm678369eaf.9.2025.09.24.10.10.33 (version=TLS1_2 cipher=ECDHE-ECDSA-AES128-GCM-SHA256 bits=128/128); Wed, 24 Sep 2025 10:10:33 -0700 (PDT) X-Relaying-Domain: iol.unh.edu Date: Wed, 24 Sep 2025 10:10:33 -0700 (PDT) Message-ID: <68d42609.050a0220.2d25b5.c637SMTPIN_ADDED_MISSING@mx.google.com> Received: from [172.21.0.4] (unknown [172.18.0.240]) by postal.iol.unh.edu (Postfix) with ESMTP id 662F8604D420; Wed, 24 Sep 2025 13:10:32 -0400 (EDT) Subject: |SUCCESS| pw156876 [PATCH] [v2] net/intel: add IDPF PCI class ID sup From: dpdklab@iol.unh.edu To: Test Report Cc: dpdk-test-reports@iol.unh.edu, Bruce Richardson In-Reply-To: <20250924125749.83507-1-venkatesh.vemula@intel.com> References: <20250924125749.83507-1-venkatesh.vemula@intel.com> Content-Type: text/plain X-BeenThere: test-report@dpdk.org X-Mailman-Version: 2.1.29 Precedence: list List-Id: automatic DPDK test reports List-Unsubscribe: , List-Archive: List-Post: List-Help: List-Subscribe: , Errors-To: test-report-bounces@dpdk.org Test-Label: iol-compile-arm64-testing Test-Status: SUCCESS http://dpdk.org/patch/156876 _Testing PASS_ Submitter: Vemula Venkatesh Date: Wednesday, September 24 2025 12:57:49 DPDK git baseline: Repo:dpdk-next-net-intel Branch: master CommitID:f5ecd82420f63657cf78c949849a4f9dfb3bca09 156876 --> testing pass Upstream job id: Generic-DPDK-Compile-Meson#428107 Test environment and result as below: +------------------------------+--------------------+ | Environment | dpdk_meson_compile | +==============================+====================+ | Ubuntu 20.04 | PASS | +------------------------------+--------------------+ | Red Hat Enterprise Linux 9.5 | PASS | +------------------------------+--------------------+ | Debian GNU/Linux 12 | PASS | +------------------------------+--------------------+ | Fedora Linux 42 | PASS | +------------------------------+--------------------+ | Ubuntu 22.04 | PASS | +------------------------------+--------------------+ | Ubuntu 24.04 | PASS | +------------------------------+--------------------+ | CentOS Stream 10 | PASS | +------------------------------+--------------------+ | CentOS Stream 9 | PASS | +------------------------------+--------------------+ Ubuntu 20.04 Kernel: 5.15 Compiler: aarch64-linux-gnu-gcc gcc (Ubuntu 9.4.0-1ubuntu1~20.04.2) 9.4.0 Red Hat Enterprise Linux 9.5 Kernel: 5.4 Compiler: gcc gcc (GCC) 11.5.0 20240719 (Red Hat 11.5.0-2) Debian GNU/Linux 12 Kernel: 5.4 Compiler: gcc gcc (Debian 12.2.0-14+deb12u1) 12.2.0 Fedora Linux 42 Kernel: 5.4 Compiler: gcc gcc (GCC) 15.2.1 20250808 (Red Hat 15.2.1-1) Ubuntu 22.04 Kernel: 5.4 Compiler: gcc gcc (Ubuntu 11.4.0-1ubuntu1~22.04) 11.4.0 Ubuntu 24.04 Kernel: 5.4 Compiler: gcc gcc (Ubuntu 13.3.0-6ubuntu2~24.04) 13.3.0 CentOS Stream 10 Kernel: 5.4 Compiler: gcc gcc (GCC) 14.2.1 20250110 (Red Hat 14.2.1-8) CentOS Stream 9 Kernel: 5.4 Compiler: gcc gcc (GCC) 11.5.0 20240719 (Red Hat 11.5.0-11) To view detailed results, visit: https://lab.dpdk.org/results/dashboard/patchsets/34135/ UNH-IOL DPDK Community Lab To manage your email subscriptions, visit: https://lab.dpdk.org/results/dashboard/preferences/subscriptions/