From mboxrd@z Thu Jan 1 00:00:00 1970 Return-Path: Received: from mails.dpdk.org (mails.dpdk.org [217.70.189.124]) by inbox.dpdk.org (Postfix) with ESMTP id 3F8ED46F67 for ; Wed, 24 Sep 2025 19:10:50 +0200 (CEST) Received: from mails.dpdk.org (localhost [127.0.0.1]) by mails.dpdk.org (Postfix) with ESMTP id 3A05040615; Wed, 24 Sep 2025 19:10:50 +0200 (CEST) Received: from mail-qk1-f225.google.com (mail-qk1-f225.google.com [209.85.222.225]) by mails.dpdk.org (Postfix) with ESMTP id 4006040615 for ; Wed, 24 Sep 2025 19:10:49 +0200 (CEST) Received: by mail-qk1-f225.google.com with SMTP id af79cd13be357-84d8e2587d6so8605185a.1 for ; Wed, 24 Sep 2025 10:10:49 -0700 (PDT) DKIM-Signature: v=1; a=rsa-sha256; c=relaxed/relaxed; d=iol.unh.edu; s=unh-iol; t=1758733848; x=1759338648; darn=dpdk.org; h=references:in-reply-to:cc:to:from:subject:message-id:date:from:to :cc:subject:date:message-id:reply-to; bh=3oZQCBPNxliYUpEvnGpS7y4ONaJXBSrzUgNQ1SNQxlk=; b=OU+NBv71M7bC4w2B7l5z8f6SLpSXgL8cki57yT5URs9Fw6Z9UwtxSwG4qDOVhqDtBU bdDVV+tqEiuYh6i6USGMCCsZVC4lqI8MX6wHxtUCS28jBk4gV6X3zgPKwMC+dKTx+UsS CMSOYiIA396lY8R1edWrey8gzhqQraWRubsw8= X-Google-DKIM-Signature: v=1; a=rsa-sha256; c=relaxed/relaxed; d=1e100.net; s=20230601; t=1758733848; x=1759338648; h=references:in-reply-to:cc:to:from:subject:message-id:date :x-gm-message-state:from:to:cc:subject:date:message-id:reply-to; bh=3oZQCBPNxliYUpEvnGpS7y4ONaJXBSrzUgNQ1SNQxlk=; b=d5q1ERU++5VUPAdAlnrGvRWOwEZGIHiJgI0GypKfXH5l6NknEclH54LmcslpPh4Blz RcmPG3iRx4dGCtP9b0pjw9mKHXoFgnsLWvPt1f8meboGt6Lw8j3LrOr1m9s5p4ulGCG8 XGhOMoMUgcaUFI4DfkwF/NOBdpz365vWKvYAQbtv6EsfQaUTQQGgYAi2YY+akKKr2Ka5 uBt1zp7R8csRoJ2hZW8nOLfXpRc0HY4qC4bMvfcxAwaSQKkA+PtKJphR51JS9jwMLRt/ 3CPN+N+1W/7YJi7+iyPG2H6+x1ZiIQ9Vd1vRcSrnsqB2zxZVJ8b9LaqvvMQodF55E8km myOg== X-Gm-Message-State: AOJu0Yy9fN2jg/R8AqgUgE+fFMlMLLfnwVHAm+ZsSe6YXsW8/PH+2E0E Mlx+vMhCTKEqXJ83uKXu08PXCy42qkRmWW4TI8ukL24f5IujnemnrMtFROpDaC/7B0XR2geUqX/ LmWB3363gw4m0yyJ9sHcpT4x0bUwRoaBjRHjzffA8qhR17ea3YPwF8EsgctHb X-Gm-Gg: ASbGncvX3f5uuThy+AzJW1t2FdvKnO4W7/t8X2S1v4ajjCAqJVMhJEMz4A8edtGO80M DVFhy+FM6FzmjI2RE3K3y2vUg8J+5UxKMMhs9tT45Dt0vAFwBQo8hz+kkI8oGm4TxwZJ1RzN31Y pCoqBGGqRYo7i4GlNGekNuF8mpGXaZ7xR1/HGLiQw0hxjWe2gxc7na10JMtcWXirKZ6Y2+9BavX kaC6L6oDaRwLUhFrJ0/nopvNpCtw8ZjJY0v5uV3CUcvNY8mlMtF1tYAH7AmDXp6iv9Wr9CuIQob 4mIsG13Xkqm7ZfHiACeUT34+gsQLhgEfQYl1cBPQHJ1v3hg2rA== X-Google-Smtp-Source: AGHT+IEn6ssWnKHJVKuFykFazLxKD1Dp/XxkqLadP9RGRygEAExpfrl9PZVnefBQEZN+Z9/OWoIMSGw1g0aT X-Received: by 2002:a05:6214:403:b0:79c:6f51:7f6f with SMTP id 6a1803df08f44-7fc3fec677dmr10703786d6.55.1758733848461; Wed, 24 Sep 2025 10:10:48 -0700 (PDT) Received: from postal.iol.unh.edu (postal.iol.unh.edu. [2606:4100:3880:1234::84]) by smtp-relay.gmail.com with ESMTPS id 6a1803df08f44-7934ee8bacdsm9917426d6.29.2025.09.24.10.10.48 (version=TLS1_2 cipher=ECDHE-ECDSA-AES128-GCM-SHA256 bits=128/128); Wed, 24 Sep 2025 10:10:48 -0700 (PDT) X-Relaying-Domain: iol.unh.edu Date: Wed, 24 Sep 2025 10:10:48 -0700 (PDT) Message-ID: <68d42618.d40a0220.dbc62.1f5fSMTPIN_ADDED_MISSING@mx.google.com> Received: from [172.21.0.4] (unknown [172.18.0.240]) by postal.iol.unh.edu (Postfix) with ESMTP id 0061B604D420; Wed, 24 Sep 2025 13:10:47 -0400 (EDT) Subject: |SUCCESS| pw156874-156875 [PATCH] [v2,2/2] build: add backward compa From: dpdklab@iol.unh.edu To: Test Report Cc: dpdk-test-reports@iol.unh.edu In-Reply-To: <20250924123422.224988-3-ktraynor@redhat.com> References: <20250924123422.224988-3-ktraynor@redhat.com> Content-Type: text/plain X-BeenThere: test-report@dpdk.org X-Mailman-Version: 2.1.29 Precedence: list List-Id: automatic DPDK test reports List-Unsubscribe: , List-Archive: List-Post: List-Help: List-Subscribe: , Errors-To: test-report-bounces@dpdk.org Test-Label: iol-compile-arm64-testing Test-Status: SUCCESS http://dpdk.org/patch/156875 _Testing PASS_ Submitter: Kevin Traynor Date: Wednesday, September 24 2025 12:34:22 DPDK git baseline: Repo:dpdk Branch: master CommitID:0e03ab647d07cd985a7cac36cefff5195cc3a07d 156874-156875 --> testing pass Upstream job id: Generic-DPDK-Compile-Meson#428067 Test environment and result as below: +------------------------------+--------------------+ | Environment | dpdk_meson_compile | +==============================+====================+ | Red Hat Enterprise Linux 9.5 | PASS | +------------------------------+--------------------+ | Ubuntu 20.04 | PASS | +------------------------------+--------------------+ | CentOS Stream 10 | PASS | +------------------------------+--------------------+ | Debian GNU/Linux 12 | PASS | +------------------------------+--------------------+ | CentOS Stream 9 | PASS | +------------------------------+--------------------+ | Ubuntu 24.04 | PASS | +------------------------------+--------------------+ | Fedora Linux 42 | PASS | +------------------------------+--------------------+ | Ubuntu 22.04 | PASS | +------------------------------+--------------------+ Red Hat Enterprise Linux 9.5 Kernel: 5.4 Compiler: gcc gcc (GCC) 11.5.0 20240719 (Red Hat 11.5.0-2) Ubuntu 20.04 Kernel: 5.15 Compiler: aarch64-linux-gnu-gcc gcc (Ubuntu 9.4.0-1ubuntu1~20.04.2) 9.4.0 CentOS Stream 10 Kernel: 5.4 Compiler: gcc gcc (GCC) 14.2.1 20250110 (Red Hat 14.2.1-8) Debian GNU/Linux 12 Kernel: 5.4 Compiler: gcc gcc (Debian 12.2.0-14+deb12u1) 12.2.0 CentOS Stream 9 Kernel: 5.4 Compiler: gcc gcc (GCC) 11.5.0 20240719 (Red Hat 11.5.0-11) Ubuntu 24.04 Kernel: 5.4 Compiler: gcc gcc (Ubuntu 13.3.0-6ubuntu2~24.04) 13.3.0 Fedora Linux 42 Kernel: 5.4 Compiler: clang gcc (GCC) 15.2.1 20250808 (Red Hat 15.2.1-1) Ubuntu 22.04 Kernel: 5.4 Compiler: gcc gcc (Ubuntu 11.4.0-1ubuntu1~22.04) 11.4.0 To view detailed results, visit: https://lab.dpdk.org/results/dashboard/patchsets/34134/ UNH-IOL DPDK Community Lab To manage your email subscriptions, visit: https://lab.dpdk.org/results/dashboard/preferences/subscriptions/