From mboxrd@z Thu Jan 1 00:00:00 1970 Return-Path: Received: from mails.dpdk.org (mails.dpdk.org [217.70.189.124]) by inbox.dpdk.org (Postfix) with ESMTP id 4E3E746F67 for ; Wed, 24 Sep 2025 19:19:44 +0200 (CEST) Received: from mails.dpdk.org (localhost [127.0.0.1]) by mails.dpdk.org (Postfix) with ESMTP id 3C44740615; Wed, 24 Sep 2025 19:19:44 +0200 (CEST) Received: from mail-qt1-f228.google.com (mail-qt1-f228.google.com [209.85.160.228]) by mails.dpdk.org (Postfix) with ESMTP id 6844640615 for ; Wed, 24 Sep 2025 19:19:42 +0200 (CEST) Received: by mail-qt1-f228.google.com with SMTP id d75a77b69052e-4d10f772416so12319051cf.1 for ; Wed, 24 Sep 2025 10:19:42 -0700 (PDT) DKIM-Signature: v=1; a=rsa-sha256; c=relaxed/relaxed; d=iol.unh.edu; s=unh-iol; t=1758734382; x=1759339182; darn=dpdk.org; h=references:in-reply-to:cc:to:from:subject:message-id:date:from:to :cc:subject:date:message-id:reply-to; bh=ztMUEcOcnlspq4bEDRQxX121Mr9uaRTgJDO0cY88898=; b=h3OH52/zWgfb0Ged5o/DjfTSZAvtN0Qpemd7krmLJhZy5eQQiGqT5IgMNQ6arWUpwc GKMiXoXpTMVYocDQ8yXnnVobKE1IzVALp+Fg9RxLpTFupMGuo/iX5C0kL3RNV4cJqJqC c+q+nJkvh1RHIs75AVzYJvLtdGuzl7T6+Lk3k= X-Google-DKIM-Signature: v=1; a=rsa-sha256; c=relaxed/relaxed; d=1e100.net; s=20230601; t=1758734382; x=1759339182; h=references:in-reply-to:cc:to:from:subject:message-id:date :x-gm-message-state:from:to:cc:subject:date:message-id:reply-to; bh=ztMUEcOcnlspq4bEDRQxX121Mr9uaRTgJDO0cY88898=; b=ON+D6n0bMJqtOHYTgyziWc3GM4p3o+BKSOV56vC8mefxzB4bMuYQkkF4k2ppj7wCz6 QhcTdslO6Uus/DMOQxV+AkFK/9nWGEeFGDvfFOgjETCR6CvZ4bAB7C94b0oH6czIBavz AqrAh8yR3G/RtqXHQ91lxjqca5Al1h73/wSj4EcydfFLkhJmWDQjAfNIJMbbRIBpEngq ckh8bsSG67pEmCAu2CkPsLrZxImSWMhRmlrn3rUkeKmUpza2Todrapv7mTesi2+fjtk8 M7cID6nvrqqPNouc5xK87GQi4lDczAibEC/hCEHPGGk0GKNI7TIt+jVrvUdJDyEmlkof Zoog== X-Gm-Message-State: AOJu0Yy7XTdB0ifNi5FNWEXQ+i0tBsmU2njNG9uAyG9g+vtipPQgkc6s jzUxykNrVbxsXeFjz1DzczTKy39hJPu53FKnhwDEW3gzgPnyRotF2nhWQoqGUdESCKvE/d0Kug7 SzmzJNxZQEcUqU5j+MGyUGa/gdtWGR7Bd8MWuUukvEVWN X-Gm-Gg: ASbGnctSxIhVBp0gakNXEavd5j1292Z3HoA9cwHOyOsaewFaym7pWQ1tLljaSAomEdD xN+ZKLo70fZNRu5oa2Pt3usUFwn042oK+2/zlOKo9A9VcTxngnZPpi2eRvIqxY/1320RvuaJZ3w FPOUkwsaqClZdUrr8Fpfx2b4nWLt9tAWQCPSdOi1qnV6pJ1LnQszwX15e4j+OLxrHbl6xenOvck vfrWeTOsTcVeO9PK9IFs8ajJB7llFdNUUhZbfesYDvVgx7FdG01mmPvCHJeHXB20af7msy3HYZB UHVzTcgVLXkMH0cP+Y8k3o9v+xTksxTmwX0M+cNt4kA+93ispVWED3xwgeqyMynM0EZBGNKq X-Google-Smtp-Source: AGHT+IG6I6ZY0uRrIhsGHZZWDNoFMyL1jssn8I2eQZT3VYIjAZvPgBP6CHgMCRitQTQXNWFoF+c8a954mehr X-Received: by 2002:a05:622a:480a:b0:4b7:8b67:edb9 with SMTP id d75a77b69052e-4da5ce7f3bemr5401631cf.26.1758734381570; Wed, 24 Sep 2025 10:19:41 -0700 (PDT) Received: from postal.iol.unh.edu (postal.iol.unh.edu. [132.177.123.84]) by smtp-relay.gmail.com with ESMTPS id d75a77b69052e-4d6d947aca1sm1332131cf.10.2025.09.24.10.19.41 (version=TLS1_2 cipher=ECDHE-ECDSA-AES128-GCM-SHA256 bits=128/128); Wed, 24 Sep 2025 10:19:41 -0700 (PDT) X-Relaying-Domain: iol.unh.edu Date: Wed, 24 Sep 2025 10:19:41 -0700 (PDT) Message-ID: <68d4282d.050a0220.1767b.8b25SMTPIN_ADDED_MISSING@mx.google.com> Received: from [172.21.0.2] (unknown [172.18.0.240]) by postal.iol.unh.edu (Postfix) with ESMTP id 42DFA604D420; Wed, 24 Sep 2025 13:19:41 -0400 (EDT) Subject: |SUCCESS| pw156874-156875 [PATCH] [v2,2/2] build: add backward compa From: dpdklab@iol.unh.edu To: Test Report Cc: dpdk-test-reports@iol.unh.edu In-Reply-To: <20250924123422.224988-3-ktraynor@redhat.com> References: <20250924123422.224988-3-ktraynor@redhat.com> Content-Type: text/plain X-BeenThere: test-report@dpdk.org X-Mailman-Version: 2.1.29 Precedence: list List-Id: automatic DPDK test reports List-Unsubscribe: , List-Archive: List-Post: List-Help: List-Subscribe: , Errors-To: test-report-bounces@dpdk.org Test-Label: iol-unit-arm64-testing Test-Status: SUCCESS http://dpdk.org/patch/156875 _Testing PASS_ Submitter: Kevin Traynor Date: Wednesday, September 24 2025 12:34:22 DPDK git baseline: Repo:dpdk Branch: master CommitID:0e03ab647d07cd985a7cac36cefff5195cc3a07d 156874-156875 --> testing pass Upstream job id: Generic-Unit-Test-DPDK#374447 Test environment and result as below: +------------------------------+------------------------------+---------------------------+--------------+----------------+ | Environment | cryptodev_sw_snow3g_autotest | cryptodev_sw_zuc_autotest | lpm_autotest | dpdk_unit_test | +==============================+==============================+===========================+==============+================+ | Debian 12 (arm) | PASS | PASS | SKIPPED | SKIPPED | +------------------------------+------------------------------+---------------------------+--------------+----------------+ | Ubuntu 20.04 | SKIPPED | SKIPPED | PASS | PASS | +------------------------------+------------------------------+---------------------------+--------------+----------------+ | CentOS Stream 9 | SKIPPED | SKIPPED | SKIPPED | PASS | +------------------------------+------------------------------+---------------------------+--------------+----------------+ | Fedora Linux 40 | SKIPPED | SKIPPED | SKIPPED | PASS | +------------------------------+------------------------------+---------------------------+--------------+----------------+ | Fedora Linux 41 | SKIPPED | SKIPPED | SKIPPED | PASS | +------------------------------+------------------------------+---------------------------+--------------+----------------+ | Ubuntu 22.04 | SKIPPED | SKIPPED | SKIPPED | PASS | +------------------------------+------------------------------+---------------------------+--------------+----------------+ | CentOS Stream 10 | SKIPPED | SKIPPED | SKIPPED | PASS | +------------------------------+------------------------------+---------------------------+--------------+----------------+ | Fedora Linux 42 | SKIPPED | SKIPPED | SKIPPED | PASS | +------------------------------+------------------------------+---------------------------+--------------+----------------+ | Debian GNU/Linux 12 | SKIPPED | SKIPPED | SKIPPED | PASS | +------------------------------+------------------------------+---------------------------+--------------+----------------+ | Ubuntu 24.04 | SKIPPED | SKIPPED | SKIPPED | PASS | +------------------------------+------------------------------+---------------------------+--------------+----------------+ | Red Hat Enterprise Linux 9.5 | SKIPPED | SKIPPED | SKIPPED | PASS | +------------------------------+------------------------------+---------------------------+--------------+----------------+ Debian 12 (arm) Kernel: Depends on container host Compiler: gcc (Debian 12.2.0-14) 12.2.0 Ubuntu 20.04 Kernel: 5.4 Compiler: gcc gcc (Ubuntu 9.4.0-1ubuntu1~20.04.2) 9.4.0 CentOS Stream 9 Kernel: 5.4 Compiler: gcc gcc (GCC) 11.5.0 20240719 (Red Hat 11.5.0-11) Fedora Linux 40 Kernel: 5.4 Compiler: gcc gcc (GCC) 14.2.1 20240912 (Red Hat 14.2.1-3) Fedora Linux 41 Kernel: 5.4 Compiler: gcc gcc (GCC) 14.3.1 20250523 (Red Hat 14.3.1-1) Ubuntu 22.04 Kernel: 5.15 Compiler: gcc gcc (Ubuntu 11.4.0-1ubuntu1~22.04.2) 11.4.0 CentOS Stream 10 Kernel: 5.4 Compiler: gcc gcc (GCC) 14.2.1 20250110 (Red Hat 14.2.1-8) Fedora Linux 42 Kernel: 5.4 Compiler: gcc gcc (GCC) 15.2.1 20250808 (Red Hat 15.2.1-1) Debian GNU/Linux 12 Kernel: 5.4 Compiler: gcc gcc (Debian 12.2.0-14+deb12u1) 12.2.0 Ubuntu 24.04 Kernel: 5.4 Compiler: gcc gcc (Ubuntu 13.3.0-6ubuntu2~24.04) 13.3.0 Red Hat Enterprise Linux 9.5 Kernel: 5.4 Compiler: gcc gcc (GCC) 11.5.0 20240719 (Red Hat 11.5.0-2) To view detailed results, visit: https://lab.dpdk.org/results/dashboard/patchsets/34134/ UNH-IOL DPDK Community Lab To manage your email subscriptions, visit: https://lab.dpdk.org/results/dashboard/preferences/subscriptions/