From mboxrd@z Thu Jan 1 00:00:00 1970 Return-Path: Received: from mails.dpdk.org (mails.dpdk.org [217.70.189.124]) by inbox.dpdk.org (Postfix) with ESMTP id 41A4D46F67 for ; Wed, 24 Sep 2025 19:38:24 +0200 (CEST) Received: from mails.dpdk.org (localhost [127.0.0.1]) by mails.dpdk.org (Postfix) with ESMTP id 1F74B402D8; Wed, 24 Sep 2025 19:38:24 +0200 (CEST) Received: from mail-pf1-f225.google.com (mail-pf1-f225.google.com [209.85.210.225]) by mails.dpdk.org (Postfix) with ESMTP id 0ACCD402D8 for ; Wed, 24 Sep 2025 19:38:23 +0200 (CEST) Received: by mail-pf1-f225.google.com with SMTP id d2e1a72fcca58-77f1f8a114bso42559b3a.0 for ; Wed, 24 Sep 2025 10:38:22 -0700 (PDT) DKIM-Signature: v=1; a=rsa-sha256; c=relaxed/relaxed; d=iol.unh.edu; s=unh-iol; t=1758735502; x=1759340302; darn=dpdk.org; h=references:in-reply-to:cc:to:from:subject:message-id:date:from:to :cc:subject:date:message-id:reply-to; bh=ArTk3iwpaIn5NqJKBES0qyxbD75pfy04IRWkNCjFXW0=; b=JCC77dk4PSBvF7rvGm/cpY6FbBSu+vc5TQ/pu/HVCFT5ijRmWWMTdpj5Ir+rm/RdMI nya16D0KM5eurJbSCgFLpBfwNNNm5m4kV6TGaOgzVCJRHx6Bs6ROg74CVRy1Itn+ggw/ vGjaOhELPoJCAe5f7Lql4mHr0Wf8Cg9WuE5GI= X-Google-DKIM-Signature: v=1; a=rsa-sha256; c=relaxed/relaxed; d=1e100.net; s=20230601; t=1758735502; x=1759340302; h=references:in-reply-to:cc:to:from:subject:message-id:date :x-gm-message-state:from:to:cc:subject:date:message-id:reply-to; bh=ArTk3iwpaIn5NqJKBES0qyxbD75pfy04IRWkNCjFXW0=; b=P1qPGbSLDHpkbUULiLUr+xqLIMy58icqmg1BUUDrILc6GIxnLFBCJFUIDSB9hN4I4R uK3lXlNuVE5aaWHrllEIexSbXyRdz06/mQjgz4Jm/Lq9+wvCNTJM+bvDqpiXKH0crqWt 0tK5XVPQUZO3bGSSLoyEanVQnA3Kq5NIZI/d8ILwLWPuvJ78ffoFz0IRt1UrV6/d1TIN Ja92u5WhA+s7xnA6LHM2mhqbBrlJo6Q9LCdttQbY3H/YR+hH8e9aT0xEXooZjV8iRe3v M3m9UZ2mkfJKCdWylTYJSbdb5MpUStK0cL+wp/qWnSMfgfthzriPaKiZptOZu90T3SiB kNxQ== X-Gm-Message-State: AOJu0Yy3uyNctDJsMPFsAqdDrFUTmHmXzwDjzaiZQfE421t84UM2mumN TekU7ZLkNlK1xKsaSSFnjG2BXTIlQF8jr5uLQv0Q6jqDl0cd3ojozEBK9+8l8P5aREVqefNOchZ FocVVmh4TC6TaefpmN2xray6BFXxgAXZD8sMPUmlcXUsJ6Fe34oWofRv4Wa3K X-Gm-Gg: ASbGncvumIJa4KGyjzexm7t5MrAHyL64EXtIw1r5YPiMHowkT9+Hq6wpWSjDCtuiDbU BT2V9v6BgfCNmqu589QP7mfOTvtoRHHSuBrS2cqvASrv5F49FQqYp1/LVfuUrK1oVnhaMAcS8Rz HD/DcxMsRcMyrGHsdjBuCq6wKp33XnIqtBxBp3W9uYIfrmrFRfSghz0SSgKmQVdFaZhecuN1tWk Z6bZzG+xXQOCLA7G80DkpGfwpwvj+nSUNukYvxm08+PiA0LeD6lqKHCCkiUAKeqBbxb+6c4qGFk OpLNepHPyAw3/x9XfVu+BmffRMvtJ5YoCTBFDh7YNiepidVfcg== X-Google-Smtp-Source: AGHT+IHiYl64vFbShE2U/fFCkQb/6n1w2uJU59LijoY8Vt1RkkyH7L7HLINxTsIuK+ZdBGuzA4zLk9QrfOrG X-Received: by 2002:a05:6a20:6a26:b0:2c4:3f9:c2ae with SMTP id adf61e73a8af0-2e7d1d12cecmr529398637.18.1758735502093; Wed, 24 Sep 2025 10:38:22 -0700 (PDT) Received: from postal.iol.unh.edu (postal.iol.unh.edu. [2606:4100:3880:1234::84]) by smtp-relay.gmail.com with ESMTPS id d2e1a72fcca58-77f367159cbsm425444b3a.4.2025.09.24.10.38.21 (version=TLS1_2 cipher=ECDHE-ECDSA-AES128-GCM-SHA256 bits=128/128); Wed, 24 Sep 2025 10:38:22 -0700 (PDT) X-Relaying-Domain: iol.unh.edu Date: Wed, 24 Sep 2025 10:38:22 -0700 (PDT) Message-ID: <68d42c8e.050a0220.262920.da68SMTPIN_ADDED_MISSING@mx.google.com> Received: from [172.21.0.2] (unknown [172.18.0.240]) by postal.iol.unh.edu (Postfix) with ESMTP id 107876050A61; Wed, 24 Sep 2025 13:38:21 -0400 (EDT) Subject: |SUCCESS| pw156903 [PATCH] hash: fix build error due to missing incl From: dpdklab@iol.unh.edu To: Test Report Cc: dpdk-test-reports@iol.unh.edu In-Reply-To: <20250924154821.927083-1-bruce.richardson@intel.com> References: <20250924154821.927083-1-bruce.richardson@intel.com> Content-Type: text/plain X-BeenThere: test-report@dpdk.org X-Mailman-Version: 2.1.29 Precedence: list List-Id: automatic DPDK test reports List-Unsubscribe: , List-Archive: List-Post: List-Help: List-Subscribe: , Errors-To: test-report-bounces@dpdk.org Test-Label: iol-unit-amd64-testing Test-Status: SUCCESS http://dpdk.org/patch/156903 _Testing PASS_ Submitter: Bruce Richardson Date: Wednesday, September 24 2025 15:48:21 DPDK git baseline: Repo:dpdk Branch: master CommitID:d8f0f514428ef3c07c9b75f590d75a6addd970f2 156903 --> testing pass Upstream job id: Generic-Unit-Test-DPDK#374532 Test environment and result as below: +-------------------------------+----------------+ | Environment | dpdk_unit_test | +===============================+================+ | Ubuntu 22.04 | PASS | +-------------------------------+----------------+ | Ubuntu 20.04 | PASS | +-------------------------------+----------------+ | Fedora Linux 42 | PASS | +-------------------------------+----------------+ | CentOS Stream 10 | PASS | +-------------------------------+----------------+ | Fedora Linux 41 | PASS | +-------------------------------+----------------+ | Debian GNU/Linux 12 | PASS | +-------------------------------+----------------+ | Fedora Linux 40 | PASS | +-------------------------------+----------------+ | Ubuntu 24.04 | PASS | +-------------------------------+----------------+ | Red Hat Enterprise Linux 8.10 | PASS | +-------------------------------+----------------+ | Windows Server 2022 | PASS | +-------------------------------+----------------+ | Red Hat Enterprise Linux 9.5 | PASS | +-------------------------------+----------------+ | CentOS Stream 9 | PASS | +-------------------------------+----------------+ Ubuntu 22.04 Kernel: 5.15 Compiler: gcc gcc (Ubuntu 11.4.0-1ubuntu1~22.04) 11.4.0 Ubuntu 20.04 Kernel: 5.15 Compiler: gcc gcc (Ubuntu 9.4.0-1ubuntu1~20.04.2) 9.4.0 Fedora Linux 42 Kernel: 5.15 Compiler: gcc gcc (GCC) 15.2.1 20250808 (Red Hat 15.2.1-1) CentOS Stream 10 Kernel: 5.15 Compiler: gcc gcc (GCC) 14.2.1 20250110 (Red Hat 14.2.1-8) Fedora Linux 41 Kernel: 5.15 Compiler: gcc gcc (GCC) 14.3.1 20250523 (Red Hat 14.3.1-1) Debian GNU/Linux 12 Kernel: 5.15 Compiler: gcc gcc (Debian 12.2.0-14+deb12u1) 12.2.0 Fedora Linux 40 Kernel: 5.15 Compiler: gcc gcc (GCC) 14.2.1 20240912 (Red Hat 14.2.1-3) Ubuntu 24.04 Kernel: 5.15 Compiler: gcc gcc (Ubuntu 13.3.0-6ubuntu2~24.04) 13.3.0 Red Hat Enterprise Linux 8.10 Kernel: 5.15 Compiler: gcc gcc (GCC) 8.5.0 20210514 (Red Hat 8.5.0-22) Windows Server 2022 Kernel: 10.0.20348.2031 Compiler: clang 15.0.7, gcc 14.1.0 (MinGW), and MSVC VS 19.39.33521 Red Hat Enterprise Linux 9.5 Kernel: 5.15 Compiler: gcc gcc (GCC) 11.5.0 20240719 (Red Hat 11.5.0-2) CentOS Stream 9 Kernel: 5.15 Compiler: gcc gcc (GCC) 11.5.0 20240719 (Red Hat 11.5.0-11) To view detailed results, visit: https://lab.dpdk.org/results/dashboard/patchsets/34137/ UNH-IOL DPDK Community Lab To manage your email subscriptions, visit: https://lab.dpdk.org/results/dashboard/preferences/subscriptions/