From mboxrd@z Thu Jan 1 00:00:00 1970 Return-Path: Received: from mails.dpdk.org (mails.dpdk.org [217.70.189.124]) by inbox.dpdk.org (Postfix) with ESMTP id 34D9246F67 for ; Wed, 24 Sep 2025 19:38:35 +0200 (CEST) Received: from mails.dpdk.org (localhost [127.0.0.1]) by mails.dpdk.org (Postfix) with ESMTP id 315DF402D8; Wed, 24 Sep 2025 19:38:35 +0200 (CEST) Received: from mail-yb1-f226.google.com (mail-yb1-f226.google.com [209.85.219.226]) by mails.dpdk.org (Postfix) with ESMTP id 7EB45402D8 for ; Wed, 24 Sep 2025 19:38:34 +0200 (CEST) Received: by mail-yb1-f226.google.com with SMTP id 3f1490d57ef6-eb368d14a43so33056276.1 for ; Wed, 24 Sep 2025 10:38:34 -0700 (PDT) DKIM-Signature: v=1; a=rsa-sha256; c=relaxed/relaxed; d=iol.unh.edu; s=unh-iol; t=1758735514; x=1759340314; darn=dpdk.org; h=references:in-reply-to:cc:to:from:subject:message-id:date:from:to :cc:subject:date:message-id:reply-to; bh=S/bbCtYTTUoxj/R+10EyOkA5w0kDAbF5Q/rZGZaAUsI=; b=cmh+MB0Ky7j+dAQ/3q0dMZznaPe6r+oBK6WX6VBdjVHJN/QRpwNioRRx4A+o+lRQQu +Vu2SSpFN+aBOdGDj3BKghb9Vn1hznXN5bokAkB4/8GLW+SlMJ5TkxSqhctUIcqAALuV 48En+dRGWSSplUi7FGeVWN6qgbjQigbMiZa7U= X-Google-DKIM-Signature: v=1; a=rsa-sha256; c=relaxed/relaxed; d=1e100.net; s=20230601; t=1758735514; x=1759340314; h=references:in-reply-to:cc:to:from:subject:message-id:date :x-gm-message-state:from:to:cc:subject:date:message-id:reply-to; bh=S/bbCtYTTUoxj/R+10EyOkA5w0kDAbF5Q/rZGZaAUsI=; b=l9yz3dHPvcWdff1WcdeysjLZmmG+XsMpSx/Q1ehtnIHg4zqxVfGlQOF8sDsEI8UWcE i5qhWEQLQTcrqTQX/UVFdGb0OgN5yTe/C9X+cK2YjnLzd4VGSDEC51Tl7VD6JIu3DDc/ uvXP49lWEQlhdcQkuvcIVcQpQh9/bj1Ht37ZUYl+cn1TaH4uboQ1aeGealR+m5I+B78i vu8UwRJteqIKa7RQbHfqBp8HY8jN8vrPpmSLWrrQX0a30ShrsXcBFI9WGytHcvMg3Si/ OV69Z8PvBIvk6FOBHzrL2P+DLrhDrI9EytxFlkE0NyBA/V0cZAaEDhlSRIGgDHBUBNuK zgfg== X-Gm-Message-State: AOJu0YyF1VhzcsCLL52immtZzrAqT+AT+KNiXk1pWF1Od1QfGE+n577v CIMJv7YHP8oL+AIMTcUd7umNB5ngIIgTdUYAUpjXNauDOt/0uxnT/SZmVuJYMcxCTZI4k3oW5Sw 4OY9zpKr0f6Og5B7kZW0CIYgoOeKnHeS3k2gCDiUIE4WS0xtVjp9TzBhmvyVt X-Gm-Gg: ASbGncuID7dUtovMvn5cUvqTWiFYtZszyqHPDo9FyRtu+VYK84IB4Ogbwpe/z8lR5pf ygLkwvW5DUwk6oUgwWUGFDDpeEZ5hd8YVySVxBfFdfTK6G7G+eIhyur90ac0yASnJATUTWAlev5 w9nVp/XGOfXunezyNh//X984I7qSf7Qyxtn0oaXNOK/0jONJV04fWCkjaPEHdLW9VHOK++/6D3j 37okUrofNO+6o+rOaQd1jIwQHLq9P8hDpTi1Jh1IzmcJgRgrLFdg6EGePQ4IQ9EUtGRecnrxkNf We3q8Ax9Pu/kFvVU7AFN4Qz0LC+JgZBg/TZ7iJia5elJ/fYitA== X-Google-Smtp-Source: AGHT+IEjDZtizlyW3SvuyqVEN8qYuqqua1nFPY9AhBgrIeJcYEyNQU8DbQdhyRl+QUQmvtz1Cb6NhCUIkH6A X-Received: by 2002:a05:6902:f84:b0:ea5:beca:730 with SMTP id 3f1490d57ef6-eb3809399e2mr401081276.9.1758735513855; Wed, 24 Sep 2025 10:38:33 -0700 (PDT) Received: from postal.iol.unh.edu (postal.iol.unh.edu. [2606:4100:3880:1234::84]) by smtp-relay.gmail.com with ESMTPS id 3f1490d57ef6-ea5ce736cdfsm880459276.1.2025.09.24.10.38.33 (version=TLS1_2 cipher=ECDHE-ECDSA-AES128-GCM-SHA256 bits=128/128); Wed, 24 Sep 2025 10:38:33 -0700 (PDT) X-Relaying-Domain: iol.unh.edu Date: Wed, 24 Sep 2025 10:38:33 -0700 (PDT) Message-ID: <68d42c99.250a0220.31145e.8300SMTPIN_ADDED_MISSING@mx.google.com> Received: from [172.21.0.12] (unknown [172.18.0.240]) by postal.iol.unh.edu (Postfix) with ESMTP id 4A7536050A61; Wed, 24 Sep 2025 13:38:33 -0400 (EDT) Subject: |SUCCESS| pw156903 [PATCH] hash: fix build error due to missing incl From: dpdklab@iol.unh.edu To: Test Report Cc: dpdk-test-reports@iol.unh.edu In-Reply-To: <20250924154821.927083-1-bruce.richardson@intel.com> References: <20250924154821.927083-1-bruce.richardson@intel.com> Content-Type: text/plain X-BeenThere: test-report@dpdk.org X-Mailman-Version: 2.1.29 Precedence: list List-Id: automatic DPDK test reports List-Unsubscribe: , List-Archive: List-Post: List-Help: List-Subscribe: , Errors-To: test-report-bounces@dpdk.org Test-Label: iol-unit-amd64-testing Test-Status: SUCCESS http://dpdk.org/patch/156903 _Testing PASS_ Submitter: Bruce Richardson Date: Wednesday, September 24 2025 15:48:21 DPDK git baseline: Repo:dpdk Branch: master CommitID:d8f0f514428ef3c07c9b75f590d75a6addd970f2 156903 --> testing pass Upstream job id: Generic-Unit-Test-DPDK#374514 Test environment and result as below: +-------------------------------+----------------+ | Environment | dpdk_unit_test | +===============================+================+ | Ubuntu 22.04 | PASS | +-------------------------------+----------------+ | Ubuntu 20.04 | PASS | +-------------------------------+----------------+ | Fedora Linux 42 | PASS | +-------------------------------+----------------+ | CentOS Stream 10 | PASS | +-------------------------------+----------------+ | Fedora Linux 41 | PASS | +-------------------------------+----------------+ | Debian GNU/Linux 12 | PASS | +-------------------------------+----------------+ | Fedora Linux 40 | PASS | +-------------------------------+----------------+ | Ubuntu 24.04 | PASS | +-------------------------------+----------------+ | Red Hat Enterprise Linux 8.10 | PASS | +-------------------------------+----------------+ | Windows Server 2022 | PASS | +-------------------------------+----------------+ | Red Hat Enterprise Linux 9.5 | PASS | +-------------------------------+----------------+ | CentOS Stream 9 | PASS | +-------------------------------+----------------+ Ubuntu 22.04 Kernel: 5.15 Compiler: gcc gcc (Ubuntu 11.4.0-1ubuntu1~22.04) 11.4.0 Ubuntu 20.04 Kernel: 5.15 Compiler: gcc gcc (Ubuntu 9.4.0-1ubuntu1~20.04.2) 9.4.0 Fedora Linux 42 Kernel: 5.15 Compiler: gcc gcc (GCC) 15.2.1 20250808 (Red Hat 15.2.1-1) CentOS Stream 10 Kernel: 5.15 Compiler: gcc gcc (GCC) 14.2.1 20250110 (Red Hat 14.2.1-8) Fedora Linux 41 Kernel: 5.15 Compiler: gcc gcc (GCC) 14.3.1 20250523 (Red Hat 14.3.1-1) Debian GNU/Linux 12 Kernel: 5.15 Compiler: gcc gcc (Debian 12.2.0-14+deb12u1) 12.2.0 Fedora Linux 40 Kernel: 5.15 Compiler: gcc gcc (GCC) 14.2.1 20240912 (Red Hat 14.2.1-3) Ubuntu 24.04 Kernel: 5.15 Compiler: gcc gcc (Ubuntu 13.3.0-6ubuntu2~24.04) 13.3.0 Red Hat Enterprise Linux 8.10 Kernel: 5.15 Compiler: gcc gcc (GCC) 8.5.0 20210514 (Red Hat 8.5.0-22) Windows Server 2022 Kernel: 10.0.20348.2031 Compiler: clang 15.0.7, gcc 14.1.0 (MinGW), and MSVC VS 19.39.33521 Red Hat Enterprise Linux 9.5 Kernel: 5.15 Compiler: gcc gcc (GCC) 11.5.0 20240719 (Red Hat 11.5.0-2) CentOS Stream 9 Kernel: 5.15 Compiler: gcc gcc (GCC) 11.5.0 20240719 (Red Hat 11.5.0-11) To view detailed results, visit: https://lab.dpdk.org/results/dashboard/patchsets/34137/ UNH-IOL DPDK Community Lab To manage your email subscriptions, visit: https://lab.dpdk.org/results/dashboard/preferences/subscriptions/