From mboxrd@z Thu Jan 1 00:00:00 1970 Return-Path: Received: from mails.dpdk.org (mails.dpdk.org [217.70.189.124]) by inbox.dpdk.org (Postfix) with ESMTP id 11C5446F68 for ; Wed, 24 Sep 2025 20:13:15 +0200 (CEST) Received: from mails.dpdk.org (localhost [127.0.0.1]) by mails.dpdk.org (Postfix) with ESMTP id F33C440615; Wed, 24 Sep 2025 20:13:14 +0200 (CEST) Received: from mail-yb1-f227.google.com (mail-yb1-f227.google.com [209.85.219.227]) by mails.dpdk.org (Postfix) with ESMTP id B0273402D8 for ; Wed, 24 Sep 2025 20:13:13 +0200 (CEST) Received: by mail-yb1-f227.google.com with SMTP id 3f1490d57ef6-ea473582bcaso1487263276.1 for ; Wed, 24 Sep 2025 11:13:13 -0700 (PDT) DKIM-Signature: v=1; a=rsa-sha256; c=relaxed/relaxed; d=iol.unh.edu; s=unh-iol; t=1758737593; x=1759342393; darn=dpdk.org; h=references:in-reply-to:cc:to:from:subject:message-id:date:from:to :cc:subject:date:message-id:reply-to; bh=Biy3MTLxTvjHYskSOwqRxe7IBIzipPEqtl+RK56xoOQ=; b=KJHZEbiAGXYcbPl7MV/LlVxw4yNIr56IpsNTmJygNTFo4CMA9f7uNy/FS9WwYLtfRL LCwlMwffh9iB11jj5ItswprglgX4Tkg9CYJgl68mMNX4a9LafXrf/+Y/YJBUEmRCgSQb UduLzpqlsTSxsf8vRzaY4RHArGhmPuEYXyM10= X-Google-DKIM-Signature: v=1; a=rsa-sha256; c=relaxed/relaxed; d=1e100.net; s=20230601; t=1758737593; x=1759342393; h=references:in-reply-to:cc:to:from:subject:message-id:date :x-gm-message-state:from:to:cc:subject:date:message-id:reply-to; bh=Biy3MTLxTvjHYskSOwqRxe7IBIzipPEqtl+RK56xoOQ=; b=wzfUGBI2zZ5njT+0ptvG/6N0zdwlE1eV5S0B5a4CkW2yCuraV+WPFiTkZtiuwQZOXM UFu3xKXGS5+CraK85Quc8VlnEKPWg+vyl/pVTlpQDPAqgyLBfdNqTfWEBZGAZvejEFBy 6srlqKy9b9i9hEN7V7pjSOM9hfjVY54JMpzSdYjTM/yvpIRQwzdApSOwP5JBjuQD2eNv Oh5bA5pcH2JOWXgL5YH9D3WgZXeCXRoh9691rLmQhj3E4O2xcYSVFw09UFWcHQptCUSi 8EeIoNfeMZOumT60xAv9CI+rf2xu91lcRPOpRwO6VCjiUWMxEAVP4KcquwIwogPilg0Q n9LA== X-Gm-Message-State: AOJu0YzDmukJN1p+2bd/kzR3qF6XOByNqCHnfnSspBI/2Z8gJnL+a06F fzv0vq7rNqNgyg65VjFn7RbXOzcxxC0HGF0aqRP99Ue2SinVHN34n9JU9s+eEqAJCs9WN6EfJzw fGummrhZWR2b07zuFqUI6ECIlY+Gxnu0wuYOboFVR5rDt X-Gm-Gg: ASbGncsEhSmr2JNYC/m3psvbFGiZkI5WLhTNTQ8ovAFt+gqh71cMA/26m1Yzm3FuW/T 9vRys0nE7rJ4et7YQKtEeiuyB7qHtrRCa0w9KDfqiLON29VaTDxyrQDUbZ5TwNgPK1//+GG+IvJ 2YzSy6WLnI0b+mCvlpt+v4JTPgeG3DIq4RcXKN8irj41QI62NXGeuXIqsEeCkuXJw6X5vKcPUnY UweCCHWnAh+xNHgaxs98UMPPtknHLJqLLDshXUoHHeoBr332+kUvBcwL/5WMj12wcYNZ2Jr0X66 0TtBbVrZpvpD9XwpBjFu+2UdTSZrvzKe3L7Ufg5NsP3g3X0HGrNSUZC01OyEVEo3imWCKOks X-Google-Smtp-Source: AGHT+IHRyDVMkWc99okSzVGaEb2JGT7+ytLtOdUsLjAV8lfFfDN03ueski1Gcl4L3i8s0hjSUmHSkJtM8I19 X-Received: by 2002:a53:b193:0:b0:635:4ed0:5722 with SMTP id 956f58d0204a3-6361a969ba0mr344523d50.26.1758737592985; Wed, 24 Sep 2025 11:13:12 -0700 (PDT) Received: from postal.iol.unh.edu (postal.iol.unh.edu. [132.177.123.84]) by smtp-relay.gmail.com with ESMTPS id 00721157ae682-739717a59fesm7891987b3.15.2025.09.24.11.13.12 (version=TLS1_2 cipher=ECDHE-ECDSA-AES128-GCM-SHA256 bits=128/128); Wed, 24 Sep 2025 11:13:12 -0700 (PDT) X-Relaying-Domain: iol.unh.edu Date: Wed, 24 Sep 2025 11:13:12 -0700 (PDT) Message-ID: <68d434b8.050a0220.63b78.2ed4SMTPIN_ADDED_MISSING@mx.google.com> Received: from [172.21.0.2] (unknown [172.18.0.240]) by postal.iol.unh.edu (Postfix) with ESMTP id A552C6050A61; Wed, 24 Sep 2025 14:13:12 -0400 (EDT) Subject: |SUCCESS| pw156903 [PATCH] hash: fix build error due to missing incl From: dpdklab@iol.unh.edu To: Test Report Cc: dpdk-test-reports@iol.unh.edu In-Reply-To: <20250924154821.927083-1-bruce.richardson@intel.com> References: <20250924154821.927083-1-bruce.richardson@intel.com> Content-Type: text/plain X-BeenThere: test-report@dpdk.org X-Mailman-Version: 2.1.29 Precedence: list List-Id: automatic DPDK test reports List-Unsubscribe: , List-Archive: List-Post: List-Help: List-Subscribe: , Errors-To: test-report-bounces@dpdk.org Test-Label: iol-compile-amd64-testing Test-Status: SUCCESS http://dpdk.org/patch/156903 _Testing PASS_ Submitter: Bruce Richardson Date: Wednesday, September 24 2025 15:48:21 DPDK git baseline: Repo:dpdk Branch: master CommitID:d8f0f514428ef3c07c9b75f590d75a6addd970f2 156903 --> testing pass Upstream job id: Generic-DPDK-Compile-Meson#428157 Test environment and result as below: +-------------------------------+--------------------+-------------------+------------------+-------------------------+-------------------+----------------------+ | Environment | dpdk_meson_compile | dpdk_compile_spdk | dpdk_compile_ovs | dpdk_llvm_clang_compile | dpdk_msvc_compile | dpdk_mingw64_compile | +===============================+====================+===================+==================+=========================+===================+======================+ | CentOS Stream 9 | PASS | PASS | SKIPPED | SKIPPED | SKIPPED | SKIPPED | +-------------------------------+--------------------+-------------------+------------------+-------------------------+-------------------+----------------------+ | CentOS Stream 10 | PASS | SKIPPED | SKIPPED | SKIPPED | SKIPPED | SKIPPED | +-------------------------------+--------------------+-------------------+------------------+-------------------------+-------------------+----------------------+ | openSUSE Leap 15.6 | PASS | SKIPPED | SKIPPED | SKIPPED | SKIPPED | SKIPPED | +-------------------------------+--------------------+-------------------+------------------+-------------------------+-------------------+----------------------+ | Fedora Linux 42 | PASS | PASS | PASS | SKIPPED | SKIPPED | SKIPPED | +-------------------------------+--------------------+-------------------+------------------+-------------------------+-------------------+----------------------+ | Debian GNU/Linux 12 | PASS | PASS | SKIPPED | SKIPPED | SKIPPED | SKIPPED | +-------------------------------+--------------------+-------------------+------------------+-------------------------+-------------------+----------------------+ | Red Hat Enterprise Linux 9.5 | PASS | SKIPPED | SKIPPED | SKIPPED | SKIPPED | SKIPPED | +-------------------------------+--------------------+-------------------+------------------+-------------------------+-------------------+----------------------+ | Red Hat Enterprise Linux 8.10 | PASS | SKIPPED | SKIPPED | SKIPPED | SKIPPED | SKIPPED | +-------------------------------+--------------------+-------------------+------------------+-------------------------+-------------------+----------------------+ | Ubuntu 20.04 | PASS | SKIPPED | SKIPPED | SKIPPED | SKIPPED | SKIPPED | +-------------------------------+--------------------+-------------------+------------------+-------------------------+-------------------+----------------------+ | Ubuntu 22.04 | PASS | PASS | SKIPPED | SKIPPED | SKIPPED | SKIPPED | +-------------------------------+--------------------+-------------------+------------------+-------------------------+-------------------+----------------------+ | Ubuntu 24.04 | PASS | PASS | PASS | SKIPPED | SKIPPED | SKIPPED | +-------------------------------+--------------------+-------------------+------------------+-------------------------+-------------------+----------------------+ | Alpine Linux 3.22.0 | PASS | SKIPPED | SKIPPED | SKIPPED | SKIPPED | SKIPPED | +-------------------------------+--------------------+-------------------+------------------+-------------------------+-------------------+----------------------+ | FreeBSD 14.2 | PASS | SKIPPED | SKIPPED | SKIPPED | SKIPPED | SKIPPED | +-------------------------------+--------------------+-------------------+------------------+-------------------------+-------------------+----------------------+ | Windows Server 2022 | SKIPPED | SKIPPED | SKIPPED | PASS | PASS | PASS | +-------------------------------+--------------------+-------------------+------------------+-------------------------+-------------------+----------------------+ CentOS Stream 9 Kernel: 5.15 Compiler: gcc gcc (GCC) 11.5.0 20240719 (Red Hat 11.5.0-11) CentOS Stream 10 Kernel: 5.15 Compiler: gcc gcc (GCC) 14.2.1 20250110 (Red Hat 14.2.1-8) openSUSE Leap 15.6 Kernel: 5.15 Compiler: gcc gcc (SUSE Linux) 7.5.0 Fedora Linux 42 Kernel: 5.15 Compiler: gcc gcc (GCC) 15.2.1 20250808 (Red Hat 15.2.1-1) Debian GNU/Linux 12 Kernel: 5.15 Compiler: gcc gcc (Debian 12.2.0-14+deb12u1) 12.2.0 Red Hat Enterprise Linux 9.5 Kernel: 5.15 Compiler: gcc gcc (GCC) 11.5.0 20240719 (Red Hat 11.5.0-2) Red Hat Enterprise Linux 8.10 Kernel: 5.15 Compiler: gcc gcc (GCC) 8.5.0 20210514 (Red Hat 8.5.0-22) Ubuntu 20.04 Kernel: 5.15 Compiler: gcc gcc (Ubuntu 9.4.0-1ubuntu1~20.04.2) 9.4.0 Ubuntu 22.04 Kernel: 5.15 Compiler: gcc gcc (Ubuntu 11.4.0-1ubuntu1~22.04) 11.4.0 Ubuntu 24.04 Kernel: 5.15 Compiler: gcc gcc (Ubuntu 13.3.0-6ubuntu2~24.04) 13.3.0 Alpine Linux 3.22.0 Kernel: 5.15 Compiler: gcc gcc (Alpine 14.2.0) 14.2.0 FreeBSD 14.2 Kernel: 14.2-RELEASE Compiler: clang 18.1.6 Windows Server 2022 Kernel: 10.0.20348.2031 Compiler: clang 15.0.7, gcc 14.1.0 (MinGW), and MSVC VS 19.39.33521 To view detailed results, visit: https://lab.dpdk.org/results/dashboard/patchsets/34137/ UNH-IOL DPDK Community Lab To manage your email subscriptions, visit: https://lab.dpdk.org/results/dashboard/preferences/subscriptions/