From mboxrd@z Thu Jan 1 00:00:00 1970 Return-Path: Received: from mails.dpdk.org (mails.dpdk.org [217.70.189.124]) by inbox.dpdk.org (Postfix) with ESMTP id 7D25246F68 for ; Wed, 24 Sep 2025 20:48:00 +0200 (CEST) Received: from mails.dpdk.org (localhost [127.0.0.1]) by mails.dpdk.org (Postfix) with ESMTP id 558FF40615; Wed, 24 Sep 2025 20:48:00 +0200 (CEST) Received: from mail-il1-f225.google.com (mail-il1-f225.google.com [209.85.166.225]) by mails.dpdk.org (Postfix) with ESMTP id 1224E40615 for ; Wed, 24 Sep 2025 20:48:00 +0200 (CEST) Received: by mail-il1-f225.google.com with SMTP id e9e14a558f8ab-424b20f8b7eso751205ab.2 for ; Wed, 24 Sep 2025 11:48:00 -0700 (PDT) DKIM-Signature: v=1; a=rsa-sha256; c=relaxed/relaxed; d=iol.unh.edu; s=unh-iol; t=1758739679; x=1759344479; darn=dpdk.org; h=references:in-reply-to:cc:to:from:subject:message-id:date:from:to :cc:subject:date:message-id:reply-to; bh=Ekyc/pLQBhHkIR9uDWmjuRYWi4XmTnnmrM/t3QgagJQ=; b=HBSFx1wmI9CT5hYns2tEVsjJGeKsOYD0i8DE9Vbqy5f2lBJr421r78VzxAqSmYHmDX pCOmQJgeBoN1jw2mjIzha23oE2HKNlIL24P+7ByJphCHmw4LGdJ+mxd8e5PVcOzklGQP gT7yx5XPMyVXwOOxC78ZugG04oPqccEF8IrIA= X-Google-DKIM-Signature: v=1; a=rsa-sha256; c=relaxed/relaxed; d=1e100.net; s=20230601; t=1758739679; x=1759344479; h=references:in-reply-to:cc:to:from:subject:message-id:date :x-gm-message-state:from:to:cc:subject:date:message-id:reply-to; bh=Ekyc/pLQBhHkIR9uDWmjuRYWi4XmTnnmrM/t3QgagJQ=; b=N4TeKmGYTHqL3D1/JF8IwoQPbBUhjPj00wPnyB6Bnilix41FegI96xlqiRLHArVwdb 4+RWfAIu8WiMNwvMg7MlIjZYR0KEMENCX1K0JP0qqFilWMIHTilylcWSD1ZoexT5Sffe 8K+0ma7/aRdRnLr/Ht3Ea0H7Nc+lDmjC8jvt7FUvOf0b5T3w885nTdLqLnapUer2QQHs lfl9EoMJfLc9BMAD6dFVwYqQGbyJzBOrRSxUnlCUNnvM778k0xqf4jHv8iQ0sd0YFPpS 8KcGT/Vj6a2X6uNxvu1xBYYcxy5IoYWjjqfa5QRVqOuZj+F3voq1s+prPZce1FdwPg0U aAxQ== X-Gm-Message-State: AOJu0YykQ3+Hry/kt37g/6cR6zBC0Ur30KbAsqTTm4yS81CcF6GwkaUc Cn6XYoq9/ONFpEmrnXDPjzt2SBHejCGAd/vPeMyXFFEZali7Gr30O6XJloM90MidbJ1AAwdmiJn tQSY9CWaDq03NuLmJV0DmKuGxW55ZxXTM5NR8YdRbQCHxyK9UM4kIOR7TIHlh X-Gm-Gg: ASbGncsozCcfoEupKVGcNk4Y/KZFjDttFtVgVdXdjgC6xg9zPdydWIkWMER0+eV/kFl L1IhW3s0Pgge/qhV6i9QdOkESJvHbg/9od3XdCHpTLmrE3eyBBOZeUFNjTCu3iVsOwKi6ofGgDc WV8NRQPzyqAAWdwrMOucef0Q5wjUTTfwdE2VWGKyLmw4H3IxgD13AVcdUZlJ6Oxu1oN6aZ9Q2Ll JHmc9NPaIbij37EwVAtxW+sKT1biOqoh2iP0uyijydZ6GMMmcnMayxUwKtk3zMWl3rn40leLTiw /mPEbaF4Z5RWuraCsotS8GWTMYEeipttxuDoKSNy49yPicircQ== X-Google-Smtp-Source: AGHT+IGi4hb2juDxrIu3AOl/3fR7kxRx5z/jE7a2sgKXWVuduN0Ah/FmRa5u7XQh4DfeTVrbd2iWWk/IFI3I X-Received: by 2002:a05:6e02:1aae:b0:424:7ef5:aeb with SMTP id e9e14a558f8ab-4259563befbmr10667285ab.17.1758739679311; Wed, 24 Sep 2025 11:47:59 -0700 (PDT) Received: from postal.iol.unh.edu (postal.iol.unh.edu. [2606:4100:3880:1234::84]) by smtp-relay.gmail.com with ESMTPS id e9e14a558f8ab-4254a148372sm6917745ab.39.2025.09.24.11.47.59 (version=TLS1_2 cipher=ECDHE-ECDSA-AES128-GCM-SHA256 bits=128/128); Wed, 24 Sep 2025 11:47:59 -0700 (PDT) X-Relaying-Domain: iol.unh.edu Date: Wed, 24 Sep 2025 11:47:59 -0700 (PDT) Message-ID: <68d43cdf.050a0220.293b11.f1cbSMTPIN_ADDED_MISSING@mx.google.com> Received: from [172.21.0.3] (unknown [172.18.0.240]) by postal.iol.unh.edu (Postfix) with ESMTP id D3A33604D420; Wed, 24 Sep 2025 14:47:58 -0400 (EDT) Subject: |SUCCESS| pw156901-156902 [PATCH] [v3,2/2] member: hide internal mac From: dpdklab@iol.unh.edu To: Test Report Cc: dpdk-test-reports@iol.unh.edu In-Reply-To: <20250924154641.2684705-3-thomas@monjalon.net> References: <20250924154641.2684705-3-thomas@monjalon.net> Content-Type: text/plain X-BeenThere: test-report@dpdk.org X-Mailman-Version: 2.1.29 Precedence: list List-Id: automatic DPDK test reports List-Unsubscribe: , List-Archive: List-Post: List-Help: List-Subscribe: , Errors-To: test-report-bounces@dpdk.org Test-Label: iol-unit-amd64-testing Test-Status: SUCCESS http://dpdk.org/patch/156902 _Testing PASS_ Submitter: Thomas Monjalon Date: Wednesday, September 24 2025 15:43:18 DPDK git baseline: Repo:dpdk Branch: master CommitID:d8f0f514428ef3c07c9b75f590d75a6addd970f2 156901-156902 --> testing pass Upstream job id: Generic-Unit-Test-DPDK#374570 Test environment and result as below: +-------------------------------+----------------+ | Environment | dpdk_unit_test | +===============================+================+ | CentOS Stream 9 | PASS | +-------------------------------+----------------+ | Fedora Linux 40 | PASS | +-------------------------------+----------------+ | CentOS Stream 10 | PASS | +-------------------------------+----------------+ | Debian GNU/Linux 12 | PASS | +-------------------------------+----------------+ | Fedora Linux 41 | PASS | +-------------------------------+----------------+ | Fedora Linux 42 | PASS | +-------------------------------+----------------+ | Red Hat Enterprise Linux 9.5 | PASS | +-------------------------------+----------------+ | Ubuntu 20.04 | PASS | +-------------------------------+----------------+ | Ubuntu 24.04 | PASS | +-------------------------------+----------------+ | Red Hat Enterprise Linux 8.10 | PASS | +-------------------------------+----------------+ | Ubuntu 22.04 | PASS | +-------------------------------+----------------+ | Windows Server 2022 | PASS | +-------------------------------+----------------+ CentOS Stream 9 Kernel: 5.15 Compiler: gcc gcc (GCC) 11.5.0 20240719 (Red Hat 11.5.0-11) Fedora Linux 40 Kernel: 5.15 Compiler: clang gcc (GCC) 14.2.1 20240912 (Red Hat 14.2.1-3) CentOS Stream 10 Kernel: 5.15 Compiler: gcc gcc (GCC) 14.2.1 20250110 (Red Hat 14.2.1-8) Debian GNU/Linux 12 Kernel: 5.15 Compiler: gcc gcc (Debian 12.2.0-14+deb12u1) 12.2.0 Fedora Linux 41 Kernel: 5.15 Compiler: clang gcc (GCC) 14.3.1 20250523 (Red Hat 14.3.1-1) Fedora Linux 42 Kernel: 5.15 Compiler: clang gcc (GCC) 15.2.1 20250808 (Red Hat 15.2.1-1) Red Hat Enterprise Linux 9.5 Kernel: 5.15 Compiler: gcc gcc (GCC) 11.5.0 20240719 (Red Hat 11.5.0-2) Ubuntu 20.04 Kernel: 5.15 Compiler: gcc gcc (Ubuntu 9.4.0-1ubuntu1~20.04.2) 9.4.0 Ubuntu 24.04 Kernel: 5.15 Compiler: gcc gcc (Ubuntu 13.3.0-6ubuntu2~24.04) 13.3.0 Red Hat Enterprise Linux 8.10 Kernel: 5.15 Compiler: gcc gcc (GCC) 8.5.0 20210514 (Red Hat 8.5.0-22) Ubuntu 22.04 Kernel: 5.15 Compiler: gcc gcc (Ubuntu 11.4.0-1ubuntu1~22.04) 11.4.0 Windows Server 2022 Kernel: 10.0.20348.2031 Compiler: clang 15.0.7, gcc 14.1.0 (MinGW), and MSVC VS 19.39.33521 To view detailed results, visit: https://lab.dpdk.org/results/dashboard/patchsets/34138/ UNH-IOL DPDK Community Lab To manage your email subscriptions, visit: https://lab.dpdk.org/results/dashboard/preferences/subscriptions/