From mboxrd@z Thu Jan 1 00:00:00 1970 Return-Path: Received: from mails.dpdk.org (mails.dpdk.org [217.70.189.124]) by inbox.dpdk.org (Postfix) with ESMTP id 2A38646F68 for ; Wed, 24 Sep 2025 20:55:20 +0200 (CEST) Received: from mails.dpdk.org (localhost [127.0.0.1]) by mails.dpdk.org (Postfix) with ESMTP id 0F79940615; Wed, 24 Sep 2025 20:55:20 +0200 (CEST) Received: from mail-qv1-f98.google.com (mail-qv1-f98.google.com [209.85.219.98]) by mails.dpdk.org (Postfix) with ESMTP id 3489D40615 for ; Wed, 24 Sep 2025 20:55:19 +0200 (CEST) Received: by mail-qv1-f98.google.com with SMTP id 6a1803df08f44-70ba7aa131fso1068026d6.2 for ; Wed, 24 Sep 2025 11:55:19 -0700 (PDT) DKIM-Signature: v=1; a=rsa-sha256; c=relaxed/relaxed; d=iol.unh.edu; s=unh-iol; t=1758740118; x=1759344918; darn=dpdk.org; h=references:in-reply-to:cc:to:from:subject:message-id:date:from:to :cc:subject:date:message-id:reply-to; bh=ZB2zOcYeuKkt7H5biw1uUsD+8xNlKpvi7uSMepRBnls=; b=Iv9QaEURVMNxKUcpteZ0b9+WeG+uHpRps6KeyaQxQ63VxalrPG31zZTx7OOPSFbwYA XfuaBY/tAwIqNyUMNj15RIB6NAWHeLTSPjHnAbmkGjXoo41DuHtiMHpNQOKoQ13ufAjS yVm45CnqmEbXDBT4pFsS8o5DolQsL08szYPhI= X-Google-DKIM-Signature: v=1; a=rsa-sha256; c=relaxed/relaxed; d=1e100.net; s=20230601; t=1758740118; x=1759344918; h=references:in-reply-to:cc:to:from:subject:message-id:date :x-gm-message-state:from:to:cc:subject:date:message-id:reply-to; bh=ZB2zOcYeuKkt7H5biw1uUsD+8xNlKpvi7uSMepRBnls=; b=bUClPCXOZTSsRu9I2JQqHuKToUE6OYXON0k/eSTH7dK3/Sh+Xl9oKB7n99hIYmW8e9 QoxLjadzNdKEBV23YE5hEnYIM86hQBeFH+lvMbFilW5sP0O313UDIivRg6If1aROm0St kqgFESorz9XaOkAcS1yskPtMyB1IbX7efxemaYFHx5z6N6WdJLZOGGsyW1Xe9oR3c6pl cA/sxNpskXDyvCOVDPZHYbQZ/ecLY6sYHRD3OuLpPeKFIA1ckYMW2nscuyDnJOfBN4Xh cdz/C8mke/mXmjZcL2BidZJ5msLjX07ywA0tmE03DCqVJ/ao250hvGMYQjAS1yAybh/G owiQ== X-Gm-Message-State: AOJu0Yybkg0dWs0OCaUxzDpgxWK/xxOQ9o73YkDDySWddAwON29LstLL j4nqrhCNrkr6pj9irpdKFyHnZOd52/9oPzwEsTp6//oCJz1JQtQaf4h2yMXamStkQOZmNePURVR HQ0f5jguGRvBCEruwJ9GJtsQ043SRJ46xyAen2Gv2LTiTEkl8V20EMQlWvhIp X-Gm-Gg: ASbGncsnWXLBHlPktmLAga55wVzC2iCxYWkFWpZCm+vVg598Wg6GpTBtQ8oBwZ1hUvk uD0z4N8/hPLqj3Y0XMMdtnjWPoJoIJvuZGlngWLaVwWoL1pL4A8V6jCpCR2JwSrU9wgqzuNkpnn kcuK+x7LAVMUw5iyGPsbOzsnnBXGAlxad0CgfpqjnP13yYT2ewpVL1sJliPZuinezXCDS6dzOi+ 3TVJa2Lq/bsJS0mm6laxJ41aEII34tiia7M2TMgVOQJIl2qgyzyc2XFKK/ibEVlbLCBDAO1ZBJ4 c0VM1jQr6L6EAJkq8tMt1vdYuMFNCAFVJtJrrpU049FJLeOlYA== X-Google-Smtp-Source: AGHT+IEQkKJf6kRgwkvZF4WMmM+sN/GlZy384JXJEwB4ykIi6UiU9Slv0lW7Rua//Bl3/166qenRRLJJPIBN X-Received: by 2002:ad4:4eeb:0:b0:78d:8414:e4c2 with SMTP id 6a1803df08f44-7fc4515b93dmr17275756d6.50.1758740118332; Wed, 24 Sep 2025 11:55:18 -0700 (PDT) Received: from postal.iol.unh.edu (postal.iol.unh.edu. [2606:4100:3880:1234::84]) by smtp-relay.gmail.com with ESMTPS id 6a1803df08f44-79352917cdasm10882666d6.43.2025.09.24.11.55.18 (version=TLS1_2 cipher=ECDHE-ECDSA-AES128-GCM-SHA256 bits=128/128); Wed, 24 Sep 2025 11:55:18 -0700 (PDT) X-Relaying-Domain: iol.unh.edu Date: Wed, 24 Sep 2025 11:55:18 -0700 (PDT) Message-ID: <68d43e96.d40a0220.328d7d.75cfSMTPIN_ADDED_MISSING@mx.google.com> Received: from [172.21.0.4] (unknown [172.18.0.240]) by postal.iol.unh.edu (Postfix) with ESMTP id 136D9604D420; Wed, 24 Sep 2025 14:55:18 -0400 (EDT) Subject: |SUCCESS| pw156901-156902 [PATCH] [v3,2/2] member: hide internal mac From: dpdklab@iol.unh.edu To: Test Report Cc: dpdk-test-reports@iol.unh.edu In-Reply-To: <20250924154641.2684705-3-thomas@monjalon.net> References: <20250924154641.2684705-3-thomas@monjalon.net> Content-Type: text/plain X-BeenThere: test-report@dpdk.org X-Mailman-Version: 2.1.29 Precedence: list List-Id: automatic DPDK test reports List-Unsubscribe: , List-Archive: List-Post: List-Help: List-Subscribe: , Errors-To: test-report-bounces@dpdk.org Test-Label: iol-compile-amd64-testing Test-Status: SUCCESS http://dpdk.org/patch/156902 _Testing PASS_ Submitter: Thomas Monjalon Date: Wednesday, September 24 2025 15:43:18 DPDK git baseline: Repo:dpdk Branch: master CommitID:d8f0f514428ef3c07c9b75f590d75a6addd970f2 156901-156902 --> testing pass Upstream job id: Generic-DPDK-Compile-Meson#428174 Test environment and result as below: +-------------------------------+--------------------+-------------------+------------------+-------------------+-------------------------+----------------------+ | Environment | dpdk_meson_compile | dpdk_compile_spdk | dpdk_compile_ovs | dpdk_msvc_compile | dpdk_llvm_clang_compile | dpdk_mingw64_compile | +===============================+====================+===================+==================+===================+=========================+======================+ | CentOS Stream 10 | PASS | SKIPPED | SKIPPED | SKIPPED | SKIPPED | SKIPPED | +-------------------------------+--------------------+-------------------+------------------+-------------------+-------------------------+----------------------+ | CentOS Stream 9 | PASS | PASS | SKIPPED | SKIPPED | SKIPPED | SKIPPED | +-------------------------------+--------------------+-------------------+------------------+-------------------+-------------------------+----------------------+ | Debian GNU/Linux 12 | PASS | PASS | SKIPPED | SKIPPED | SKIPPED | SKIPPED | +-------------------------------+--------------------+-------------------+------------------+-------------------+-------------------------+----------------------+ | Fedora Linux 42 | PASS | PASS | PASS | SKIPPED | SKIPPED | SKIPPED | +-------------------------------+--------------------+-------------------+------------------+-------------------+-------------------------+----------------------+ | Ubuntu 20.04 | PASS | SKIPPED | SKIPPED | SKIPPED | SKIPPED | SKIPPED | +-------------------------------+--------------------+-------------------+------------------+-------------------+-------------------------+----------------------+ | Red Hat Enterprise Linux 8.10 | PASS | SKIPPED | SKIPPED | SKIPPED | SKIPPED | SKIPPED | +-------------------------------+--------------------+-------------------+------------------+-------------------+-------------------------+----------------------+ | openSUSE Leap 15.6 | PASS | SKIPPED | SKIPPED | SKIPPED | SKIPPED | SKIPPED | +-------------------------------+--------------------+-------------------+------------------+-------------------+-------------------------+----------------------+ | FreeBSD 14.2 | PASS | SKIPPED | SKIPPED | SKIPPED | SKIPPED | SKIPPED | +-------------------------------+--------------------+-------------------+------------------+-------------------+-------------------------+----------------------+ | Red Hat Enterprise Linux 9.5 | PASS | SKIPPED | SKIPPED | SKIPPED | SKIPPED | SKIPPED | +-------------------------------+--------------------+-------------------+------------------+-------------------+-------------------------+----------------------+ | Ubuntu 22.04 | PASS | PASS | SKIPPED | SKIPPED | SKIPPED | SKIPPED | +-------------------------------+--------------------+-------------------+------------------+-------------------+-------------------------+----------------------+ | Ubuntu 24.04 | PASS | PASS | PASS | SKIPPED | SKIPPED | SKIPPED | +-------------------------------+--------------------+-------------------+------------------+-------------------+-------------------------+----------------------+ | Alpine Linux 3.22.0 | PASS | SKIPPED | SKIPPED | SKIPPED | SKIPPED | SKIPPED | +-------------------------------+--------------------+-------------------+------------------+-------------------+-------------------------+----------------------+ | Windows Server 2022 | SKIPPED | SKIPPED | SKIPPED | PASS | PASS | PASS | +-------------------------------+--------------------+-------------------+------------------+-------------------+-------------------------+----------------------+ CentOS Stream 10 Kernel: 5.15 Compiler: gcc gcc (GCC) 14.2.1 20250110 (Red Hat 14.2.1-8) CentOS Stream 9 Kernel: 5.15 Compiler: gcc gcc (GCC) 11.5.0 20240719 (Red Hat 11.5.0-11) Debian GNU/Linux 12 Kernel: 5.15 Compiler: gcc gcc (Debian 12.2.0-14+deb12u1) 12.2.0 Fedora Linux 42 Kernel: 5.15 Compiler: clang gcc (GCC) 15.2.1 20250808 (Red Hat 15.2.1-1) Ubuntu 20.04 Kernel: 4.19 Compiler: gcc gcc (Ubuntu 9.4.0-1ubuntu1~20.04.2) 9.4.0 Red Hat Enterprise Linux 8.10 Kernel: 5.15 Compiler: gcc gcc (GCC) 8.5.0 20210514 (Red Hat 8.5.0-22) openSUSE Leap 15.6 Kernel: 5.15 Compiler: gcc gcc (SUSE Linux) 7.5.0 FreeBSD 14.2 Kernel: 14.2-RELEASE Compiler: clang 18.1.6 Red Hat Enterprise Linux 9.5 Kernel: 5.15 Compiler: gcc gcc (GCC) 11.5.0 20240719 (Red Hat 11.5.0-2) Ubuntu 22.04 Kernel: 5.15 Compiler: gcc gcc (Ubuntu 11.4.0-1ubuntu1~22.04) 11.4.0 Ubuntu 24.04 Kernel: 5.15 Compiler: gcc gcc (Ubuntu 13.3.0-6ubuntu2~24.04) 13.3.0 Alpine Linux 3.22.0 Kernel: 5.15 Compiler: gcc gcc (Alpine 14.2.0) 14.2.0 Windows Server 2022 Kernel: 10.0.20348.2031 Compiler: clang 15.0.7, gcc 14.1.0 (MinGW), and MSVC VS 19.39.33521 To view detailed results, visit: https://lab.dpdk.org/results/dashboard/patchsets/34138/ UNH-IOL DPDK Community Lab To manage your email subscriptions, visit: https://lab.dpdk.org/results/dashboard/preferences/subscriptions/