From mboxrd@z Thu Jan 1 00:00:00 1970 Return-Path: Received: from mails.dpdk.org (mails.dpdk.org [217.70.189.124]) by inbox.dpdk.org (Postfix) with ESMTP id D6B4846F68 for ; Wed, 24 Sep 2025 20:58:52 +0200 (CEST) Received: from mails.dpdk.org (localhost [127.0.0.1]) by mails.dpdk.org (Postfix) with ESMTP id D213D40615; Wed, 24 Sep 2025 20:58:52 +0200 (CEST) Received: from mail-yw1-f226.google.com (mail-yw1-f226.google.com [209.85.128.226]) by mails.dpdk.org (Postfix) with ESMTP id 7DEB840615 for ; Wed, 24 Sep 2025 20:58:50 +0200 (CEST) Received: by mail-yw1-f226.google.com with SMTP id 00721157ae682-71d60110772so1898757b3.0 for ; Wed, 24 Sep 2025 11:58:50 -0700 (PDT) DKIM-Signature: v=1; a=rsa-sha256; c=relaxed/relaxed; d=iol.unh.edu; s=unh-iol; t=1758740330; x=1759345130; darn=dpdk.org; h=references:in-reply-to:cc:to:from:subject:message-id:date:from:to :cc:subject:date:message-id:reply-to; bh=8LRp0Tsk/qTPwIfUgU9FNj6DW8zo3HcCyP8GWktC+Ck=; b=BnVKqvv3D3LbzLH/cySAot2VYEhsFU7Nt5uo0fvsmc06wHrISiYxEkpS7W153xrSOa SyvuF63hwW7mJ36RWaTlsHTMFoQPtUkW2CvfQUjw3iNx3JMR+KmEwshtWCvjSY6Dx4WW TU0N+cFdyXFehecFJjfQ5+n3gq6QcL8ZS3WMg= X-Google-DKIM-Signature: v=1; a=rsa-sha256; c=relaxed/relaxed; d=1e100.net; s=20230601; t=1758740330; x=1759345130; h=references:in-reply-to:cc:to:from:subject:message-id:date :x-gm-message-state:from:to:cc:subject:date:message-id:reply-to; bh=8LRp0Tsk/qTPwIfUgU9FNj6DW8zo3HcCyP8GWktC+Ck=; b=ZdyN8yU5HH5QUcB6HMhxZA3TD9h89KmJ256Q8EP6tTPAQMAoioGRPyaQakcQ7AM97V CIJP4ESqnwrpj1yV35VtRXhVFcdlpGmDcO8lu98ISwnrA1YA9tw2Ne3Tck8X2feRZPWa MtnUFkptDkYif/s8++hzgJvCghqZhmSpTyIDQs5cHtqDeW4yq1dvuEmNTvA8zHPIAmYi ksVjnblFc7hiSflTXnVHgFlQGqm7H84S1kMJ+q3UJq0hC093E6xh2w4/QpNH2KAoSXrA NP3cFwieWFddyAcSdHcl4Iy+JNVguXjJL5cKshy4vnrsr7DdJS8HXvrsULgRhHCG6G4R MRNg== X-Gm-Message-State: AOJu0YzknXcPC3/d+R6i0MSd0BynwPJWoCP7Wwr29fuelqrl8d5twr0F xon1ieLi0znhRicae3/oNQzXr2X4sfx10SlA7lYfBlcOcDv9CbrQLW00pkENYaCLzmR1/4IhnU7 4Vw4dsmhvrAvfhnnbL6PQm2Z7HX+wzjOTyhm97Vbe6nFN X-Gm-Gg: ASbGncuNCgVxJmjmwtBeW6tzGR6NIU6V8tKeRDpBaMYOkyKua+BdIT5xFj2Pt+bz9jR n7MyhhiSxIPITYFD5RKluIm36WBkkgoDu0wtoBtfmZ7W1gY5pUo9HVMdprgHcKYymLHlu8r6NZI KdKsfawGtZijhJL9DeGiFVKlba8OIAjANJRhHIPjQqAhuZcoBq0K3v783ciIfA7QASnulwGiWMV gBVbCuoee80KXNObVxAIVrmQQRWFeYbiTiBvknHZKWW5mLP0nPNziB2KLo5l9YXJJwqsWUf6dgA EqIa94jm3pdE5NzbTA+t0r01EEk02eEWOQm/ofWaqVmNGp8n33pIokrbz3MkBhvPuofPwEUY X-Google-Smtp-Source: AGHT+IFRxkv23RrNUdHzLntif0YYUpSpVuzueIo7xrBmCP4lXNAdHf9oxe45uv9WGRTBzZWwMQ6FSf6lCCVN X-Received: by 2002:a05:690c:62c8:b0:723:be82:c78a with SMTP id 00721157ae682-76403423b76mr8415927b3.31.1758740329814; Wed, 24 Sep 2025 11:58:49 -0700 (PDT) Received: from postal.iol.unh.edu (postal.iol.unh.edu. [132.177.123.84]) by smtp-relay.gmail.com with ESMTPS id 00721157ae682-7397192ea1dsm7917697b3.22.2025.09.24.11.58.49 (version=TLS1_2 cipher=ECDHE-ECDSA-AES128-GCM-SHA256 bits=128/128); Wed, 24 Sep 2025 11:58:49 -0700 (PDT) X-Relaying-Domain: iol.unh.edu Date: Wed, 24 Sep 2025 11:58:49 -0700 (PDT) Message-ID: <68d43f69.050a0220.9316c.28aeSMTPIN_ADDED_MISSING@mx.google.com> Received: from [172.21.0.2] (unknown [172.18.0.240]) by postal.iol.unh.edu (Postfix) with ESMTP id 74C60604D420; Wed, 24 Sep 2025 14:58:49 -0400 (EDT) Subject: |SUCCESS| pw156876 [PATCH] [v2] net/intel: add IDPF PCI class ID sup From: dpdklab@iol.unh.edu To: Test Report Cc: dpdk-test-reports@iol.unh.edu, Bruce Richardson In-Reply-To: <20250924125749.83507-1-venkatesh.vemula@intel.com> References: <20250924125749.83507-1-venkatesh.vemula@intel.com> Content-Type: text/plain X-BeenThere: test-report@dpdk.org X-Mailman-Version: 2.1.29 Precedence: list List-Id: automatic DPDK test reports List-Unsubscribe: , List-Archive: List-Post: List-Help: List-Subscribe: , Errors-To: test-report-bounces@dpdk.org Test-Label: iol-unit-arm64-testing Test-Status: SUCCESS http://dpdk.org/patch/156876 _Testing PASS_ Submitter: Vemula Venkatesh Date: Wednesday, September 24 2025 12:57:49 DPDK git baseline: Repo:dpdk-next-net-intel Branch: master CommitID:f5ecd82420f63657cf78c949849a4f9dfb3bca09 156876 --> testing pass Upstream job id: Generic-Unit-Test-DPDK#374483 Test environment and result as below: +------------------------------+----------------+--------------+------------------------------+---------------------------+ | Environment | dpdk_unit_test | lpm_autotest | cryptodev_sw_snow3g_autotest | cryptodev_sw_zuc_autotest | +==============================+================+==============+==============================+===========================+ | Debian GNU/Linux 12 | PASS | SKIPPED | SKIPPED | SKIPPED | +------------------------------+----------------+--------------+------------------------------+---------------------------+ | CentOS Stream 9 | PASS | SKIPPED | SKIPPED | SKIPPED | +------------------------------+----------------+--------------+------------------------------+---------------------------+ | Fedora Linux 41 | PASS | SKIPPED | SKIPPED | SKIPPED | +------------------------------+----------------+--------------+------------------------------+---------------------------+ | Fedora Linux 40 | PASS | SKIPPED | SKIPPED | SKIPPED | +------------------------------+----------------+--------------+------------------------------+---------------------------+ | Fedora Linux 42 | PASS | SKIPPED | SKIPPED | SKIPPED | +------------------------------+----------------+--------------+------------------------------+---------------------------+ | CentOS Stream 10 | PASS | SKIPPED | SKIPPED | SKIPPED | +------------------------------+----------------+--------------+------------------------------+---------------------------+ | Ubuntu 20.04 | PASS | PASS | SKIPPED | SKIPPED | +------------------------------+----------------+--------------+------------------------------+---------------------------+ | Red Hat Enterprise Linux 9.5 | PASS | SKIPPED | SKIPPED | SKIPPED | +------------------------------+----------------+--------------+------------------------------+---------------------------+ | Ubuntu 22.04 | PASS | SKIPPED | SKIPPED | SKIPPED | +------------------------------+----------------+--------------+------------------------------+---------------------------+ | Ubuntu 24.04 | PASS | SKIPPED | SKIPPED | SKIPPED | +------------------------------+----------------+--------------+------------------------------+---------------------------+ | Debian 12 (arm) | SKIPPED | SKIPPED | PASS | PASS | +------------------------------+----------------+--------------+------------------------------+---------------------------+ Debian GNU/Linux 12 Kernel: 5.4 Compiler: gcc gcc (Debian 12.2.0-14+deb12u1) 12.2.0 CentOS Stream 9 Kernel: 5.4 Compiler: gcc gcc (GCC) 11.5.0 20240719 (Red Hat 11.5.0-11) Fedora Linux 41 Kernel: 5.4 Compiler: gcc gcc (GCC) 14.3.1 20250523 (Red Hat 14.3.1-1) Fedora Linux 40 Kernel: 5.4 Compiler: gcc gcc (GCC) 14.2.1 20240912 (Red Hat 14.2.1-3) Fedora Linux 42 Kernel: 5.4 Compiler: clang gcc (GCC) 15.2.1 20250808 (Red Hat 15.2.1-1) CentOS Stream 10 Kernel: 5.4 Compiler: gcc gcc (GCC) 14.2.1 20250110 (Red Hat 14.2.1-8) Ubuntu 20.04 Kernel: 5.4 Compiler: gcc gcc (Ubuntu 9.4.0-1ubuntu1~20.04.2) 9.4.0 Red Hat Enterprise Linux 9.5 Kernel: 5.4 Compiler: gcc gcc (GCC) 11.5.0 20240719 (Red Hat 11.5.0-2) Ubuntu 22.04 Kernel: 5.4 Compiler: gcc gcc (Ubuntu 11.4.0-1ubuntu1~22.04) 11.4.0 Ubuntu 24.04 Kernel: 5.4 Compiler: gcc gcc (Ubuntu 13.3.0-6ubuntu2~24.04) 13.3.0 Debian 12 (arm) Kernel: Depends on container host Compiler: gcc (Debian 12.2.0-14) 12.2.0 To view detailed results, visit: https://lab.dpdk.org/results/dashboard/patchsets/34135/ UNH-IOL DPDK Community Lab To manage your email subscriptions, visit: https://lab.dpdk.org/results/dashboard/preferences/subscriptions/