From mboxrd@z Thu Jan 1 00:00:00 1970 Return-Path: Received: from mails.dpdk.org (mails.dpdk.org [217.70.189.124]) by inbox.dpdk.org (Postfix) with ESMTP id 8B8AB46F68 for ; Wed, 24 Sep 2025 21:29:54 +0200 (CEST) Received: from mails.dpdk.org (localhost [127.0.0.1]) by mails.dpdk.org (Postfix) with ESMTP id 6248440615; Wed, 24 Sep 2025 21:29:54 +0200 (CEST) Received: from mail-pg1-f226.google.com (mail-pg1-f226.google.com [209.85.215.226]) by mails.dpdk.org (Postfix) with ESMTP id 40C1940615 for ; Wed, 24 Sep 2025 21:29:53 +0200 (CEST) Received: by mail-pg1-f226.google.com with SMTP id 41be03b00d2f7-b5516ee0b0bso128223a12.1 for ; Wed, 24 Sep 2025 12:29:53 -0700 (PDT) DKIM-Signature: v=1; a=rsa-sha256; c=relaxed/relaxed; d=iol.unh.edu; s=unh-iol; t=1758742192; x=1759346992; darn=dpdk.org; h=references:in-reply-to:cc:to:from:subject:message-id:date:from:to :cc:subject:date:message-id:reply-to; bh=0QIyY7+46euytyR6n5mkpbmP3Pc3h6hn/BGZBcxQDL4=; b=ADGDrj6nOX0osyL9R3Npiytvr5U05BkFnEIH5wyUjDrn+MejHc+tkChFHCztmT0WT6 mFcYy9btBendC7PFVXF7F9Jv7W8FocuS/yM0BRPwqA0kTp2EYCFy3vFbK0CHhnLtSoA+ hGcLjJOyWriO3CB6FxtP5eoFxW6HeEfrVYvmI= X-Google-DKIM-Signature: v=1; a=rsa-sha256; c=relaxed/relaxed; d=1e100.net; s=20230601; t=1758742192; x=1759346992; h=references:in-reply-to:cc:to:from:subject:message-id:date :x-gm-message-state:from:to:cc:subject:date:message-id:reply-to; bh=0QIyY7+46euytyR6n5mkpbmP3Pc3h6hn/BGZBcxQDL4=; b=JxUUl9GOoFm11dyqzWYwVPbqE/jSzQsg8AT141P/ESjfb/St1pX19XJosNfhAQf+a5 0GxGAOISKTXcXSnsnAnGFb//ONflp+2YjmSUI9p2uLYi9PN9uqPCxUBo1l6+TQnkDXHi eJBVq/KwgL8F/nm2flfh46GvnyXef3396ycVxH+LTKDVxxBJnCtM4zMtIPADi2MoBaqf QYmIhbBOdWdch6eeGULhSobYJ5lLZzyh27j2Ffzy9C5LM3Xzk5nMt/RGOZJ3RCTAjYsB WUrJhhDKKCpnl0MmHpweqoXeeVMldDF5rsJP3hvrnDNr7PbOo/ntfS+cwEhA5teyl7rJ NiNQ== X-Gm-Message-State: AOJu0YxF+bNUce4ajDsFLEgM8LZDiLCLSy11zDpayEF/hNA3DBn2y47g T4XqtN2KVDD3bFgd5T3ZqoWZy/rJCK7O4gyson3cMsn9p0y6EgNhlFwHHsgDwKInqyQUmeuHX2J SrXBogBE3dITv4wWY416/UH7ztezWjkwnZzSq2ZCYVyCp/NRFRCjjWJskWyiB X-Gm-Gg: ASbGncvJDNVYPUrgsS4jDt/pNYyTUbvF4+Ml6EimVvWka6EEAiB4+2mTzFQSMInYfMr lNfrJ+fBNgFN/88jmNV9hIOp0xCYtJnpi53VR1vjTENyIeQR9vYhZ0yh0Bs1wWnxdyINpc5STDc 1MVrBMtre6H4qPq/GTOPK7pP4y2vbEqJbDMPoO7C9e9WyOY2YC4Yy6MymCM2hk5YfHjM1lMx/OV 6uUFCl/VEezgWPiIaUb36bTPpc61GyZaspb4eopCWVYy6DkMCujVG614HCDSQra+Ztu2lx/bvEt 6SxlpTel79RFsrnfcX0V/5KOB/WvWAGBiP8zXEgYHqhgfW7WGA== X-Google-Smtp-Source: AGHT+IF9nsvpD98sGDqtqJ18ijEZcGHcGBA2YHrBSeGBVWhbuxQOxmXcvEp5iKsTas/WMMNSdY7u3Tw/k/Io X-Received: by 2002:a17:902:e741:b0:267:99bf:6724 with SMTP id d9443c01a7336-27ed4a75bf4mr7880115ad.31.1758742192223; Wed, 24 Sep 2025 12:29:52 -0700 (PDT) Received: from postal.iol.unh.edu (postal.iol.unh.edu. [2606:4100:3880:1234::84]) by smtp-relay.gmail.com with ESMTPS id d9443c01a7336-27ed680bf7dsm21555ad.49.2025.09.24.12.29.52 (version=TLS1_2 cipher=ECDHE-ECDSA-AES128-GCM-SHA256 bits=128/128); Wed, 24 Sep 2025 12:29:52 -0700 (PDT) X-Relaying-Domain: iol.unh.edu Date: Wed, 24 Sep 2025 12:29:52 -0700 (PDT) Message-ID: <68d446b0.170a0220.3316aa.01fdSMTPIN_ADDED_MISSING@mx.google.com> Received: from [172.21.0.2] (unknown [172.18.0.240]) by postal.iol.unh.edu (Postfix) with ESMTP id ADB6B6051830; Wed, 24 Sep 2025 15:29:51 -0400 (EDT) Subject: |SUCCESS| pw156904-156906 [PATCH] [3/3] app/compress-perf: support f From: dpdklab@iol.unh.edu To: Test Report Cc: dpdk-test-reports@iol.unh.edu, Akhil Goyal In-Reply-To: <20250924161918.2211290-3-svaze@qti.qualcomm.com> References: <20250924161918.2211290-3-svaze@qti.qualcomm.com> Content-Type: text/plain X-BeenThere: test-report@dpdk.org X-Mailman-Version: 2.1.29 Precedence: list List-Id: automatic DPDK test reports List-Unsubscribe: , List-Archive: List-Post: List-Help: List-Subscribe: , Errors-To: test-report-bounces@dpdk.org Test-Label: iol-unit-amd64-testing Test-Status: SUCCESS http://dpdk.org/patch/156906 _Testing PASS_ Submitter: Sameer Vaze Date: Wednesday, September 24 2025 16:19:18 DPDK git baseline: Repo:dpdk-next-crypto Branch: master CommitID:4159ea62922ce41566c7bab44655ad78bee85458 156904-156906 --> testing pass Upstream job id: Generic-Unit-Test-DPDK#374593 Test environment and result as below: +-------------------------------+----------------+ | Environment | dpdk_unit_test | +===============================+================+ | CentOS Stream 9 | PASS | +-------------------------------+----------------+ | Fedora Linux 40 | PASS | +-------------------------------+----------------+ | Debian GNU/Linux 12 | PASS | +-------------------------------+----------------+ | Fedora Linux 41 | PASS | +-------------------------------+----------------+ | CentOS Stream 10 | PASS | +-------------------------------+----------------+ | Fedora Linux 42 | PASS | +-------------------------------+----------------+ | Red Hat Enterprise Linux 9.5 | PASS | +-------------------------------+----------------+ | Red Hat Enterprise Linux 8.10 | PASS | +-------------------------------+----------------+ | Ubuntu 22.04 | PASS | +-------------------------------+----------------+ | Ubuntu 20.04 | PASS | +-------------------------------+----------------+ | Ubuntu 24.04 | PASS | +-------------------------------+----------------+ | Windows Server 2022 | PASS | +-------------------------------+----------------+ CentOS Stream 9 Kernel: 5.15 Compiler: gcc gcc (GCC) 11.5.0 20240719 (Red Hat 11.5.0-11) Fedora Linux 40 Kernel: 5.15 Compiler: gcc gcc (GCC) 14.2.1 20240912 (Red Hat 14.2.1-3) Debian GNU/Linux 12 Kernel: 5.15 Compiler: gcc gcc (Debian 12.2.0-14+deb12u1) 12.2.0 Fedora Linux 41 Kernel: 5.15 Compiler: gcc gcc (GCC) 14.3.1 20250523 (Red Hat 14.3.1-1) CentOS Stream 10 Kernel: 5.15 Compiler: gcc gcc (GCC) 14.2.1 20250110 (Red Hat 14.2.1-8) Fedora Linux 42 Kernel: 5.15 Compiler: gcc gcc (GCC) 15.2.1 20250808 (Red Hat 15.2.1-1) Red Hat Enterprise Linux 9.5 Kernel: 5.15 Compiler: gcc gcc (GCC) 11.5.0 20240719 (Red Hat 11.5.0-2) Red Hat Enterprise Linux 8.10 Kernel: 5.15 Compiler: gcc gcc (GCC) 8.5.0 20210514 (Red Hat 8.5.0-22) Ubuntu 22.04 Kernel: 5.15 Compiler: gcc gcc (Ubuntu 11.4.0-1ubuntu1~22.04) 11.4.0 Ubuntu 20.04 Kernel: 5.15 Compiler: gcc gcc (Ubuntu 9.4.0-1ubuntu1~20.04.2) 9.4.0 Ubuntu 24.04 Kernel: 5.15 Compiler: gcc gcc (Ubuntu 13.3.0-6ubuntu2~24.04) 13.3.0 Windows Server 2022 Kernel: 10.0.20348.2031 Compiler: clang 15.0.7, gcc 14.1.0 (MinGW), and MSVC VS 19.39.33521 To view detailed results, visit: https://lab.dpdk.org/results/dashboard/patchsets/34139/ UNH-IOL DPDK Community Lab To manage your email subscriptions, visit: https://lab.dpdk.org/results/dashboard/preferences/subscriptions/