From mboxrd@z Thu Jan 1 00:00:00 1970 Return-Path: Received: from mails.dpdk.org (mails.dpdk.org [217.70.189.124]) by inbox.dpdk.org (Postfix) with ESMTP id 5503746F6A for ; Wed, 24 Sep 2025 22:00:55 +0200 (CEST) Received: from mails.dpdk.org (localhost [127.0.0.1]) by mails.dpdk.org (Postfix) with ESMTP id 506024064A; Wed, 24 Sep 2025 22:00:55 +0200 (CEST) Received: from mail-qt1-f228.google.com (mail-qt1-f228.google.com [209.85.160.228]) by mails.dpdk.org (Postfix) with ESMTP id D36C84064A for ; Wed, 24 Sep 2025 22:00:54 +0200 (CEST) Received: by mail-qt1-f228.google.com with SMTP id d75a77b69052e-4b5ed9d7e20so2361011cf.0 for ; Wed, 24 Sep 2025 13:00:54 -0700 (PDT) DKIM-Signature: v=1; a=rsa-sha256; c=relaxed/relaxed; d=iol.unh.edu; s=unh-iol; t=1758744054; x=1759348854; darn=dpdk.org; h=references:in-reply-to:cc:to:from:subject:message-id:date:from:to :cc:subject:date:message-id:reply-to; bh=dCwcPxKkLYqQM3qWKMO/2Oba3xDjHyPPLXFYNauya7w=; b=KfeljWZgPNCxADdhWWfCSdxQD4UKjvNcs0Z4ab3LTAOidQpLjENlW8owX4+UAWWSpp EWosyFPkkZVEP35yAeJFWFURPlwiLtXZz2WCb4DHG/J5g3xCrtiE/+t57oVGcG+luxuG aceoLyBZcPNgTHDlXDu21qXqe6A1tw1aJunRg= X-Google-DKIM-Signature: v=1; a=rsa-sha256; c=relaxed/relaxed; d=1e100.net; s=20230601; t=1758744054; x=1759348854; h=references:in-reply-to:cc:to:from:subject:message-id:date :x-gm-message-state:from:to:cc:subject:date:message-id:reply-to; bh=dCwcPxKkLYqQM3qWKMO/2Oba3xDjHyPPLXFYNauya7w=; b=mDiafXCoBnh7YlX2swUAIc9zFdCZPjVegSV1a5pNpUncGN6OCKG4VuCi9Ynqz5xUKj eVRQHk/ZZOhGX5Xo208o/k5ud8ZvTMtY9ruLxwS9Dky1RSy7t+nq3mvPVOP+toL0YB3v ZHpdjxTO7ElFVWZrZCYESu290jMfMEOV8jqXN/W7UVx2DSRFUvqnyHnk6wBmOJ4FerCY h9ibNql3ill+POuWWlFTMzFfOeGCgW4t2XkbZRgwrLxLzFLYq1TAw1QQXb9Igd4U6kh3 c7vkCZSh2kUu1yKZh21wpXeim35/suM9VR0FR3cdaQmlsvgZQQblIygQUh9xpVcjcLUD HcxA== X-Gm-Message-State: AOJu0YxNb1IYcYACkAFPHb7Zrf3E+jw1WP17rGzSVCdMzMkG5XRroxlw SYQtpa9rvdQgCFSqDDCqHgiJ8s6B/7d8Uua7HmMcHlydRqgBypb0pyLQLjtu0rplNIITXfWVx/l TiA60pl9Ms4LznH1f/3kL+yNzfTj68fKQJrtTOaUci494fm4sJQuXRUTjJRQR X-Gm-Gg: ASbGnctB5dtgP+EaJbhK3fT5dnLxT00NLiCFmyIO+a6Rc8Pm5qp14Cq2Io1nudg0h6W Lia+MXa+w5oOQwJvb2tABlK3ZyTz8HXylnynQ55SXawHbXv48NPmzfIF4bDUV33ScLGRfoKjH52 IxxSIV3eDoL6RM6VME1luPNkdQ6+VdhYPZLJzcvbvGg/y2UWKE9l7pe2TMumQFlc8hiPOddgKZ8 YJUwGRgQP4WJITMpT4Kf48wXE440J7tOthPrZAcb+zN/CkUpqW3qg+7uFGzDMZL/0v6MfPxQcF7 SOBPYBX9jrdANcCPphGl5DwKRJE/PiVSPOBjv8gr3xufl6ZTHA== X-Google-Smtp-Source: AGHT+IEgWLbh5MNbyHXoNymRLkRSyE5a4hQy3ABCSJGSQBNQtkif2PuHFZCAQyGYx4RwmYq3w+GBGYdsBekc X-Received: by 2002:a05:622a:1786:b0:4ce:4a33:24e6 with SMTP id d75a77b69052e-4da4d21f136mr14141401cf.58.1758744052628; Wed, 24 Sep 2025 13:00:52 -0700 (PDT) Received: from postal.iol.unh.edu (postal.iol.unh.edu. [2606:4100:3880:1234::84]) by smtp-relay.gmail.com with ESMTPS id 6a1803df08f44-801325caa89sm26646d6.2.2025.09.24.13.00.52 (version=TLS1_2 cipher=ECDHE-ECDSA-AES128-GCM-SHA256 bits=128/128); Wed, 24 Sep 2025 13:00:52 -0700 (PDT) X-Relaying-Domain: iol.unh.edu Date: Wed, 24 Sep 2025 13:00:52 -0700 (PDT) Message-ID: <68d44df4.050a0220.15fc9f.0242SMTPIN_ADDED_MISSING@mx.google.com> Received: from [172.21.0.4] (unknown [172.18.0.240]) by postal.iol.unh.edu (Postfix) with ESMTP id 56B8C6051830; Wed, 24 Sep 2025 16:00:52 -0400 (EDT) Subject: |SUCCESS| pw156907-156909 [PATCH] [v4,3/3] dts: update tx_offload te From: dpdklab@iol.unh.edu To: Test Report Cc: dpdk-test-reports@iol.unh.edu In-Reply-To: <20250924164725.168773-4-abailey@iol.unh.edu> References: <20250924164725.168773-4-abailey@iol.unh.edu> Content-Type: text/plain X-BeenThere: test-report@dpdk.org X-Mailman-Version: 2.1.29 Precedence: list List-Id: automatic DPDK test reports List-Unsubscribe: , List-Archive: List-Post: List-Help: List-Subscribe: , Errors-To: test-report-bounces@dpdk.org Test-Label: iol-compile-amd64-testing Test-Status: SUCCESS http://dpdk.org/patch/156909 _Testing PASS_ Submitter: Andrew Bailey Date: Wednesday, September 24 2025 16:47:25 DPDK git baseline: Repo:dpdk Branch: master CommitID:441861b4a30e6b6b6aca07367dd487657b1f50e8 156907-156909 --> testing pass Upstream job id: Generic-DPDK-Compile-Meson#428242 Test environment and result as below: +-------------------------------+--------------------+-------------------+-------------------+------------------+-------------------------+----------------------+ | Environment | dpdk_meson_compile | dpdk_msvc_compile | dpdk_compile_spdk | dpdk_compile_ovs | dpdk_llvm_clang_compile | dpdk_mingw64_compile | +===============================+====================+===================+===================+==================+=========================+======================+ | Ubuntu 20.04 | PASS | SKIPPED | SKIPPED | SKIPPED | SKIPPED | SKIPPED | +-------------------------------+--------------------+-------------------+-------------------+------------------+-------------------------+----------------------+ | FreeBSD 14.2 | PASS | SKIPPED | SKIPPED | SKIPPED | SKIPPED | SKIPPED | +-------------------------------+--------------------+-------------------+-------------------+------------------+-------------------------+----------------------+ | CentOS Stream 9 | PASS | SKIPPED | PASS | SKIPPED | SKIPPED | SKIPPED | +-------------------------------+--------------------+-------------------+-------------------+------------------+-------------------------+----------------------+ | Debian GNU/Linux 12 | PASS | SKIPPED | PASS | SKIPPED | SKIPPED | SKIPPED | +-------------------------------+--------------------+-------------------+-------------------+------------------+-------------------------+----------------------+ | CentOS Stream 10 | PASS | SKIPPED | SKIPPED | SKIPPED | SKIPPED | SKIPPED | +-------------------------------+--------------------+-------------------+-------------------+------------------+-------------------------+----------------------+ | Fedora Linux 42 | PASS | SKIPPED | PASS | PASS | SKIPPED | SKIPPED | +-------------------------------+--------------------+-------------------+-------------------+------------------+-------------------------+----------------------+ | openSUSE Leap 15.6 | PASS | SKIPPED | SKIPPED | SKIPPED | SKIPPED | SKIPPED | +-------------------------------+--------------------+-------------------+-------------------+------------------+-------------------------+----------------------+ | Red Hat Enterprise Linux 8.10 | PASS | SKIPPED | SKIPPED | SKIPPED | SKIPPED | SKIPPED | +-------------------------------+--------------------+-------------------+-------------------+------------------+-------------------------+----------------------+ | Red Hat Enterprise Linux 9.5 | PASS | SKIPPED | SKIPPED | SKIPPED | SKIPPED | SKIPPED | +-------------------------------+--------------------+-------------------+-------------------+------------------+-------------------------+----------------------+ | Ubuntu 22.04 | PASS | SKIPPED | PASS | SKIPPED | SKIPPED | SKIPPED | +-------------------------------+--------------------+-------------------+-------------------+------------------+-------------------------+----------------------+ | Ubuntu 24.04 | PASS | SKIPPED | PASS | PASS | SKIPPED | SKIPPED | +-------------------------------+--------------------+-------------------+-------------------+------------------+-------------------------+----------------------+ | Alpine Linux 3.22.0 | PASS | SKIPPED | SKIPPED | SKIPPED | SKIPPED | SKIPPED | +-------------------------------+--------------------+-------------------+-------------------+------------------+-------------------------+----------------------+ | Windows Server 2022 | SKIPPED | PASS | SKIPPED | SKIPPED | PASS | PASS | +-------------------------------+--------------------+-------------------+-------------------+------------------+-------------------------+----------------------+ Ubuntu 20.04 Kernel: 4.19 Compiler: gcc gcc (Ubuntu 9.4.0-1ubuntu1~20.04.2) 9.4.0 FreeBSD 14.2 Kernel: 14.2-RELEASE Compiler: clang 18.1.6 CentOS Stream 9 Kernel: 5.15 Compiler: gcc gcc (GCC) 11.5.0 20240719 (Red Hat 11.5.0-11) Debian GNU/Linux 12 Kernel: 5.15 Compiler: gcc gcc (Debian 12.2.0-14+deb12u1) 12.2.0 CentOS Stream 10 Kernel: 5.15 Compiler: gcc gcc (GCC) 14.2.1 20250110 (Red Hat 14.2.1-8) Fedora Linux 42 Kernel: 5.15 Compiler: gcc gcc (GCC) 15.2.1 20250808 (Red Hat 15.2.1-1) openSUSE Leap 15.6 Kernel: 5.15 Compiler: gcc gcc (SUSE Linux) 7.5.0 Red Hat Enterprise Linux 8.10 Kernel: 5.15 Compiler: gcc gcc (GCC) 8.5.0 20210514 (Red Hat 8.5.0-22) Red Hat Enterprise Linux 9.5 Kernel: 5.15 Compiler: gcc gcc (GCC) 11.5.0 20240719 (Red Hat 11.5.0-2) Ubuntu 22.04 Kernel: 5.15 Compiler: gcc gcc (Ubuntu 11.4.0-1ubuntu1~22.04) 11.4.0 Ubuntu 24.04 Kernel: 5.15 Compiler: gcc gcc (Ubuntu 13.3.0-6ubuntu2~24.04) 13.3.0 Alpine Linux 3.22.0 Kernel: 5.15 Compiler: gcc gcc (Alpine 14.2.0) 14.2.0 Windows Server 2022 Kernel: 10.0.20348.2031 Compiler: clang 15.0.7, gcc 14.1.0 (MinGW), and MSVC VS 19.39.33521 To view detailed results, visit: https://lab.dpdk.org/results/dashboard/patchsets/34140/ UNH-IOL DPDK Community Lab To manage your email subscriptions, visit: https://lab.dpdk.org/results/dashboard/preferences/subscriptions/