From mboxrd@z Thu Jan 1 00:00:00 1970 Return-Path: Received: from mails.dpdk.org (mails.dpdk.org [217.70.189.124]) by inbox.dpdk.org (Postfix) with ESMTP id 38B1D46F6A for ; Wed, 24 Sep 2025 22:09:39 +0200 (CEST) Received: from mails.dpdk.org (localhost [127.0.0.1]) by mails.dpdk.org (Postfix) with ESMTP id 13DE14064A; Wed, 24 Sep 2025 22:09:39 +0200 (CEST) Received: from mail-io1-f98.google.com (mail-io1-f98.google.com [209.85.166.98]) by mails.dpdk.org (Postfix) with ESMTP id AEB0E4064A for ; Wed, 24 Sep 2025 22:09:37 +0200 (CEST) Received: by mail-io1-f98.google.com with SMTP id ca18e2360f4ac-88776dcac7aso13846939f.1 for ; Wed, 24 Sep 2025 13:09:37 -0700 (PDT) DKIM-Signature: v=1; a=rsa-sha256; c=relaxed/relaxed; d=iol.unh.edu; s=unh-iol; t=1758744577; x=1759349377; darn=dpdk.org; h=references:in-reply-to:cc:to:from:subject:message-id:date:from:to :cc:subject:date:message-id:reply-to; bh=idLfFsOUQsIIsdPtod93TF/mEdEzoTvWVeqFb4O2KR4=; b=frLMj40kYqHviha2lNGb/xMLBWVT0UY+BAuSaD5advefKpqfhCNarJv6QABw0j6rfC eVm9Wrb5cuNS7hx1MARYRI4aq/WRvb8W1E6g9DS3d1c3wkWm4fU43NPzZyvHmuaavR76 2eCIcgNA8cVXYjOIPmw2R68oewbxs3OeY5cd4= X-Google-DKIM-Signature: v=1; a=rsa-sha256; c=relaxed/relaxed; d=1e100.net; s=20230601; t=1758744577; x=1759349377; h=references:in-reply-to:cc:to:from:subject:message-id:date :x-gm-message-state:from:to:cc:subject:date:message-id:reply-to; bh=idLfFsOUQsIIsdPtod93TF/mEdEzoTvWVeqFb4O2KR4=; b=h+BCswqJK2FhwNFJ0lxrPNC/LTiWdDzZt/K83zZ0vS03aoNh0+0WQu7U+AVLQxdOs/ XNXXgLlPoyFk8uyGGbfaOprWT+iWzD1IuVox2jZuIU3yVKULNgFoVljEjNlgPk3vRKxS ZKL4+KmPZcuigi+yHS6RnzIfBwS20+Zm8y+ZL+tDpwrQD4ry3SWwyQNtfTY/TENwnS1C zChDMkUwMMbkmMsEoka2QVYTJpr17iCNYQvzVBLKsYx6QeP2qbhWyQlZo9MKqld8dhmr 3P+2EruqfVITOKuSWDYKMJSmifSTYBjZisohGk674WduVFOJa4k9j4EDOoH/lVlttKIn eLDQ== X-Gm-Message-State: AOJu0Yz57dfqAow4Zjel8DX/GxVcb6+KDUip841tI3FuCWMj8ubCqV8A SZwz/LcUxhQHhyGaXjClXeGQFiucQaFfi+WSXbds0Ft12dryWR23OzWAovMBOeSIVdOq2UI3yG4 02P8SS22mYoz6QJCelRZ5AvyKAWStuXxuDak6l+8A3Eaw X-Gm-Gg: ASbGnctuhSljzM+VnMAp3kbLc8CjfbX/CH2dnAm526lLXFpzV6yB9Z3Yym5Hswrarnv 82J3nHpIVCzKTfXSw3+mHatB69tCMCcIl4E2/drWdfYeVBSNnKV6k8BsFcLTI0z4H4rU8SYnF9n zcCzvlxiXrxtwaB+SEeXcUrhpjskdvvsp4894BQmJ2+z8tUi8C/MbE7qHfap0ae2GRihJkoM0vd BcDuSKxU/R2JvEJLnTDKhzsc6L/EzSrkU2aRsGA86KMcOF6QWqqLm/y/OtIAHCxTrcJ2LsJtcuP EtvTBEohsJIOLC9eHXdXShDGUam01Lnb+qhFKoVm8VtHs2RyQYopXfQUEJTYldqw1AOW4Xm5 X-Google-Smtp-Source: AGHT+IHGXSiY7Lu/oT9RjvSNWMHueiij2pKLFX5b0cpmb7fWGGZis/oVy+eprNKDX+Jic2662UqLsdtOq9pu X-Received: by 2002:a05:6e02:1f8a:b0:425:73c6:9042 with SMTP id e9e14a558f8ab-4259563c3c5mr13833205ab.24.1758744576855; Wed, 24 Sep 2025 13:09:36 -0700 (PDT) Received: from postal.iol.unh.edu (postal.iol.unh.edu. [132.177.123.84]) by smtp-relay.gmail.com with ESMTPS id 8926c6da1cb9f-56a64211c5csm9197173.3.2025.09.24.13.09.36 (version=TLS1_2 cipher=ECDHE-ECDSA-AES128-GCM-SHA256 bits=128/128); Wed, 24 Sep 2025 13:09:36 -0700 (PDT) X-Relaying-Domain: iol.unh.edu Date: Wed, 24 Sep 2025 13:09:36 -0700 (PDT) Message-ID: <68d45000.050a0220.206d22.0902SMTPIN_ADDED_MISSING@mx.google.com> Received: from [172.21.0.4] (unknown [172.18.0.240]) by postal.iol.unh.edu (Postfix) with ESMTP id 62A7D6051830; Wed, 24 Sep 2025 16:09:36 -0400 (EDT) Subject: |SUCCESS| pw156910-156915 [PATCH] [RFC,6/6] intel/iavf: remove use o From: dpdklab@iol.unh.edu To: Test Report Cc: dpdk-test-reports@iol.unh.edu In-Reply-To: <20250924165527.268645-7-stephen@networkplumber.org> References: <20250924165527.268645-7-stephen@networkplumber.org> Content-Type: text/plain X-BeenThere: test-report@dpdk.org X-Mailman-Version: 2.1.29 Precedence: list List-Id: automatic DPDK test reports List-Unsubscribe: , List-Archive: List-Post: List-Help: List-Subscribe: , Errors-To: test-report-bounces@dpdk.org Test-Label: iol-compile-amd64-testing Test-Status: SUCCESS http://dpdk.org/patch/156915 _Testing PASS_ Submitter: Stephen Hemminger Date: Wednesday, September 24 2025 16:51:13 DPDK git baseline: Repo:dpdk Branch: master CommitID:441861b4a30e6b6b6aca07367dd487657b1f50e8 156910-156915 --> testing pass Upstream job id: Generic-DPDK-Compile-Meson#428259 Test environment and result as below: +-------------------------------+--------------------+-------------------+------------------+-------------------+-------------------------+----------------------+ | Environment | dpdk_meson_compile | dpdk_compile_spdk | dpdk_compile_ovs | dpdk_msvc_compile | dpdk_llvm_clang_compile | dpdk_mingw64_compile | +===============================+====================+===================+==================+===================+=========================+======================+ | Ubuntu 20.04 | PASS | SKIPPED | SKIPPED | SKIPPED | SKIPPED | SKIPPED | +-------------------------------+--------------------+-------------------+------------------+-------------------+-------------------------+----------------------+ | FreeBSD 14.2 | PASS | SKIPPED | SKIPPED | SKIPPED | SKIPPED | SKIPPED | +-------------------------------+--------------------+-------------------+------------------+-------------------+-------------------------+----------------------+ | CentOS Stream 9 | PASS | PASS | SKIPPED | SKIPPED | SKIPPED | SKIPPED | +-------------------------------+--------------------+-------------------+------------------+-------------------+-------------------------+----------------------+ | CentOS Stream 10 | PASS | SKIPPED | SKIPPED | SKIPPED | SKIPPED | SKIPPED | +-------------------------------+--------------------+-------------------+------------------+-------------------+-------------------------+----------------------+ | Debian GNU/Linux 12 | PASS | PASS | SKIPPED | SKIPPED | SKIPPED | SKIPPED | +-------------------------------+--------------------+-------------------+------------------+-------------------+-------------------------+----------------------+ | Fedora Linux 42 | PASS | PASS | PASS | SKIPPED | SKIPPED | SKIPPED | +-------------------------------+--------------------+-------------------+------------------+-------------------+-------------------------+----------------------+ | openSUSE Leap 15.6 | PASS | SKIPPED | SKIPPED | SKIPPED | SKIPPED | SKIPPED | +-------------------------------+--------------------+-------------------+------------------+-------------------+-------------------------+----------------------+ | Red Hat Enterprise Linux 8.10 | PASS | SKIPPED | SKIPPED | SKIPPED | SKIPPED | SKIPPED | +-------------------------------+--------------------+-------------------+------------------+-------------------+-------------------------+----------------------+ | Red Hat Enterprise Linux 9.5 | PASS | SKIPPED | SKIPPED | SKIPPED | SKIPPED | SKIPPED | +-------------------------------+--------------------+-------------------+------------------+-------------------+-------------------------+----------------------+ | Ubuntu 22.04 | PASS | PASS | SKIPPED | SKIPPED | SKIPPED | SKIPPED | +-------------------------------+--------------------+-------------------+------------------+-------------------+-------------------------+----------------------+ | Ubuntu 24.04 | PASS | PASS | PASS | SKIPPED | SKIPPED | SKIPPED | +-------------------------------+--------------------+-------------------+------------------+-------------------+-------------------------+----------------------+ | Alpine Linux 3.22.0 | PASS | SKIPPED | SKIPPED | SKIPPED | SKIPPED | SKIPPED | +-------------------------------+--------------------+-------------------+------------------+-------------------+-------------------------+----------------------+ | Windows Server 2022 | SKIPPED | SKIPPED | SKIPPED | PASS | PASS | PASS | +-------------------------------+--------------------+-------------------+------------------+-------------------+-------------------------+----------------------+ Ubuntu 20.04 Kernel: 4.19 Compiler: gcc gcc (Ubuntu 9.4.0-1ubuntu1~20.04.2) 9.4.0 FreeBSD 14.2 Kernel: 14.2-RELEASE Compiler: clang 18.1.6 CentOS Stream 9 Kernel: 5.15 Compiler: gcc gcc (GCC) 11.5.0 20240719 (Red Hat 11.5.0-11) CentOS Stream 10 Kernel: 5.15 Compiler: gcc gcc (GCC) 14.2.1 20250110 (Red Hat 14.2.1-8) Debian GNU/Linux 12 Kernel: 5.15 Compiler: gcc gcc (Debian 12.2.0-14+deb12u1) 12.2.0 Fedora Linux 42 Kernel: 5.15 Compiler: clang gcc (GCC) 15.2.1 20250808 (Red Hat 15.2.1-1) openSUSE Leap 15.6 Kernel: 5.15 Compiler: gcc gcc (SUSE Linux) 7.5.0 Red Hat Enterprise Linux 8.10 Kernel: 5.15 Compiler: gcc gcc (GCC) 8.5.0 20210514 (Red Hat 8.5.0-22) Red Hat Enterprise Linux 9.5 Kernel: 5.15 Compiler: gcc gcc (GCC) 11.5.0 20240719 (Red Hat 11.5.0-2) Ubuntu 22.04 Kernel: 5.15 Compiler: gcc gcc (Ubuntu 11.4.0-1ubuntu1~22.04) 11.4.0 Ubuntu 24.04 Kernel: 5.15 Compiler: gcc gcc (Ubuntu 13.3.0-6ubuntu2~24.04) 13.3.0 Alpine Linux 3.22.0 Kernel: 5.15 Compiler: gcc gcc (Alpine 14.2.0) 14.2.0 Windows Server 2022 Kernel: 10.0.20348.2031 Compiler: clang 15.0.7, gcc 14.1.0 (MinGW), and MSVC VS 19.39.33521 To view detailed results, visit: https://lab.dpdk.org/results/dashboard/patchsets/34141/ UNH-IOL DPDK Community Lab To manage your email subscriptions, visit: https://lab.dpdk.org/results/dashboard/preferences/subscriptions/