From mboxrd@z Thu Jan 1 00:00:00 1970 Return-Path: Received: from mails.dpdk.org (mails.dpdk.org [217.70.189.124]) by inbox.dpdk.org (Postfix) with ESMTP id E212846F6A for ; Wed, 24 Sep 2025 22:17:41 +0200 (CEST) Received: from mails.dpdk.org (localhost [127.0.0.1]) by mails.dpdk.org (Postfix) with ESMTP id BB0B64064A; Wed, 24 Sep 2025 22:17:41 +0200 (CEST) Received: from mail-oo1-f99.google.com (mail-oo1-f99.google.com [209.85.161.99]) by mails.dpdk.org (Postfix) with ESMTP id 831E34064A for ; Wed, 24 Sep 2025 22:17:40 +0200 (CEST) Received: by mail-oo1-f99.google.com with SMTP id 006d021491bc7-630cb17c309so105492eaf.3 for ; Wed, 24 Sep 2025 13:17:40 -0700 (PDT) DKIM-Signature: v=1; a=rsa-sha256; c=relaxed/relaxed; d=iol.unh.edu; s=unh-iol; t=1758745060; x=1759349860; darn=dpdk.org; h=references:in-reply-to:cc:to:from:subject:message-id:date:from:to :cc:subject:date:message-id:reply-to; bh=eK7QNWRmWRSVqLOUATwS/wkdFalZaVQ3/gYhhoO9mYg=; b=h7sVH5aGtEXwMLrOvTE1S8B/f6s3nUSR/TILuB4b7uhVpXto4d3190m4Bikpd8PEZG 2e9+X9dYRbgjZIPP8SfWTNOebgz8jF3p629COad28YaNHx6bKDJuG41bl/ehenkw0YkG +cHckoiqcBYde+VRMro8wwdq3FcYadHCy6/Qc= X-Google-DKIM-Signature: v=1; a=rsa-sha256; c=relaxed/relaxed; d=1e100.net; s=20230601; t=1758745060; x=1759349860; h=references:in-reply-to:cc:to:from:subject:message-id:date :x-gm-message-state:from:to:cc:subject:date:message-id:reply-to; bh=eK7QNWRmWRSVqLOUATwS/wkdFalZaVQ3/gYhhoO9mYg=; b=bAj0/vtfQIs0tYZIqA9MFgFjweA7weJ1/sJIVwMQhBpWwz9FIOwtvD96e3Up7Gqm8N EOwLnppMvMGVCxfcMpFp9P+lRK3yhltpzct97VsffpCjHugPDt20E4z9F+QN2igP4vdq UKvzhynF9NZrbUvSvnkkyJqxp3wqpx11wtVZiQU+uyykueeqR1ixueAW9EnoBnugnSOf QsYxVf/he2KPb1Jke0WjFqzdH1hzczq+yHuaDXyEdyAocLqGAtTiBuvQuMBzoPPhAp7s FSePuNBFVx3uS6HzIvcw18ta4w5mYDXRac/OFapGoxKUvq3o2oITc6D6951AAIhRLDAX D9aw== X-Gm-Message-State: AOJu0Yw9N+y7jtEulKxdz1MPTaIX3xJvb+H/7X6VnDh2hu1+T7O1605B o55QLB5uPnP29pSb8Na//5M0MQYveeGzRUZz4cV+U8yWpmVFEMNyCEi8xoCzboWQAABpml+DMHU QO0dDwbqva9lnbgQRG5CGCY4DhpXep8RtMlva5b/cd2IrOF1Sbn0ntdCQ4fwH X-Gm-Gg: ASbGncsbgdEgXRABfxvjpc3BCHIpLb70c1TdewcoZkTq3wXpqP75+qlvAPieP3+JZm/ PNCaWSY7A96lwUW11YQtStNi2Uva9e/1D06EeICUJ8hQBXQhRprRiraXSpYcot4D5K675u5LZSx kEcpvG4tiaBK+JfSx+gxcdphqkZJ4m3TzySh40Ms/enLrfmCfTuWEx6hZdOVrh5V/6wkmMTwFi/ VOCZ5SNhOqPu6MUyuRAiVXZpycG0Z5K22P4jUXJTtTpp8AhWtEcnNm5dZ1MR8ytXX62dFGzeOYR l40KoQnDtPXu5BngRXW2TnbIIN17nThIQvJaCTw0YsCFBjbrnw== X-Google-Smtp-Source: AGHT+IGpKMz/w5LEOsqYozNlxUfI70O1AEuyRSA43ckZnBPRObNw/LIuZy1W53xdr0U8LKBavvalZ6NRMyWZ X-Received: by 2002:a05:6820:627:b0:621:cb1d:dfa7 with SMTP id 006d021491bc7-63a39e6cecdmr525993eaf.6.1758745059714; Wed, 24 Sep 2025 13:17:39 -0700 (PDT) Received: from postal.iol.unh.edu (postal.iol.unh.edu. [2606:4100:3880:1234::84]) by smtp-relay.gmail.com with ESMTPS id 006d021491bc7-625db2f69b4sm592257eaf.12.2025.09.24.13.17.39 (version=TLS1_2 cipher=ECDHE-ECDSA-AES128-GCM-SHA256 bits=128/128); Wed, 24 Sep 2025 13:17:39 -0700 (PDT) X-Relaying-Domain: iol.unh.edu Date: Wed, 24 Sep 2025 13:17:39 -0700 (PDT) Message-ID: <68d451e3.050a0220.49416.7478SMTPIN_ADDED_MISSING@mx.google.com> Received: from [172.21.0.2] (unknown [172.18.0.240]) by postal.iol.unh.edu (Postfix) with ESMTP id 374806051830; Wed, 24 Sep 2025 16:17:39 -0400 (EDT) Subject: |SUCCESS| pw156907-156909 [PATCH] [v4,3/3] dts: update tx_offload te From: dpdklab@iol.unh.edu To: Test Report Cc: dpdk-test-reports@iol.unh.edu In-Reply-To: <20250924164725.168773-4-abailey@iol.unh.edu> References: <20250924164725.168773-4-abailey@iol.unh.edu> Content-Type: text/plain X-BeenThere: test-report@dpdk.org X-Mailman-Version: 2.1.29 Precedence: list List-Id: automatic DPDK test reports List-Unsubscribe: , List-Archive: List-Post: List-Help: List-Subscribe: , Errors-To: test-report-bounces@dpdk.org Test-Label: iol-unit-amd64-testing Test-Status: SUCCESS http://dpdk.org/patch/156909 _Testing PASS_ Submitter: Andrew Bailey Date: Wednesday, September 24 2025 16:47:25 DPDK git baseline: Repo:dpdk Branch: master CommitID:441861b4a30e6b6b6aca07367dd487657b1f50e8 156907-156909 --> testing pass Upstream job id: Generic-Unit-Test-DPDK#374615 Test environment and result as below: +-------------------------------+----------------+ | Environment | dpdk_unit_test | +===============================+================+ | CentOS Stream 9 | PASS | +-------------------------------+----------------+ | CentOS Stream 10 | PASS | +-------------------------------+----------------+ | Fedora Linux 40 | PASS | +-------------------------------+----------------+ | Fedora Linux 42 | PASS | +-------------------------------+----------------+ | Red Hat Enterprise Linux 8.10 | PASS | +-------------------------------+----------------+ | Debian GNU/Linux 12 | PASS | +-------------------------------+----------------+ | Fedora Linux 41 | PASS | +-------------------------------+----------------+ | Ubuntu 20.04 | PASS | +-------------------------------+----------------+ | Red Hat Enterprise Linux 9.5 | PASS | +-------------------------------+----------------+ | Ubuntu 24.04 | PASS | +-------------------------------+----------------+ | Ubuntu 22.04 | PASS | +-------------------------------+----------------+ | Windows Server 2022 | PASS | +-------------------------------+----------------+ CentOS Stream 9 Kernel: 5.15 Compiler: gcc gcc (GCC) 11.5.0 20240719 (Red Hat 11.5.0-11) CentOS Stream 10 Kernel: 5.15 Compiler: gcc gcc (GCC) 14.2.1 20250110 (Red Hat 14.2.1-8) Fedora Linux 40 Kernel: 5.15 Compiler: gcc gcc (GCC) 14.2.1 20240912 (Red Hat 14.2.1-3) Fedora Linux 42 Kernel: 5.15 Compiler: clang gcc (GCC) 15.2.1 20250808 (Red Hat 15.2.1-1) Red Hat Enterprise Linux 8.10 Kernel: 5.15 Compiler: gcc gcc (GCC) 8.5.0 20210514 (Red Hat 8.5.0-22) Debian GNU/Linux 12 Kernel: 5.15 Compiler: gcc gcc (Debian 12.2.0-14+deb12u1) 12.2.0 Fedora Linux 41 Kernel: 5.15 Compiler: gcc gcc (GCC) 14.3.1 20250523 (Red Hat 14.3.1-1) Ubuntu 20.04 Kernel: 5.15 Compiler: gcc gcc (Ubuntu 9.4.0-1ubuntu1~20.04.2) 9.4.0 Red Hat Enterprise Linux 9.5 Kernel: 5.15 Compiler: gcc gcc (GCC) 11.5.0 20240719 (Red Hat 11.5.0-2) Ubuntu 24.04 Kernel: 5.15 Compiler: gcc gcc (Ubuntu 13.3.0-6ubuntu2~24.04) 13.3.0 Ubuntu 22.04 Kernel: 5.15 Compiler: gcc gcc (Ubuntu 11.4.0-1ubuntu1~22.04) 11.4.0 Windows Server 2022 Kernel: 10.0.20348.2031 Compiler: clang 15.0.7, gcc 14.1.0 (MinGW), and MSVC VS 19.39.33521 To view detailed results, visit: https://lab.dpdk.org/results/dashboard/patchsets/34140/ UNH-IOL DPDK Community Lab To manage your email subscriptions, visit: https://lab.dpdk.org/results/dashboard/preferences/subscriptions/