From mboxrd@z Thu Jan 1 00:00:00 1970 Return-Path: Received: from mails.dpdk.org (mails.dpdk.org [217.70.189.124]) by inbox.dpdk.org (Postfix) with ESMTP id 2532346F6A for ; Wed, 24 Sep 2025 22:38:36 +0200 (CEST) Received: from mails.dpdk.org (localhost [127.0.0.1]) by mails.dpdk.org (Postfix) with ESMTP id 1D19E40658; Wed, 24 Sep 2025 22:38:36 +0200 (CEST) Received: from mail-pg1-f226.google.com (mail-pg1-f226.google.com [209.85.215.226]) by mails.dpdk.org (Postfix) with ESMTP id D7AE440658 for ; Wed, 24 Sep 2025 22:38:34 +0200 (CEST) Received: by mail-pg1-f226.google.com with SMTP id 41be03b00d2f7-b5515eaefceso209703a12.2 for ; Wed, 24 Sep 2025 13:38:34 -0700 (PDT) DKIM-Signature: v=1; a=rsa-sha256; c=relaxed/relaxed; d=iol.unh.edu; s=unh-iol; t=1758746314; x=1759351114; darn=dpdk.org; h=references:in-reply-to:cc:to:from:subject:message-id:date:from:to :cc:subject:date:message-id:reply-to; bh=yzi5jDNArWatKE2+8dUJxg2lDJpHab2ex3jVCH4eIwo=; b=A77DQEWGW1GjiJhOFgVQPXUKZ4dgsvnbtIwEFn6qRRrxCaInGAqQPpulvW8yTxAGOK 2sbcnYbjXGQ3gp5aA5W9ms17u1zDROKFNMOSHTjFDyZFwGe5Pni7yx8YDvQqgRETnrSx Vx1tecleuYT2G8Lber3v5OHHhJly5zTV3f5OI= X-Google-DKIM-Signature: v=1; a=rsa-sha256; c=relaxed/relaxed; d=1e100.net; s=20230601; t=1758746314; x=1759351114; h=references:in-reply-to:cc:to:from:subject:message-id:date :x-gm-message-state:from:to:cc:subject:date:message-id:reply-to; bh=yzi5jDNArWatKE2+8dUJxg2lDJpHab2ex3jVCH4eIwo=; b=KH4wysPF1W7egMuyjfQ9uDB8BBv4js1afB/rp80Y25QAlCGQd7/SwbgN8uoaMJ9bgV ykwLcg7x+s8Q+AyQSXdT9p9izfBAIStoxV4sfF2VGJVrW5+l38vt5yU/EyAd4f1gGyTX +t3V5lmOX+ozoICOxb6MjzB8A5jCBCiKcI4X4z7x+yaNYoa+WiUNr1S2xwQ1a8ZZWOYx EFzFXDsZMOt5Z4YVt8xws+cRuh8E2/z526JwcKQELKaTBITK/HabQlIuuOwpiF3gXb9V 1W389yedOKJ7neXA7/JgiT8fMrRldoHpRaVBzQoroGeHsCnYL8R+Ykum89GXfnZo+UYn Pu+Q== X-Gm-Message-State: AOJu0YyOxjYmqNm/fHlk6cLeyd8Cg53yxmzyaW1RKPgjTadX5R/XKf7t XCccUjiF0A8jES67zgjd0kIiE9ARknFITmk3iQlbS3QD2Q+KIQUFo+jxFNVwBYHMJA3jXj8SVU5 4Y3NXB0WA9Y8TMc/Ern/RuyUqsPUa0u/ARJU3845WZJROHdZFEtBlZCoauDXt X-Gm-Gg: ASbGncsGlHGl5YI2b7bvYggvxnC7fpM/GZOfdfXe+APT3NejF7u+1LBBzCMq2CEECSM GbibRbvR6GUcKiBJzSUCUwTbrrhi/rpSvPUxfNFaEVjylt3a8Q1TQvZPuaPIqpMZC7aRRh4KLB/ tVE6Vl7BUYAAz2Owi9yM+BK1r+Gdk9DsLy61npDSAoZYQpDXHI9KoAv05LGQnZrmIlv6PgryP0/ ZusPsqXow2mOafyN/MWwnivKBy9kcW7AO3BZbTtuznQyqkIyX1ofr91KgKT4nlGh3MiX3fMHUPJ x8gib/UKzWj6ST/ycWaX8e0vF6njUAFLQODNI+ZPzrmpfGsYVQ== X-Google-Smtp-Source: AGHT+IEBEjpusadz3YjZ9VvshNThazPUlUR+Urc6jyKlmmxYhrllj2eUh68wEohueqn4/9e9EXAYSGecrVYX X-Received: by 2002:a17:902:e88d:b0:263:b8f:77dd with SMTP id d9443c01a7336-27ed4a5ec57mr11079035ad.57.1758746313805; Wed, 24 Sep 2025 13:38:33 -0700 (PDT) Received: from postal.iol.unh.edu (postal.iol.unh.edu. [2606:4100:3880:1234::84]) by smtp-relay.gmail.com with ESMTPS id d9443c01a7336-27ed66bb713sm171965ad.3.2025.09.24.13.38.33 (version=TLS1_2 cipher=ECDHE-ECDSA-AES128-GCM-SHA256 bits=128/128); Wed, 24 Sep 2025 13:38:33 -0700 (PDT) X-Relaying-Domain: iol.unh.edu Date: Wed, 24 Sep 2025 13:38:33 -0700 (PDT) Message-ID: <68d456c9.170a0220.d6ca6.1045SMTPIN_ADDED_MISSING@mx.google.com> Received: from [172.21.0.2] (unknown [172.18.0.240]) by postal.iol.unh.edu (Postfix) with ESMTP id 0E0F86051830; Wed, 24 Sep 2025 16:38:33 -0400 (EDT) Subject: |SUCCESS| pw156879-156897 [PATCH] [v1,24/24] net/ntnic: rename table From: dpdklab@iol.unh.edu To: Test Report Cc: dpdk-test-reports@iol.unh.edu, Stephen Hemminger In-Reply-To: <20250924144152.53203-25-sil-plv@napatech.com> References: <20250924144152.53203-25-sil-plv@napatech.com> Content-Type: text/plain X-BeenThere: test-report@dpdk.org X-Mailman-Version: 2.1.29 Precedence: list List-Id: automatic DPDK test reports List-Unsubscribe: , List-Archive: List-Post: List-Help: List-Subscribe: , Errors-To: test-report-bounces@dpdk.org Test-Label: iol-unit-arm64-testing Test-Status: SUCCESS http://dpdk.org/patch/156897 _Testing PASS_ Submitter: Serhii Iliushyk Date: Wednesday, September 24 2025 14:41:47 DPDK git baseline: Repo:dpdk-next-net Branch: master CommitID:20ef5263db276361bf25982884e7f5b537a57d9d 156879-156897 --> testing pass Upstream job id: Generic-Unit-Test-DPDK#374506 Test environment and result as below: +------------------------------+----------------+------------------------------+---------------------------+--------------+ | Environment | dpdk_unit_test | cryptodev_sw_snow3g_autotest | cryptodev_sw_zuc_autotest | lpm_autotest | +==============================+================+==============================+===========================+==============+ | CentOS Stream 9 | PASS | SKIPPED | SKIPPED | SKIPPED | +------------------------------+----------------+------------------------------+---------------------------+--------------+ | Fedora Linux 40 | PASS | SKIPPED | SKIPPED | SKIPPED | +------------------------------+----------------+------------------------------+---------------------------+--------------+ | CentOS Stream 10 | PASS | SKIPPED | SKIPPED | SKIPPED | +------------------------------+----------------+------------------------------+---------------------------+--------------+ | Fedora Linux 42 | PASS | SKIPPED | SKIPPED | SKIPPED | +------------------------------+----------------+------------------------------+---------------------------+--------------+ | Debian GNU/Linux 12 | PASS | SKIPPED | SKIPPED | SKIPPED | +------------------------------+----------------+------------------------------+---------------------------+--------------+ | Fedora Linux 41 | PASS | SKIPPED | SKIPPED | SKIPPED | +------------------------------+----------------+------------------------------+---------------------------+--------------+ | Ubuntu 24.04 | PASS | SKIPPED | SKIPPED | SKIPPED | +------------------------------+----------------+------------------------------+---------------------------+--------------+ | Ubuntu 22.04 | PASS | SKIPPED | SKIPPED | SKIPPED | +------------------------------+----------------+------------------------------+---------------------------+--------------+ | Red Hat Enterprise Linux 9.5 | PASS | SKIPPED | SKIPPED | SKIPPED | +------------------------------+----------------+------------------------------+---------------------------+--------------+ | Ubuntu 20.04 | PASS | SKIPPED | SKIPPED | PASS | +------------------------------+----------------+------------------------------+---------------------------+--------------+ | Debian 12 (arm) | SKIPPED | PASS | PASS | SKIPPED | +------------------------------+----------------+------------------------------+---------------------------+--------------+ CentOS Stream 9 Kernel: 5.4 Compiler: gcc gcc (GCC) 11.5.0 20240719 (Red Hat 11.5.0-11) Fedora Linux 40 Kernel: 5.4 Compiler: clang gcc (GCC) 14.2.1 20240912 (Red Hat 14.2.1-3) CentOS Stream 10 Kernel: 5.4 Compiler: gcc gcc (GCC) 14.2.1 20250110 (Red Hat 14.2.1-8) Fedora Linux 42 Kernel: 5.4 Compiler: clang gcc (GCC) 15.2.1 20250808 (Red Hat 15.2.1-1) Debian GNU/Linux 12 Kernel: 5.4 Compiler: gcc gcc (Debian 12.2.0-14+deb12u1) 12.2.0 Fedora Linux 41 Kernel: 5.4 Compiler: gcc gcc (GCC) 14.3.1 20250523 (Red Hat 14.3.1-1) Ubuntu 24.04 Kernel: 5.4 Compiler: gcc gcc (Ubuntu 13.3.0-6ubuntu2~24.04) 13.3.0 Ubuntu 22.04 Kernel: 5.4 Compiler: gcc gcc (Ubuntu 11.4.0-1ubuntu1~22.04) 11.4.0 Red Hat Enterprise Linux 9.5 Kernel: 5.4 Compiler: gcc gcc (GCC) 11.5.0 20240719 (Red Hat 11.5.0-2) Ubuntu 20.04 Kernel: 5.4 Compiler: gcc gcc (Ubuntu 9.4.0-1ubuntu1~20.04.2) 9.4.0 Debian 12 (arm) Kernel: Depends on container host Compiler: gcc (Debian 12.2.0-14) 12.2.0 To view detailed results, visit: https://lab.dpdk.org/results/dashboard/patchsets/34136/ UNH-IOL DPDK Community Lab To manage your email subscriptions, visit: https://lab.dpdk.org/results/dashboard/preferences/subscriptions/