From mboxrd@z Thu Jan 1 00:00:00 1970 Return-Path: Received: from mails.dpdk.org (mails.dpdk.org [217.70.189.124]) by inbox.dpdk.org (Postfix) with ESMTP id D5A7346F6A for ; Wed, 24 Sep 2025 23:36:54 +0200 (CEST) Received: from mails.dpdk.org (localhost [127.0.0.1]) by mails.dpdk.org (Postfix) with ESMTP id B05E54064A; Wed, 24 Sep 2025 23:36:54 +0200 (CEST) Received: from mail-il1-f227.google.com (mail-il1-f227.google.com [209.85.166.227]) by mails.dpdk.org (Postfix) with ESMTP id 0F0A74064A for ; Wed, 24 Sep 2025 23:36:54 +0200 (CEST) Received: by mail-il1-f227.google.com with SMTP id e9e14a558f8ab-425635acc4dso2733155ab.1 for ; Wed, 24 Sep 2025 14:36:53 -0700 (PDT) DKIM-Signature: v=1; a=rsa-sha256; c=relaxed/relaxed; d=iol.unh.edu; s=unh-iol; t=1758749813; x=1759354613; darn=dpdk.org; h=references:in-reply-to:cc:to:from:subject:message-id:date:from:to :cc:subject:date:message-id:reply-to; bh=RxP1rw1LGxHlS0tRhqkXaTs7dZhgYuTjSKw4MF27HCM=; b=WRBmFN2MntVopMgzMvOAt7426D0lRel5ORrUr5p0mRfQVeELxcZFngsDifIQVkmyGD EqOAGgMjWbWOgrFf/sp710lHcuNExR7Cs8fohKCCGsdTogqKBjPbK9rJe5O5uEMNJICY N8mMnMqAa+2COiy69I/DOehBdpTiUKZzy7YaA= X-Google-DKIM-Signature: v=1; a=rsa-sha256; c=relaxed/relaxed; d=1e100.net; s=20230601; t=1758749813; x=1759354613; h=references:in-reply-to:cc:to:from:subject:message-id:date :x-gm-message-state:from:to:cc:subject:date:message-id:reply-to; bh=RxP1rw1LGxHlS0tRhqkXaTs7dZhgYuTjSKw4MF27HCM=; b=aDm8bphcko+ZA/swyMc5v7/EGl9Ay0xAOiuGLZ+BCissahrGGvm4iB0QUOPDFWhOv1 n8L23P7smzmqP+snuso50Zf7+pYij2EAd2ILdZvfVg/5QevQ6YhZvdIKs/aU+6M571ZX 1uEASDlUPpJDh86KGuKXqtRZTMHb8wrDjJFVLQ0KfYe+Ni+C4Mj/TVtH2mjwAGERGku+ DggzdcH+/HvBx2bWPGqMvFxivq8DabXdqBq9aibxuTEfALprkTss1ISEg09SnQ0Rz2Dy /nTC89B/z89kfbI+qVTHB+R+dlRTeEnAgH8Ix5HahIEshVOKb5xEW1scMWMq2PuRw+oJ AE5Q== X-Gm-Message-State: AOJu0YyzyfGib1eYd2+0qIb0PD+NCmKPETdFmIwkS+LlgZxFi77LFEpZ XBjLikHVCKDLEV+prhy/8zTuaL5y1hqkXko5LtJuNG8q9b4fbang8nD14jOpOa28UYHhzMTAjif QUFHzwLJPYEiabVtwEMiHlILhhC05P2/y8QBfGqTXRj8kFt57AtqMkniduBHu X-Gm-Gg: ASbGncuFTvDv7BQRE7dRddfX+NBehFLihsNnQ8RYgh8CT2sU/NKdU/WE7z6Lva04vxD FXn05WvRSp8fSS4rnJZjU6WOKfoV/up8kIRHZIpHw+rTFrajU7swrVOG2ZKSGs2X+lMG015vAg1 N9UAwJnw/Qd0WBSr+odV2HDBA9H9ykQ85FzFWMcEg3CHM3fs77NfG493lBU+BU7Xp/F6l+k0YZ4 94c5kLZsLlbUkWd/gwpw1rZznFKMhMrfySQhqf7/FKPd1QtV7HTUunf79MNhXJ/vWwr3osej4DI KBp9s/ARKuTwMHCexHOJEWil8cegVVUdmGB7nc6sYbBMxZmfEQ== X-Google-Smtp-Source: AGHT+IGqfOaBFeWsWOPf7fLkr9F+3m5HrSxO15pN8usfOphKOWDFRKSCqh+wJeKvItU7SpMSMA6JUy735KsV X-Received: by 2002:a05:6e02:2183:b0:424:14a4:5064 with SMTP id e9e14a558f8ab-42595512c30mr18418255ab.0.1758749813182; Wed, 24 Sep 2025 14:36:53 -0700 (PDT) Received: from postal.iol.unh.edu (postal.iol.unh.edu. [2606:4100:3880:1234::84]) by smtp-relay.gmail.com with ESMTPS id 8926c6da1cb9f-56a6b14e426sm16686173.44.2025.09.24.14.36.53 (version=TLS1_2 cipher=ECDHE-ECDSA-AES128-GCM-SHA256 bits=128/128); Wed, 24 Sep 2025 14:36:53 -0700 (PDT) X-Relaying-Domain: iol.unh.edu Date: Wed, 24 Sep 2025 14:36:53 -0700 (PDT) Message-ID: <68d46475.050a0220.5b573.0f7dSMTPIN_ADDED_MISSING@mx.google.com> Received: from [172.21.0.3] (unknown [172.18.0.240]) by postal.iol.unh.edu (Postfix) with ESMTP id B01076051830; Wed, 24 Sep 2025 17:36:52 -0400 (EDT) Subject: |SUCCESS| pw156903 [PATCH] hash: fix build error due to missing incl From: dpdklab@iol.unh.edu To: Test Report Cc: dpdk-test-reports@iol.unh.edu In-Reply-To: <20250924154821.927083-1-bruce.richardson@intel.com> References: <20250924154821.927083-1-bruce.richardson@intel.com> Content-Type: text/plain X-BeenThere: test-report@dpdk.org X-Mailman-Version: 2.1.29 Precedence: list List-Id: automatic DPDK test reports List-Unsubscribe: , List-Archive: List-Post: List-Help: List-Subscribe: , Errors-To: test-report-bounces@dpdk.org Test-Label: iol-compile-arm64-testing Test-Status: SUCCESS http://dpdk.org/patch/156903 _Testing PASS_ Submitter: Bruce Richardson Date: Wednesday, September 24 2025 15:48:21 DPDK git baseline: Repo:dpdk Branch: master CommitID:d8f0f514428ef3c07c9b75f590d75a6addd970f2 156903 --> testing pass Upstream job id: Generic-DPDK-Compile-Meson#428161 Test environment and result as below: +------------------------------+--------------------+ | Environment | dpdk_meson_compile | +==============================+====================+ | Ubuntu 20.04 | PASS | +------------------------------+--------------------+ | Red Hat Enterprise Linux 9.5 | PASS | +------------------------------+--------------------+ | Fedora Linux 42 | PASS | +------------------------------+--------------------+ | Debian GNU/Linux 12 | PASS | +------------------------------+--------------------+ | Ubuntu 22.04 | PASS | +------------------------------+--------------------+ | Ubuntu 24.04 | PASS | +------------------------------+--------------------+ | CentOS Stream 9 | PASS | +------------------------------+--------------------+ | CentOS Stream 10 | PASS | +------------------------------+--------------------+ Ubuntu 20.04 Kernel: 5.15 Compiler: aarch64-linux-gnu-gcc gcc (Ubuntu 9.4.0-1ubuntu1~20.04.2) 9.4.0 Red Hat Enterprise Linux 9.5 Kernel: 5.4 Compiler: gcc gcc (GCC) 11.5.0 20240719 (Red Hat 11.5.0-2) Fedora Linux 42 Kernel: 5.4 Compiler: gcc gcc (GCC) 15.2.1 20250808 (Red Hat 15.2.1-1) Debian GNU/Linux 12 Kernel: 5.4 Compiler: gcc gcc (Debian 12.2.0-14+deb12u1) 12.2.0 Ubuntu 22.04 Kernel: 5.4 Compiler: gcc gcc (Ubuntu 11.4.0-1ubuntu1~22.04) 11.4.0 Ubuntu 24.04 Kernel: 5.4 Compiler: gcc gcc (Ubuntu 13.3.0-6ubuntu2~24.04) 13.3.0 CentOS Stream 9 Kernel: 5.4 Compiler: gcc gcc (GCC) 11.5.0 20240719 (Red Hat 11.5.0-11) CentOS Stream 10 Kernel: 5.4 Compiler: gcc gcc (GCC) 14.2.1 20250110 (Red Hat 14.2.1-8) To view detailed results, visit: https://lab.dpdk.org/results/dashboard/patchsets/34137/ UNH-IOL DPDK Community Lab To manage your email subscriptions, visit: https://lab.dpdk.org/results/dashboard/preferences/subscriptions/